Workbook
Name a: #REF!
Name Beg_Bal: #REF!
Name Buddata: #REF!
Name Capdata1: #REF!
Name CFWD: #REF!
Name CondoALC: #REF!
Name Contingency: #REF!
Name Cum_Int: #REF!
Name Data: #REF!
Name del: #REF!
Name End_Bal: #REF!
Name Engineering: #REF!
Name Extra_Pay: #REF!
Name fgdsfdgf: #REF!
Name fgdsfdgf: #REF!
Name fgdsfdgf: #REF!
Name fgdsfdgf: #REF!
Name fgdsfdgf: #REF!
Name fgdsfdgf: #REF!
Name Full_Print: #REF!
Name Header_Row: ROW(#REF!)
Name Int: #REF!
Name INTBAL: #REF!
Name Interest_Rate: #REF!
Name INVENTORY96: #REF!
Name INVENTORY97: #REF!
Name INVENTORY98: #REF!
Name JMH_Markups: #REF!
Name LAND4SALE96: #REF!
Name LAND4SALE97: #REF!
Name LANDREDUCE97: #REF!
Name Last_Row: IF('Cost Recovery Timing'!Values_Entered,[0]!Header_Row+'Cost Recovery Timing'!Number_of_Payments,[0]!Header_Row)
Name Last_Row: IF('Project List '!Values_Entered,[0]!Header_Row+'Project List '!Number_of_Payments,[0]!Header_Row)
Name Last_Row: IF('Wat Distribution - OSL'!Values_Entered,[0]!Header_Row+'Wat Distribution - OSL'!Number_of_Payments,[0]!Header_Row)
Name Last_Row: IF('Wat Storage - OSL'!Values_Entered,[0]!Header_Row+'Wat Storage - OSL'!Number_of_Payments,[0]!Header_Row)
Name Last_Row: IF('Wat Supply - OSL'!Values_Entered,[0]!Header_Row+'Wat Supply - OSL'!Number_of_Payments,[0]!Header_Row)
Name Last_Row: IF('W-Distribution'!Values_Entered,[0]!Header_Row+'W-Distribution'!Number_of_Payments,[0]!Header_Row)
Name Last_Row: IF('W-Storage'!Values_Entered,[0]!Header_Row+'W-Storage'!Number_of_Payments,[0]!Header_Row)
Name Last_Row: IF('W-Supply'!Values_Entered,[0]!Header_Row+'W-Supply'!Number_of_Payments,[0]!Header_Row)
Name Last_Row: IF(Values_Entered,Header_Row+Number_of_Payments,Header_Row)
Name Loan_Amount: #REF!
Name Loan_Start: #REF!
Name Loan_Years: #REF!
Name Num_Pmt_Per_Year: #REF!
Name Number_of_Payments: MATCH(0.01,[0]!End_Bal,-1)+1
Name Number_of_Payments: MATCH(0.01,[0]!End_Bal,-1)+1
Name Number_of_Payments: MATCH(0.01,[0]!End_Bal,-1)+1
Name Number_of_Payments: MATCH(0.01,[0]!End_Bal,-1)+1
Name Number_of_Payments: MATCH(0.01,[0]!End_Bal,-1)+1
Name Number_of_Payments: MATCH(0.01,[0]!End_Bal,-1)+1
Name Number_of_Payments: MATCH(0.01,[0]!End_Bal,-1)+1
Name Number_of_Payments: MATCH(0.01,[0]!End_Bal,-1)+1
Name Number_of_Payments: MATCH(0.01,End_Bal,-1)+1
Name Pay_Date: #REF!
Name Pay_Num: #REF!
Name Payment_Date: DATE(YEAR([0]!Loan_Start),MONTH([0]!Loan_Start)+Payment_Number,DAY([0]!Loan_Start))
Name Payment_Date: DATE(YEAR([0]!Loan_Start),MONTH([0]!Loan_Start)+Payment_Number,DAY([0]!Loan_Start))
Name Payment_Date: DATE(YEAR([0]!Loan_Start),MONTH([0]!Loan_Start)+Payment_Number,DAY([0]!Loan_Start))
Name Payment_Date: DATE(YEAR([0]!Loan_Start),MONTH([0]!Loan_Start)+Payment_Number,DAY([0]!Loan_Start))
Name Payment_Date: DATE(YEAR([0]!Loan_Start),MONTH([0]!Loan_Start)+Payment_Number,DAY([0]!Loan_Start))

Sheet Read Me
A1: HOW TO USE THIS DOCUMENT
A2: This workbook contains the financial models used to determine the Off-site Levy (OSL) rates as a part of the 2026 Off-site Levy Bylaw update. This financial model uses the latest information and assumptions available at the time of the update. The following tables describe the tabs contained within this workbook:
A4: Tab Title | B4: Description
A5: Assumptions | B5: This tab provides the assumptions that feed into the OSL infrastruture category models including interest & inflation rates, project contingencies, and 2025 OSL Reserve Fund Balances.
A6: Oversize Costs | B6: 2026 City of Calgary Development Agreement Rates for Sanitary Collection and Transportation utilitzed to calculate improvements beyond local development costs to be recovered through the OSL.
A7: 2025 OSL Account Detail | B7: 2025 Off-Site Levy Fund Balances, Payments, agreements executed, and project expenditures, used to calculate levy fund opening balance at start of 2026 for each infrastructure category.
A8: 2026 Collections Summary | B8: 2026 Off-Site Levy fund payments collected to date, agreements executed to date, and upcoming agreements to be executed in 2026. Captured to reflect most current understanding of anticipated collections in 2026 (and second payments in 2027).
A9: Debentures for OSL Model | B9: Loan schedules from debt advanced by the Town to finance infrastructure, including annual interest and principle payments.
A10: Cost Recovery Timing | B10: Population growth table for Okotoks based on Growth Projections from Okotoks Growth Strategy (2025). Cost Recovery approach and contributing hectares varies for each infrastructure category.
A11: Project List | B11: Includes all project information including descriptions, timing, allocation of benefit, and costs.
A13: Model Tabs | B13: The models function by using a goal seek to determine levy rate (cell I22) based on setting the Off-site Levy Fee Reserve Fund Closing Balance (column N) to be zero in the balance year. Steps: 1. Data tab > What-If Analysis > Goal Seek 2. Set cell: balance year in Column N To value: 0 By changing cell: I22 3. Click OK and accept new results

Sheet Assumptions
A1: MODEL ASSUMPTIONS
A3: Current Year | B3: 2026 | C3: enter figure
A5: Interest Rates (%) | D5: Rational | G5: Bank of Canada:
A6: Interest Earned - Positive (+) | B6: =AVERAGE(K17:K21) -> 0.02674 | C6: enter figure | D6: Based on average interest earned on positive fund balances from Town of Okotoks (2021-2025)
A7: Interest Paid on Debt or Deficit (-) - TOWN FRONT ENDED | B7: =AVERAGE(K10:K14) -> 0.04496 | C7: enter figure | D7: Based on 5-year Average (2021-2025) - Alberta Capital Finance (25-year debenture)
A8: Interest Paid on Debt or Deficit (-) - DEVELOPER FRONT ENDED | B8: 0 | C8: enter figure | D8: Carrying costs are not assumed for infrastructure front-ended by developer | G8: Alberta Capital Finance: | J8: Year | K8: 25 Year Debenture
A10: Project Stage | B10: Contingency (%) | J10: 2025 | K10: 0.0461
B11: Low | C11: High | J11: 2024 | K11: 0.0519
A12: Conceptual | B12: 0.35 | C12: 0.5 | J12: 2023 | K12: 0.0527
A13: Preliminary Design | B13: 0.25 | C13: 0.35 | J13: 2022 | K13: 0.0462
A14: Detailed Design | B14: 0.15 | C14: 0.25 | J14: 2021 | K14: 0.0279
A15: Tendered | B15: 0.1 | C15: 0.15
G16: Interest Earned Rate: | J16: Year | K16: Interest Earned
A17: Inflation Rates (%) - Project Costs | J17: 2025 | K17: 0.0306
A18: Project Cost Inflation - Applied to Future Project Costs - | B18: 0.025 | J18: 2024 | K18: 0.0275
A19: Project Cost Inflation - to bring Project Costs to $2026 (save for Recreation Projects) - | B19: 0.025 | J19: 2023 | K19: 0.0285
A20: Project Cost Inflation - to bring Project Costs to $2026 (for Recreation Projects) - | B20: 0.05 | J20: 2022 | K20: 0.022
J21: 2021 | K21: 0.0251
A22: Inflation Rates (%) - Levy Rate
A23: 25 year window | B23: 0.02
A25: Payment Timing - Off-site Levies
A26: Within 2 Years | B26: 0.4
A27: Within 1 Year | B27: 0.3
A28: Upon Execution | B28: 0.3
A30: End of 2025 Fund Balances
A31: Water | B31: =SUM(B32:B33) -> -27203067
A32: Water Supply/Treatment | B32: ='2026 Collections Summary'!B2 -> -25813741
A33: Water Distribution/Storage | B33: ='2026 Collections Summary'!B3 -> -1389326.4
A34: Water Storage | B34: =0 -> 0

Sheet 2026 Collections Summary
A1: Off-Site Levy Fund Balances as at December 31, 2025
A2: Water Supply & Treatment Levy | B2: -25813741
A3: Water Distribution & Storage Levy | B3: -1389326.4
A5: 2026 Assumed Agreements Executed
A6: Land Description | B6: Water Supply & Treatment Levy | C6: Water Distribution & Storage Levy | D6: Development Area (ha)
A7: Burnswest Phase 2 | B7: =41559*D7 -> 784841.72 | C7: =12574*D7 -> 237459.99 | D7: 18.885
A8: Ridgemont Phase 1 | B8: =41559*D8 -> 516079.66 | C8: =12574*D8 -> 156143.93 | D8: 12.418
A9: Tillotson Phase 2 | B9: =41559*D9 -> 404119.72 | C9: =12574*D9 -> 122269.58 | D9: 9.724
A10: Total to Date | B10: =SUM(B7:B9) -> 1705041.1 | C10: =SUM(C7:C9) -> 515873.5 | D10: =SUM(D7:D9) -> 41.027
A11: D'Arcy Phase 12 | D11: 4.664
A12: D'Arcy Phase 18 | D12: 3.79
A13: D'Arcy Phase 19 | D13: 3.34
A14: Wedderburn Phase 11 | D14: 6.682
A15: Assumed Agreements for Remainder of 2026 | D15: =SUM(D11:D14) -> 18.476 | E15: <- Based on received subdivision applications
A17: 2026 Payments Collected (1st Payment of 2026 Agreements Executed and 2nd Payment of 2025 Agreements Executed)
B18: Water Supply & Treatment Levy | C18: Water Distribution & Storage Levy
A19: 2025 Agreement Carry-over | B19: =B29 -> 256389.23 | C19: =C29 -> 77610.79
A20: 2026 Agreement Collections (50%) | B20: =B10/2 -> 852520.55 | C20: =C10/2 -> 257936.75 | D20: <- 2026 agreements executed are only collected at 50% in year 1
A21: 2026 Collections | B21: =SUM(B19:B20) -> 1108909.8 | C21: =SUM(C19:C20) -> 335547.54
A23: 2026 Payments Collected (2025 Agreements - 2nd Payments)
A24: Land Description | B24: Water Supply & Treatment Levy | C24: Water Distribution & Storage Levy | D24: Development Area (ha)
A25: D'Arcy Phase 11 (MR) | B25: 10845.51 | C25: 3322.125 | D25: 0.539
A26: D'Arcy Phase 14 | B26: 26666.95 | C26: 8068.02 | D26: 1.309
A27: D'Arcy Phase 15 | B27: 154195.67 | C27: 46651.53 | D27: 7.569
A28: Wedderburn Phase 8 | B28: 64681.1 | C28: 19569.115 | D28: 3.175
A29: Total | B29: =SUM(B25:B28) -> 256389.23 | C29: =SUM(C25:C28) -> 77610.79 | D29: =SUM(D25:D28) -> 12.592
A31: 2027 Collections
B32: Water Supply & Treatment Levy | C32: Water Distribution & Storage Levy
A33: 2026 Agreement Collections (50%) | B33: =B10/2 -> 852520.55 | C33: =C10/2 -> 257936.75
A34: 2027 Collections | B34: =SUM(B33:B33) -> 852520.55 | C34: =SUM(C33:C33) -> 257936.75

Sheet Regional Water Debenture
A2: Regional Water
A3: Note, interest rates are negotiated with lender on 5 Year Terms. For the financial modelling, the current negotiated rate has been applied over the amortization period (25yrs), as shown in the Debenture Payment (P+I) Schedule.
K5: TD Loan Schedule | P5: Alberta Capital Finance - Utilized to Estimate P+I Over Amortization Period
A6: Allocation of Debenture Payment to Growth | B6: 1 | D6: Debenture Payment (P+I) Schedule | K6: Calculations based on: | P6: Calculations based on:
K7: Principal is $29,800,000.00 | P7: Principal is $29,800,000.00
A8: Debenture Details from Town
A9: 2020 Debenture | D9: Year | E9: Total P+I Annually | F9: Total Principal Annually | G9: Outstanding Principal | H9: Total Interest Annually | I9: Allocation to Growth | P9: Term is 25 Years | R9: Loan Type is Blended | T9: Deferred payments NA | V9: Interest rate of 3.85 % | X9: Outstading Balance
A10: Loan Amount | B10: 29800000 | D10: 2020 | E10: =SUMIF($P$12:$P$61,D10,$R$12:$S$61) -> 0 | F10: =SUMIF($P$12:$P$61,D10,$S$12:$T$61) -> 0 | G10: =B2-F10 -> 0 | H10: =SUMIF($P$12:$P$61,D10,$V$12:$V$61) -> 0 | I10: =H10*$B$6 -> 0 | K10: Payment | L10: Principal | M10: Interest | N10: Balance
A11: Borrowing Rate | B11: 0.0385 | D11: 2021 | E11: =SUMIF($P$12:$P$61,D11,$R$12:$S$61) -> 0 | F11: =SUMIF($P$12:$P$61,D11,$S$12:$T$61) -> 0 | G11: =B3-F11 -> 0 | H11: =SUMIF($P$12:$P$61,D11,$V$12:$V$61) -> 0 | I11: =H11*$B$6 -> 0 | K11: 466744.75 | L11: -180497.61 | M11: -286247.14 | N11: 29619502 | P11: Payment # | R11: Payment | T11: Principal | V11: Interest | X11: Balance
A12: Term (years) | B12: 25 | D12: 2022 | E12: =SUMIF($P$12:$P$61,D12,$R$12:$S$61) -> 0 | F12: =SUMIF($P$12:$P$61,D12,$S$12:$T$61) -> 0 | G12: =B7-F12 -> 0 | H12: =SUMIF($P$12:$P$61,D12,$V$12:$V$61) -> 0 | I12: =H12*$B$6 -> 0 | K12: 1866979 | L12: -739588.24 | M12: -1127390.8 | N12: 28879914 | P12: 2025 | Q12: 1 | R12: 933441.77 | T12: 359791.77 | V12: 573650 | X12: 29440208
A13: Payment Frequency | B13: Bi-Annually | D13: 2023 | E13: =SUMIF($P$12:$P$61,D13,$R$12:$S$61) -> 0 | F13: =SUMIF($P$12:$P$61,D13,$S$12:$T$61) -> 0 | G13: =B8-F13 -> 0 | H13: =SUMIF($P$12:$P$61,D13,$V$12:$V$61) -> 0 | I13: =H13*$B$6 -> 0 | K13: 1866979 | L13: -768570.25 | M13: -1098408.8 | N13: 28111344 | P13: 2025 | Q13: 2 | R13: 933441.77 | T13: 366717.76 | V13: 566724.01 | X13: 29073490
D14: 2024 | E14: =SUMIF($P$12:$P$61,D14,$R$12:$S$61) -> 0 | F14: =SUMIF($P$12:$P$61,D14,$S$12:$T$61) -> 0 | G14: =B9-F14 -> 0 | H14: =SUMIF($P$12:$P$61,D14,$V$12:$V$61) -> 0 | I14: =H14*$B$6 -> 0 | K14: 1866979 | L14: -798687.97 | M14: -1068291 | N14: 27312656 | P14: 2026 | Q14: 3 | R14: 933441.77 | T14: 373777.08 | V14: 559664.69 | X14: 28699713
D15: 2025 | E15: =SUMIF($P$12:$P$61,D15,$R$12:$S$61) -> 1866883.5 | F15: =SUMIF($P$12:$P$61,D15,$T$12:$T$61) -> 726509.53 | G15: =B10-F15 -> 29073490 | H15: =SUMIF($P$12:$P$61,D15,$V$12:$V$61) -> 1140374 | I15: =H15*$B$6 -> 1140374 | K15: 1866979 | L15: -829985.9 | M15: -1036993.1 | N15: 26482670 | P15: 2026 | Q15: 4 | R15: 933441.77 | T15: 380972.29 | V15: 552469.48 | X15: 28318741
D16: 2026 | E16: =SUMIF($P$12:$P$61,D16,$R$12:$S$61) -> 1866883.5 | F16: =SUMIF($P$12:$P$61,D16,$T$12:$T$61) -> 754749.37 | G16: =G15-F16 -> 28318741 | H16: =SUMIF($P$12:$P$61,D16,$V$12:$V$61) -> 1112134.2 | I16: =H16*$B$6 -> 1112134.2 | K16: 933489.5 | L16: -427111.09 | M16: -506378.41 | N16: 26055559 | P16: 2027 | Q16: 5 | R16: 933441.77 | T16: 388306 | V16: 545135.77 | X16: 27930435
D17: 2027 | E17: =SUMIF($P$12:$P$61,D17,$R$12:$S$61) -> 1866883.5 | F17: =SUMIF($P$12:$P$61,D17,$T$12:$T$61) -> 784086.89 | G17: =G16-F17 -> 27534654 | H17: =SUMIF($P$12:$P$61,D17,$V$12:$V$61) -> 1082796.6 | I17: =H17*$B$6 -> 1082796.6 | P17: 2027 | Q17: 6 | R17: 933441.77 | T17: 395780.89 | V17: 537660.88 | X17: 27534654
D18: 2028 | E18: =SUMIF($P$12:$P$61,D18,$R$12:$S$61) -> 1866883.5 | F18: =SUMIF($P$12:$P$61,D18,$T$12:$T$61) -> 814564.8 | G18: =G17-F18 -> 26720089 | H18: =SUMIF($P$12:$P$61,D18,$V$12:$V$61) -> 1052318.7 | I18: =H18*$B$6 -> 1052318.7 | P18: 2028 | Q18: 7 | R18: 933441.77 | T18: 403399.68 | V18: 530042.09 | X18: 27131255
D19: 2029 | E19: =SUMIF($P$12:$P$61,D19,$R$12:$S$61) -> 1866883.5 | F19: =SUMIF($P$12:$P$61,D19,$T$12:$T$61) -> 846227.39 | G19: =G18-F19 -> 25873862 | H19: =SUMIF($P$12:$P$61,D19,$V$12:$V$61) -> 1020656.1 | I19: =H19*$B$6 -> 1020656.1 | P19: 2028 | Q19: 8 | R19: 933441.77 | T19: 411165.12 | V19: 522276.65 | X19: 26720089
D20: 2030 | E20: =SUMIF($P$12:$P$61,D20,$R$12:$S$61) -> 1866883.5 | F20: =SUMIF($P$12:$P$61,D20,$T$12:$T$61) -> 879120.73 | G20: =G19-F20 -> 24994741 | H20: =SUMIF($P$12:$P$61,D20,$V$12:$V$61) -> 987762.81 | I20: =H20*$B$6 -> 987762.81 | P20: 2029 | Q20: 9 | R20: 933441.77 | T20: 419080.05 | V20: 514361.72 | X20: 26301009
D21: 2031 | E21: =SUMIF($P$12:$P$61,D21,$R$12:$S$61) -> 1866883.5 | F21: =SUMIF($P$12:$P$61,D21,$T$12:$T$61) -> 913292.64 | G21: =G20-F21 -> 24081449 | H21: =SUMIF($P$12:$P$61,D21,$V$12:$V$61) -> 953590.9 | I21: =H21*$B$6 -> 953590.9 | P21: 2029 | Q21: 10 | R21: 933441.77 | T21: 427147.34 | V21: 506294.43 | X21: 25873862
D22: 2032 | E22: =SUMIF($P$12:$P$61,D22,$R$12:$S$61) -> 1866883.5 | F22: =SUMIF($P$12:$P$61,D22,$T$12:$T$61) -> 948792.84 | G22: =G21-F22 -> 23132656 | H22: =SUMIF($P$12:$P$61,D22,$V$12:$V$61) -> 918090.7 | I22: =H22*$B$6 -> 918090.7 | P22: 2030 | Q22: 11 | R22: 933441.77 | T22: 435369.93 | V22: 498071.84 | X22: 25438492
D23: 2033 | E23: =SUMIF($P$12:$P$61,D23,$R$12:$S$61) -> 1866883.5 | F23: =SUMIF($P$12:$P$61,D23,$T$12:$T$61) -> 985672.96 | G23: =G22-F23 -> 22146983 | H23: =SUMIF($P$12:$P$61,D23,$V$12:$V$61) -> 881210.58 | I23: =H23*$B$6 -> 881210.58 | P23: 2030 | Q23: 12 | R23: 933441.77 | T23: 443750.8 | V23: 489690.97 | X23: 24994741
D24: 2034 | E24: =SUMIF($P$12:$P$61,D24,$R$12:$S$61) -> 1866883.5 | F24: =SUMIF($P$12:$P$61,D24,$T$12:$T$61) -> 1023986.6 | G24: =G23-F24 -> 21122996 | H24: =SUMIF($P$12:$P$61,D24,$V$12:$V$61) -> 842896.93 | I24: =H24*$B$6 -> 842896.93 | P24: 2031 | Q24: 13 | R24: 933441.77 | T24: 452293 | V24: 481148.77 | X24: 24542448
D25: 2035 | E25: =SUMIF($P$12:$P$61,D25,$R$12:$S$61) -> 1866883.5 | F25: =SUMIF($P$12:$P$61,D25,$T$12:$T$61) -> 1063789.5 | G25: =G24-F25 -> 20059207 | H25: =SUMIF($P$12:$P$61,D25,$V$12:$V$61) -> 803093.99 | I25: =H25*$B$6 -> 803093.99 | P25: 2031 | Q25: 14 | R25: 933441.77 | T25: 460999.64 | V25: 472442.13 | X25: 24081449
D26: 2036 | E26: =SUMIF($P$12:$P$61,D26,$R$12:$S$61) -> 1866883.5 | F26: =SUMIF($P$12:$P$61,D26,$T$12:$T$61) -> 1105139.6 | G26: =G25-F26 -> 18954067 | H26: =SUMIF($P$12:$P$61,D26,$V$12:$V$61) -> 761743.89 | I26: =H26*$B$6 -> 761743.89 | P26: 2032 | Q26: 15 | R26: 933441.77 | T26: 469873.88 | V26: 463567.89 | X26: 23611575
D27: 2037 | E27: =SUMIF($P$12:$P$61,D27,$R$12:$S$61) -> 1866883.5 | F27: =SUMIF($P$12:$P$61,D27,$T$12:$T$61) -> 1148097 | G27: =G26-F27 -> 17805970 | H27: =SUMIF($P$12:$P$61,D27,$V$12:$V$61) -> 718786.49 | I27: =H27*$B$6 -> 718786.49 | P27: 2032 | Q27: 16 | R27: 933441.77 | T27: 478918.96 | V27: 454522.81 | X27: 23132656
D28: 2038 | E28: =SUMIF($P$12:$P$61,D28,$R$12:$S$61) -> 1866883.5 | F28: =SUMIF($P$12:$P$61,D28,$T$12:$T$61) -> 1192724.2 | G28: =G27-F28 -> 16613246 | H28: =SUMIF($P$12:$P$61,D28,$V$12:$V$61) -> 674159.31 | I28: =H28*$B$6 -> 674159.31 | P28: 2033 | Q28: 17 | R28: 933441.77 | T28: 488138.15 | V28: 445303.62 | X28: 22644518
... D39: 2049 | E39: =SUMIF($P$12:$P$61,D39,$R$12:$S$61) -> 1866883.5 | F39: =SUMIF($P$12:$P$61,D39,$T$12:$T$61) -> 1814328.3 | G39: =G38-F39 -> -4.1909516e-09 | H39: =SUMIF($P$12:$P$61,D39,$V$12:$V$61) -> 52555.27 | I39: =H39*$B$6 -> 52555.27 | P39: 2038 | Q39: 28 | R39: 933441.77 | T39: 602047.38 | V39: 331394.39 | X39: 16613246
D40: Total | E40: =SUM(E10:E39) -> 46672088 | H40: =SUM(H10:H39) -> 16872088 | I40: =SUM(I10:I39) -> 16872088 | P40: 2039 | Q40: 29 | R40: 933441.77 | T40: 613636.79 | V40: 319804.98 | X40: 15999609
P41: 2039 | Q41: 30 | R41: 933441.77 | T41: 625449.3 | V41: 307992.47 | X41: 15374160
P42: 2040 | Q42: 31 | R42: 933441.77 | T42: 637489.2 | V42: 295952.57 | X42: 14736670
P43: 2040 | Q43: 32 | R43: 933441.77 | T43: 649760.86 | V43: 283680.91 | X43: 14086910
P44: 2041 | Q44: 33 | R44: 933441.77 | T44: 662268.76 | V44: 271173.01 | X44: 13424641
P45: 2041 | Q45: 34 | R45: 933441.77 | T45: 675017.43 | V45: 258424.34 | X45: 12749623
P46: 2042 | Q46: 35 | R46: 933441.77 | T46: 688011.52 | V46: 245430.25 | X46: 12061612
P47: 2042 | Q47: 36 | R47: 933441.77 | T47: 701255.74 | V47: 232186.03 | X47: 11360356
P48: 2043 | Q48: 37 | R48: 933441.77 | T48: 714754.91 | V48: 218686.86 | X48: 10645601
P49: 2043 | Q49: 38 | R49: 933441.77 | T49: 728513.95 | V49: 204927.82 | X49: 9917087.3
P50: 2044 | Q50: 39 | R50: 933441.77 | T50: 742537.84 | V50: 190903.93 | X50: 9174549.5
P51: 2044 | Q51: 40 | R51: 933441.77 | T51: 756831.69 | V51: 176610.08 | X51: 8417717.8
P52: 2045 | Q52: 41 | R52: 933441.77 | T52: 771400.7 | V52: 162041.07 | X52: 7646317.1
...

Sheet Project List 
B3: Project Description | E3: Assumed Approach to | G3: Timing | I3: Benefit | K3: Regional Benefit | M3: Project Costs | Y3: Regional Allocation | AA3: Debentures | AC3: Grants | AD3: Project Expenditures | AI3: Growth Share of Remaining Project Costs | AK3: Front-Ended by Others and Oversize Recovery Eligible | AL3: Oversize
B4: Code | C4: Name | D4: Description | E4: Financing | F4: Funding | G4: Start Year | H4: End Year | I4: Benefit to Growth | J4: Benefit to Existing | K4: Benefit to Okotoks | L4: Benefit to Foothills | M4: Project Costs w/o Contingency ($2022) | N4: Project Costs w/o Contingency ($2024) | O4: Project Costs w/o Contingency ($2025) | P4: Project Stage | Q4: Contingency (%) | R4: Engineering (15%) | T4: Total Project Cost ($2022) | U4: Total Project Cost ($2023) | V4: Total Project Cost ($2024) | W4: Total Project Cost ($2025) | X4: Total Project Cost ($2026) | Y4: Okotoks Share | Z4: Foothills Share | AA4: Project Constructed and Funded under existing Debenture? | AB4: Debenture Principle ($) | AC4: Assumed Grant Value (Okotoks Share) | AD4: Expenses in 2021 ($2021) | AE4: Expenses in 2023 ($2023) | AF4: Expenses in 2024 ($2024) | AG4: Expenses in 2025 ($2025) | AH4: Future/Remaining Project Costs ($2026) | AI4: Growth Share | AJ4: Existing Share | AL4: Pipe / Road Length (m) | AM4: Oversize Cost Recovery | AN4: Allocation of Benefit Rationale
A6: Water Distribution | B6: 10 | C6: Zone 4N Additional 500 mm HDPE Feedermain | D6: Zone 4N Additional 500 mm HDPE Feedermain (Northridge Drive/Banister Gate Intersection - Robinson Drive/Suntree Lane Intersection) | E6: Town | F6: OSL | G6: 2026 | H6: 2026 | I6: 1 | J6: =1-I6 -> 0 | P6: Construction | X6: 3800000 | AA6: No | AE6: 0 | AF6: 88116 | AG6: =2831593 -> 2831593 | AH6: 50000 | AI6: =AH6*I6 -> 50000 | AJ6: =AH6*J6 -> 0 | AK6: No | AN6: The Feedermain provides water to new growth areas and is solely for growth as defined by the ISL report, the Water Master Plan (WMP) and various ASP/NASP servicing studies (North Point ASP, Thunder Stone Junction NASP, Ridgemont NASP, East Wedderburn NASP).
B7: 13 | C7: Sheep River Heights Pressure Reducing Valve | D7: Sheep River Heights Pressure Reducing Valve (Sheep River Heights) | E7: Town | F7: OSL | G7: 2030 | H7: 2030 | I7: 1 | J7: =1-I7 -> 0 | N7: 414000 | P7: Conceptual | Q7: 35 | R7: 15 | V7: =MROUND((N7+(N7*(Q7/100))+(N7*(R7/100))),1000) -> 621000 | W7: =V7*(1+Assumptions!$B$19)^1 -> 636525 | X7: =W7*(1+Assumptions!$B$19)^1 -> 652438.12 | AA7: No | AH7: =X7-AF7 -> 652438.12 | AI7: =AH7*I7 -> 652438.12 | AJ7: =AH7*J7 -> 0 | AK7: No | AN7: W13 and W14 are identified in the WMP and are required to create new pressure zones. This is also contemplated in the South Reservoir studies and will be further addressed in the next WMP update and background work for the South Reservoir in the future.
B8: 14 | C8: Sheep River CT Pressure Reducing Valve | D8: Sheep River CT Pressure Reducing Valve (Sheep River Blvd) | E8: Town | F8: OSL | G8: 2030 | H8: 2030 | I8: 1 | J8: =1-I8 -> 0 | N8: 210000 | P8: Conceptual | Q8: 35 | R8: 15 | V8: =MROUND((N8+(N8*(Q8/100))+(N8*(R8/100))),1000) -> 315000 | W8: =V8*(1+Assumptions!$B$19)^1 -> 322875 | X8: =W8*(1+Assumptions!$B$19)^1 -> 330946.88 | AA8: No | AH8: =X8-AF8 -> 330946.88 | AI8: =AH8*I8 -> 330946.88 | AJ8: =AH8*J8 -> 0 | AK8: No | AN8: W13 and W14 are identified in the WMP and are required to create new pressure zones. This is also contemplated in the South Reservoir studies and will be further addressed in the next WMP update and background work for the South Reservoir in the future.
X9: =SUM(X6:X8) -> 4783385 | AI9: =SUM(AI6:AI8) -> 1033385 | AJ9: =SUM(AJ6:AJ8) -> 0
A12: Water Storage | B12: 4A | C12: South Okotoks Reservoir Phase 1 (3,660 m3) | D12: South Okotoks Reservoir Phase 1 (8,100 m3) (S-2) | E12: Town | F12: OSL | G12: 2027 | H12: 2030 | I12: 1 | J12: =1-I12 -> 0 | P12: Conceptual | Q12: 50 | R12: 15 | S12: 3660000 | T12: =S12*(1+Assumptions!$B$19)^2 -> 3845287.5 | U12: =T12*(1+Assumptions!$B$19)^1 -> 3941419.7 | V12: =U12*(1+Assumptions!$B$19)^1 -> 4039955.2 | W12: =V12*(1+Assumptions!$B$19)^1 -> 4140954.1 | X12: =W12*(1+Assumptions!$B$19)^1 -> 4244477.9 | AA12: No | AH12: =X12-AF12 -> 4244477.9 | AI12: =AH12*I12 -> 4244477.9 | AJ12: =AH12*J12 -> 0 | AK12: No | AN12: Existing system storage requirements are adequately addressed by the current reservoir infrastructure at the Water Treatment Plant. The Phase 1 reservoir includes only growth driven storage required to service proposed development.
B13: 12 | C13: South Okotoks Reservoir Supply Pump Station | D13: South Okotoks Reservoir Supply Pump Station (S-2) | E13: Others | F13: OSL | G13: 2026 | H13: 2028 | I13: 0.56 | J13: =1-I13 -> 0.44 | M13: 2500000 | P13: Conceptual | Q13: 35 | R13: 15 | T13: 3750000 | U13: =T13*(1+Assumptions!$B$19)^1 -> 3843750 | V13: =U13*(1+Assumptions!$B$19)^1 -> 3939843.7 | W13: =V13*(1+Assumptions!$B$19)^1 -> 4038339.8 | X13: =W13*(1+Assumptions!$B$19)^1 -> 4139298.3 | AA13: No | AH13: =X13-AF13 -> 4139298.3 | AI13: =AH13*I13 -> 2318007.1 | AJ13: =AH13*J13 -> 1821291.3 | AK13: No | AN13: This first phase of the pump station supports both future growth in the Short Term scenario, and the existing system. The relative share for growth areas was determined through residential unit counts, and residential unit equivalents for ICI areas, benefitting from the pump station (1800 units for growth area out of a total 3200 units, 56%)
B14: 8A | C14: 450 mm South Okotoks Twin Supply Mains | D14: 450 mm South Okotoks Twin Supply Mains and Upgraded Network (S-2, S-12, Big Rock Trail/Sheepriver Drive intersection - Woodhaven Drive/Woodbend Way Intersection) | E14: Town | F14: OSL | G14: 2026 | H14: 2026 | I14: 0.711 | J14: =1-I14 -> 0.289 | P14: Construction | X14: 3850000 | AA14: No | AH14: =X14-AF14 -> 3850000 | AI14: =AH14*I14 -> 2737350 | AJ14: =AH14*J14 -> 1112650 | AK14: No | AN14: The proposed supply lines are considered to be fully driven by growth, however the supply lines are being oversized to accommodate the existing system. As such, the existing areas should be responsible for the oversize portion on supply lines. In the no oversize scenario the supply lines are sized as 300mm (at $1.82M capital cost). The lines have been upsized to 450mm to accomodate the existing system (at $2.56M). The additional $0.74M for upsizing is allocated to existing areas (28.9%).
B15: 8B | C15: 450 mm South Okotoks Twin Supply Mains | D15: 450 mm South Okotoks Twin Supply Mains and Upgraded Network (S-2, S-12, Big Rock Trail/Sheepriver Drive intersection - Woodhaven Drive/Woodbend Way Intersection) | E15: Town | F15: OSL | G15: 2027 | H15: 2027 | I15: 0.711 | J15: =1-I15 -> 0.289 | P15: Construction | X15: 926725 | AA15: No | AH15: =X15-AF15 -> 926725 | AI15: =AH15*I15 -> 658901.47 | AJ15: =AH15*J15 -> 267823.53 | AK15: No | AN15: The proposed supply lines are considered to be fully driven by growth, however the supply lines are being oversized to accommodate the existing system. As such, the existing areas should be responsible for the oversize portion on supply lines. In the no oversize scenario the supply lines are sized as 300mm (at $1.82M capital cost). The lines have been upsized to 450mm to accomodate the existing system (at $2.56M). The additional $0.74M for upsizing is allocated to existing areas (28.9%).
B16: 8C | C16: 450 mm South Okotoks Twin Supply Mains | D16: 450 mm South Okotoks Twin Supply Mains and Upgraded Network (S-2, S-12, Big Rock Trail/Sheepriver Drive intersection - Woodhaven Drive/Woodbend Way Intersection) | E16: Others | F16: OSL | G16: 2027 | H16: 2028 | I16: 0.711 | J16: =1-I16 -> 0.289 | O16: 316200 | P16: Conceptual | Q16: 35 | R16: 15 | W16: 474298.05 | X16: =W16*(1+Assumptions!$B$19)^1 -> 486155.5 | AA16: No | AH16: =X16-AF16 -> 486155.5 | AI16: =AH16*I16 -> 345656.56 | AJ16: =AH16*J16 -> 140498.94 | AK16: No | AN16: The proposed supply lines are considered to be fully driven by growth, however the supply lines are being oversized to accommodate the existing system. As such, the existing areas should be responsible for the oversize portion on supply lines. In the no oversize scenario the supply lines are sized as 300mm (at $1.82M capital cost). The lines have been upsized to 450mm to accomodate the existing system (at $2.56M). The additional $0.74M for upsizing is allocated to existing areas (28.9%).
X17: =SUM(X12:X16) -> 13646657 | AI17: =SUM(AI12:AI16) -> 10304393 | AJ17: =SUM(AJ12:AJ16) -> 3342263.7
A20: Water Supply | B20: 11A | C20: Sub-Regional Raw Water Pipeline - Phase 1 | D20: Sub-regional pipeline to supply the Town with raw water from the Bow River. Project is being developed in partnership with Foothills County and includes an intake, raw water supply and storage. | E20: Town | F20: OSL | G20: 2026 | H20: 2026 | I20: 1 | J20: =1-I20 -> 0 | K20: =75693189.78/102457309.12 -> 0.73877784 | L20: =26764119.34/102457309.12 -> 0.26122216 | P20: Construction | X20: 1.0211451e+08 | Y20: 75439936 | Z20: 26674572 | AA20: Yes | AB20: 29800000 | AC20: 30189414 | AD20: 801451.98 | AE20: =465255+10261 -> 475516 | AF20: =1821573+2000000 -> 3821573 | AG20: 20983612 | AH20: =Y20-AC20-AG20-AF20-AE20-AD20 -> 19168369 | AI20: =AH20*I20 -> 19168369 | AJ20: =AH20*J20 -> 0 | AK20: No | AN20: The required water supply projects identified are solely required to support new development and, thus allocation of benefit is 100% to new development. Total Okotoks benefitting population = 24,500 people
B21: 11B | C21: Sub-Regional Raw Water Pipeline - Phase 2 | D21: Phase 2 will include the addition of a second cell to the raw water reservoir as well as added pumping capacity to the Intake Pump Station and Midline Pump Station. | E21: Town | F21: OSL | G21: 2033 | H21: 2034 | I21: 1 | J21: 0 | K21: =12464150/13407500 -> 0.92964013 | L21: =943350/13407500 -> 0.070359873 | P21: Detailed Design | Q21: 10 | R21: 15 | X21: 13407500 | Y21: 12464150 | Z21: =X21-Y21 -> 943350 | AA21: No | AH21: =Y21 -> 12464150 | AI21: =AH21*I21 -> 12464150 | AJ21: =AH21*J21 -> 0 | AK21: No | AN21: The required water supply projects identified are solely required to support new development and, thus allocation of benefit is 100% to new development. Total Okotoks benefitting population = 12,500 people
X22: =SUM(X20:X21) -> 1.1552201e+08 | AI22: =SUM(AI20:AI21) -> 31632519 | AJ22: =SUM(AJ20:AJ21) -> 0

Sheet Cost Recovery Timing
B3: Basline population (2025) taken from Alberta Dashboard | R3: Assumed Remaining 2026 Growth (June 1, 2026 to December 31, 2026): | S3: ='2026 Collections Summary'!$D$15 -> 18.476
B4: Source: https://regionaldashboard.alberta.ca/region/okotoks/population/#/?from=2021&to=2025
S6: check:
S7: =SUM(S15:S124) -> 672.43542 | T7: =SUM(T15:T124) -> 714.5 | U7: =SUM(U15:U124) -> 714.5
S8: =S14 -> 672.43542 | T8: =T14 -> 714.5 | U8: =U14 -> 714.5
B11: Population and Emploiyment Growth Projections - Based on Okotoks Growth Strategy (2024) | O11: Assumed Annual Growth - Mid 2026 Onwards (ha) | R11: Cost Recovery Timing
B12: Year | C12: Population Growth Rate | D12: Residential Population | E12: Annual Population Growth | F12: Annual Employment Growth | G12: Annual Residential Hectare Growth (ha) | H12: Annual Employment Hectare Growth (ha) | I12: Cumulative Residential (ha) | J12: Cumulative Non-Residential (ha) | K12: Annual total (ha) | L12: Cumulative total (ha) | O12: Mid 2026 Totals (ha) | R12: Infrastructure Category | S12: Water Supply - Capacity Based | T12: Water Storage - 25 Year Revolving | U12: Water Distribution - 25 Year Revolving
O13: Annual | P13: Cumulative
B14: 2025 | C14: =(D15-D14)/D14 -> 0.046263664 | D14: 33482 | E14: 1549 | F14: 934 | G14: 19.03 | H14: 9.55 | I14: =+G14+I13 -> 19.03 | J14: =+H14+J13 -> 9.55 | K14: =ROUND(G14+H14,2) -> 28.58 | L14: 0 | O14: 0 | P14: 0 | R14: Assumed Total Contributing Hectares | S14: 672.43542 | T14: 714.5 | U14: 714.5
B15: 2026 | C15: =(D16-D15)/D15 -> 0.044217978 | D15: =E15+D14 -> 35031 | E15: =+E14 -> 1549 | F15: 934 | G15: 19.03 | H15: 9.55 | I15: =+G15+I14 -> 38.06 | J15: =+H15+J14 -> 19.1 | K15: =ROUND(G15+H15,2) -> 28.58 | L15: =+K15+L14 -> 28.58 | O15: =S3 -> 18.476 | P15: =O15 -> 18.476 | R15: 2026 | S15: =IF($S$14>P15,O15,IF($S$14-P14>0,$S$14-P14,0)) -> 18.476 | T15: =IF($T$14>$P15,$O15,IF($T$14-$P14>0,$T$14-$P14,0)) -> 18.476 | U15: =IF($U$14>$P15,$O15,IF($U$14-$P14>0,$U$14-$P14,0)) -> 18.476
B16: 2027 | C16: =(D17-D16)/D16 -> 0.042345544 | D16: =E16+D15 -> 36580 | E16: =+E15 -> 1549 | F16: 934 | G16: 19.03 | H16: 9.55 | I16: =+G16+I15 -> 57.09 | J16: =+H16+J15 -> 28.65 | K16: =ROUND(G16+H16,2) -> 28.58 | L16: =+K16+L15 -> 57.16 | O16: =K16 -> 28.58 | P16: =O16+P15 -> 47.056 | R16: 2027 | S16: =IF($S$14>P16,O16,IF($S$14-P15>0,$S$14-P15,0)) -> 28.58 | T16: =IF($T$14>$P16,$O16,IF($T$14-$P15>0,$T$14-$P15,0)) -> 28.58 | U16: =IF($U$14>$P16,$O16,IF($U$14-$P15>0,$U$14-$P15,0)) -> 28.58
B17: 2028 | C17: =(D18-D17)/D17 -> 0.040625246 | D17: =E17+D16 -> 38129 | E17: =+E16 -> 1549 | F17: 934 | G17: 19.03 | H17: 9.55 | I17: =+G17+I16 -> 76.12 | J17: =+H17+J16 -> 38.2 | K17: =ROUND(G17+H17,2) -> 28.58 | L17: =+K17+L16 -> 85.74 | O17: =K17 -> 28.58 | P17: =O17+P16 -> 75.636 | R17: 2028 | S17: =IF($S$14>P17,O17,IF($S$14-P16>0,$S$14-P16,0)) -> 28.58 | T17: =IF($T$14>$P17,$O17,IF($T$14-$P16>0,$T$14-$P16,0)) -> 28.58 | U17: =IF($U$14>$P17,$O17,IF($U$14-$P16>0,$U$14-$P16,0)) -> 28.58
B18: 2029 | C18: =(D19-D18)/D18 -> 0.039039266 | D18: =E18+D17 -> 39678 | E18: =+E17 -> 1549 | F18: 934 | G18: 19.03 | H18: 9.55 | I18: =+G18+I17 -> 95.15 | J18: =+H18+J17 -> 47.75 | K18: =ROUND(G18+H18,2) -> 28.58 | L18: =+K18+L17 -> 114.32 | O18: =K18 -> 28.58 | P18: =O18+P17 -> 104.216 | R18: 2029 | S18: =IF($S$14>P18,O18,IF($S$14-P17>0,$S$14-P17,0)) -> 28.58 | T18: =IF($T$14>$P18,$O18,IF($T$14-$P17>0,$T$14-$P17,0)) -> 28.58 | U18: =IF($U$14>$P18,$O18,IF($U$14-$P17>0,$U$14-$P17,0)) -> 28.58
B19: 2030 | C19: =(D20-D19)/D19 -> 0.037572465 | D19: =E19+D18 -> 41227 | E19: =+E18 -> 1549 | F19: 934 | G19: 19.03 | H19: 9.55 | I19: =+G19+I18 -> 114.18 | J19: =+H19+J18 -> 57.3 | K19: =ROUND(G19+H19,2) -> 28.58 | L19: =+K19+L18 -> 142.9 | O19: =K19 -> 28.58 | P19: =O19+P18 -> 132.796 | R19: 2030 | S19: =IF($S$14>P19,O19,IF($S$14-P18>0,$S$14-P18,0)) -> 28.58 | T19: =IF($T$14>$P19,$O19,IF($T$14-$P18>0,$T$14-$P18,0)) -> 28.58 | U19: =IF($U$14>$P19,$O19,IF($U$14-$P18>0,$U$14-$P18,0)) -> 28.58
B20: 2031 | C20: =(D21-D20)/D20 -> 0.036211895 | D20: =E20+D19 -> 42776 | E20: =+E19 -> 1549 | F20: 934 | G20: 19.03 | H20: 9.55 | I20: =+G20+I19 -> 133.21 | J20: =+H20+J19 -> 66.85 | K20: =ROUND(G20+H20,2) -> 28.58 | L20: =+K20+L19 -> 171.48 | O20: =K20 -> 28.58 | P20: =O20+P19 -> 161.376 | R20: 2031 | S20: =IF($S$14>P20,O20,IF($S$14-P19>0,$S$14-P19,0)) -> 28.58 | T20: =IF($T$14>$P20,$O20,IF($T$14-$P19>0,$T$14-$P19,0)) -> 28.58 | U20: =IF($U$14>$P20,$O20,IF($U$14-$P19>0,$U$14-$P19,0)) -> 28.58
B21: 2032 | C21: =(D22-D21)/D21 -> 0.034946418 | D21: =E21+D20 -> 44325 | E21: =+E20 -> 1549 | F21: 934 | G21: 19.03 | H21: 9.55 | I21: =+G21+I20 -> 152.24 | J21: =+H21+J20 -> 76.4 | K21: =ROUND(G21+H21,2) -> 28.58 | L21: =+K21+L20 -> 200.06 | O21: =K21 -> 28.58 | P21: =O21+P20 -> 189.956 | R21: 2032 | S21: =IF($S$14>P21,O21,IF($S$14-P20>0,$S$14-P20,0)) -> 28.58 | T21: =IF($T$14>$P21,$O21,IF($T$14-$P20>0,$T$14-$P20,0)) -> 28.58 | U21: =IF($U$14>$P21,$O21,IF($U$14-$P20>0,$U$14-$P20,0)) -> 28.58
B22: 2033 | C22: =(D23-D22)/D22 -> 0.033766404 | D22: =E22+D21 -> 45874 | E22: =+E21 -> 1549 | F22: 934 | G22: 19.03 | H22: 9.55 | I22: =+G22+I21 -> 171.27 | J22: =+H22+J21 -> 85.95 | K22: =ROUND(G22+H22,2) -> 28.58 | L22: =+K22+L21 -> 228.64 | O22: =K22 -> 28.58 | P22: =O22+P21 -> 218.536 | R22: 2033 | S22: =IF($S$14>P22,O22,IF($S$14-P21>0,$S$14-P21,0)) -> 28.58 | T22: =IF($T$14>$P22,$O22,IF($T$14-$P21>0,$T$14-$P21,0)) -> 28.58 | U22: =IF($U$14>$P22,$O22,IF($U$14-$P21>0,$U$14-$P21,0)) -> 28.58
B23: 2034 | C23: =(D24-D23)/D23 -> 0.032663476 | D23: =E23+D22 -> 47423 | E23: =+E22 -> 1549 | F23: 934 | G23: 19.03 | H23: 9.55 | I23: =+G23+I22 -> 190.3 | J23: =+H23+J22 -> 95.5 | K23: =ROUND(G23+H23,2) -> 28.58 | L23: =+K23+L22 -> 257.22 | O23: =K23 -> 28.58 | P23: =O23+P22 -> 247.116 | R23: 2034 | S23: =IF($S$14>P23,O23,IF($S$14-P22>0,$S$14-P22,0)) -> 28.58 | T23: =IF($T$14>$P23,$O23,IF($T$14-$P22>0,$T$14-$P22,0)) -> 28.58 | U23: =IF($U$14>$P23,$O23,IF($U$14-$P22>0,$U$14-$P22,0)) -> 28.58
B24: 2035 | C24: =(D25-D24)/D24 -> 0.031630319 | D24: =E24+D23 -> 48972 | E24: =+E23 -> 1549 | F24: 934 | G24: 19.03 | H24: 9.55 | I24: =+G24+I23 -> 209.33 | J24: =+H24+J23 -> 105.05 | K24: =ROUND(G24+H24,2) -> 28.58 | L24: =+K24+L23 -> 285.8 | O24: =K24 -> 28.58 | P24: =O24+P23 -> 275.696 | R24: 2035 | S24: =IF($S$14>P24,O24,IF($S$14-P23>0,$S$14-P23,0)) -> 28.58 | T24: =IF($T$14>$P24,$O24,IF($T$14-$P23>0,$T$14-$P23,0)) -> 28.58 | U24: =IF($U$14>$P24,$O24,IF($U$14-$P23>0,$U$14-$P23,0)) -> 28.58
B25: 2036 | C25: =(D26-D25)/D25 -> 0.030660517 | D25: =E25+D24 -> 50521 | E25: =+E24 -> 1549 | F25: 934 | G25: 19.03 | H25: 9.55 | I25: =+G25+I24 -> 228.36 | J25: =+H25+J24 -> 114.6 | K25: =ROUND(G25+H25,2) -> 28.58 | L25: =+K25+L24 -> 314.38 | O25: =K25 -> 28.58 | P25: =O25+P24 -> 304.276 | R25: 2036 | S25: =IF($S$14>P25,O25,IF($S$14-P24>0,$S$14-P24,0)) -> 28.58 | T25: =IF($T$14>$P25,$O25,IF($T$14-$P24>0,$T$14-$P24,0)) -> 28.58 | U25: =IF($U$14>$P25,$O25,IF($U$14-$P24>0,$U$14-$P24,0)) -> 28.58
B26: 2037 | C26: =(D27-D26)/D26 -> 0.029748416 | D26: =E26+D25 -> 52070 | E26: =+E25 -> 1549 | F26: 934 | G26: 19.03 | H26: 9.55 | I26: =+G26+I25 -> 247.39 | J26: =+H26+J25 -> 124.15 | K26: =ROUND(G26+H26,2) -> 28.58 | L26: =+K26+L25 -> 342.96 | O26: =K26 -> 28.58 | P26: =O26+P25 -> 332.856 | R26: 2037 | S26: =IF($S$14>P26,O26,IF($S$14-P25>0,$S$14-P25,0)) -> 28.58 | T26: =IF($T$14>$P26,$O26,IF($T$14-$P25>0,$T$14-$P25,0)) -> 28.58 | U26: =IF($U$14>$P26,$O26,IF($U$14-$P25>0,$U$14-$P25,0)) -> 28.58
B27: 2038 | C27: =(D28-D27)/D27 -> 0.028889013 | D27: =E27+D26 -> 53619 | E27: =+E26 -> 1549 | F27: 934 | G27: 19.03 | H27: 9.55 | I27: =+G27+I26 -> 266.42 | J27: =+H27+J26 -> 133.7 | K27: =ROUND(G27+H27,2) -> 28.58 | L27: =+K27+L26 -> 371.54 | O27: =K27 -> 28.58 | P27: =O27+P26 -> 361.436 | R27: 2038 | S27: =IF($S$14>P27,O27,IF($S$14-P26>0,$S$14-P26,0)) -> 28.58 | T27: =IF($T$14>$P27,$O27,IF($T$14-$P26>0,$T$14-$P26,0)) -> 28.58 | U27: =IF($U$14>$P27,$O27,IF($U$14-$P26>0,$U$14-$P26,0)) -> 28.58
... B37: 2048 | C37: =(D38-D37)/D37 -> 0.022413868 | D37: =E37+D36 -> 69109 | E37: =+E36 -> 1549 | F37: 934 | G37: 19.03 | H37: 9.55 | I37: =+G37+I36 -> 456.72 | J37: =+H37+J36 -> 229.2 | K37: =ROUND(G37+H37,2) -> 28.58 | L37: =+K37+L36 -> 657.34 | O37: =K37 -> 28.58 | P37: =O37+P36 -> 647.236 | R37: 2048 | S37: =IF($S$14>P37,O37,IF($S$14-P36>0,$S$14-P36,0)) -> 28.58 | T37: =IF($T$14>$P37,$O37,IF($T$14-$P36>0,$T$14-$P36,0)) -> 28.58 | U37: =IF($U$14>$P37,$O37,IF($U$14-$P36>0,$U$14-$P36,0)) -> 28.58
A38: Infrastructure Capacity Reached | B38: 2049 | C38: =(D39-D38)/D38 -> 0.0219225 | D38: =E38+D37 -> 70658 | E38: =+E37 -> 1549 | F38: 934 | G38: 19.03 | H38: 9.55 | I38: =+G38+I37 -> 475.75 | J38: =+H38+J37 -> 238.75 | K38: =ROUND(G38+H38,2) -> 28.58 | L38: =+K38+L37 -> 685.92 | O38: =K38 -> 28.58 | P38: =O38+P37 -> 675.816 | R38: 2049 | S38: =IF($S$14>P38,O38,IF($S$14-P37>0,$S$14-P37,0)) -> 25.199424 | T38: =IF($T$14>$P38,$O38,IF($T$14-$P37>0,$T$14-$P37,0)) -> 28.58 | U38: =IF($U$14>$P38,$O38,IF($U$14-$P37>0,$U$14-$P37,0)) -> 28.58
B39: 2050 | C39: =(D40-D39)/D39 -> 0.021452214 | D39: =E39+D38 -> 72207 | E39: =+E38 -> 1549 | F39: 934 | G39: 19.03 | H39: 9.55 | I39: =+G39+I38 -> 494.78 | J39: =+H39+J38 -> 248.3 | K39: =ROUND(G39+H39,2) -> 28.58 | L39: =+K39+L38 -> 714.5 | O39: =K39 -> 28.58 | P39: =O39+P38 -> 704.396 | R39: 2050 | S39: =IF($S$14>P39,O39,IF($S$14-P38>0,$S$14-P38,0)) -> 0 | T39: =IF($T$14>$P39,$O39,IF($T$14-$P38>0,$T$14-$P38,0)) -> 28.58 | U39: =IF($U$14>$P39,$O39,IF($U$14-$P38>0,$U$14-$P38,0)) -> 28.58
A40: 25yr Window | B40: 2051 | C40: =(D41-D40)/D40 -> 0.021001681 | D40: =E40+D39 -> 73756 | E40: =+E39 -> 1549 | F40: 934 | G40: 19.03 | H40: 9.55 | I40: =+G40+I39 -> 513.81 | J40: =+H40+J39 -> 257.85 | K40: =ROUND(G40+H40,2) -> 28.58 | L40: =+K40+L39 -> 743.08 | O40: =K40 -> 28.58 | P40: =O40+P39 -> 732.976 | R40: 2051 | S40: =IF($S$14>P40,O40,IF($S$14-P39>0,$S$14-P39,0)) -> 0 | T40: =IF($T$14>$P40,$O40,IF($T$14-$P39>0,$T$14-$P39,0)) -> 10.104 | U40: =IF($U$14>$P40,$O40,IF($U$14-$P39>0,$U$14-$P39,0)) -> 10.104
B41: 2052 | C41: =(D42-D41)/D41 -> 0.020569683 | D41: =E41+D40 -> 75305 | E41: =+E40 -> 1549 | F41: 934 | G41: 19.03 | H41: 9.55 | I41: =+G41+I40 -> 532.84 | J41: =+H41+J40 -> 267.4 | K41: =ROUND(G41+H41,2) -> 28.58 | L41: =+K41+L40 -> 771.66 | O41: =K41 -> 28.58 | P41: =O41+P40 -> 761.556 | R41: 2052 | S41: =IF($S$14>$P41,$O41,IF($S$14-$P40>0,$S$14-$P40,0)) -> 0 | T41: =IF($T$14>$P41,$O41,IF($T$14-$P40>0,$T$14-$P40,0)) -> 0 | U41: =IF($U$14>$P41,$O41,IF($U$14-$P40>0,$U$14-$P40,0)) -> 0
B42: 2053 | C42: =(D43-D42)/D42 -> 0.020155099 | D42: =E42+D41 -> 76854 | E42: =+E41 -> 1549 | F42: 934 | G42: 19.03 | H42: 9.55 | I42: =+G42+I41 -> 551.87 | J42: =+H42+J41 -> 276.95 | K42: =ROUND(G42+H42,2) -> 28.58 | L42: =+K42+L41 -> 800.24 | O42: =K42 -> 28.58 | P42: =O42+P41 -> 790.136 | R42: 2053 | S42: =IF($S$14>$P42,$O42,IF($S$14-$P41>0,$S$14-$P41,0)) -> 0 | T42: =IF($T$14>$P42,$O42,IF($T$14-$P41>0,$T$14-$P41,0)) -> 0 | U42: =IF($U$14>$P42,$O42,IF($U$14-$P41>0,$U$14-$P41,0)) -> 0
B43: 2054 | C43: =(D44-D43)/D43 -> 0.019756897 | D43: =E43+D42 -> 78403 | E43: =+E42 -> 1549 | F43: 934 | G43: 19.03 | H43: 9.55 | I43: =+G43+I42 -> 570.9 | J43: =+H43+J42 -> 286.5 | K43: =ROUND(G43+H43,2) -> 28.58 | L43: =+K43+L42 -> 828.82 | O43: =K43 -> 28.58 | P43: =O43+P42 -> 818.716 | R43: 2054 | S43: =IF($S$14>$P43,$O43,IF($S$14-$P42>0,$S$14-$P42,0)) -> 0 | T43: =IF($T$14>$P43,$O43,IF($T$14-$P42>0,$T$14-$P42,0)) -> 0 | U43: =IF($U$14>$P43,$O43,IF($U$14-$P42>0,$U$14-$P42,0)) -> 0
B44: 2055 | C44: =(D45-D44)/D44 -> 0.019374124 | D44: =E44+D43 -> 79952 | E44: =+E43 -> 1549 | F44: 934 | G44: 19.03 | H44: 9.55 | I44: =+G44+I43 -> 589.93 | J44: =+H44+J43 -> 296.05 | K44: =ROUND(G44+H44,2) -> 28.58 | L44: =+K44+L43 -> 857.4 | O44: =K44 -> 28.58 | P44: =O44+P43 -> 847.296 | R44: 2055 | S44: =IF($S$14>$P44,$O44,IF($S$14-$P43>0,$S$14-$P43,0)) -> 0 | T44: =IF($T$14>$P44,$O44,IF($T$14-$P43>0,$T$14-$P43,0)) -> 0 | U44: =IF($U$14>$P44,$O44,IF($U$14-$P43>0,$U$14-$P43,0)) -> 0
B45: 2056 | C45: =(D46-D45)/D45 -> 0.019005902 | D45: =E45+D44 -> 81501 | E45: =+E44 -> 1549 | F45: 934 | G45: 19.03 | H45: 9.55 | I45: =+G45+I44 -> 608.96 | J45: =+H45+J44 -> 305.6 | K45: =ROUND(G45+H45,2) -> 28.58 | L45: =+K45+L44 -> 885.98 | O45: =K45 -> 28.58 | P45: =O45+P44 -> 875.876 | R45: 2056 | S45: =IF($S$14>$P45,$O45,IF($S$14-$P44>0,$S$14-$P44,0)) -> 0 | T45: =IF($T$14>$P45,$O45,IF($T$14-$P44>0,$T$14-$P44,0)) -> 0 | U45: =IF($U$14>$P45,$O45,IF($U$14-$P44>0,$U$14-$P44,0)) -> 0
B46: 2057 | C46: =(D47-D46)/D46 -> 0.018651415 | D46: =E46+D45 -> 83050 | E46: =+E45 -> 1549 | F46: 934 | G46: 19.03 | H46: 9.55 | I46: =+G46+I45 -> 627.99 | J46: =+H46+J45 -> 315.15 | K46: =ROUND(G46+H46,2) -> 28.58 | L46: =+K46+L45 -> 914.56 | O46: =K46 -> 28.58 | P46: =O46+P45 -> 904.456 | R46: 2057 | S46: =IF($S$14>$P46,$O46,IF($S$14-$P45>0,$S$14-$P45,0)) -> 0 | T46: =IF($T$14>$P46,$O46,IF($T$14-$P45>0,$T$14-$P45,0)) -> 0 | U46: =IF($U$14>$P46,$O46,IF($U$14-$P45>0,$U$14-$P45,0)) -> 0
B47: 2058 | C47: =(D48-D47)/D47 -> 0.018309909 | D47: =E47+D46 -> 84599 | E47: =+E46 -> 1549 | F47: 934 | G47: 19.03 | H47: 9.55 | I47: =+G47+I46 -> 647.02 | J47: =+H47+J46 -> 324.7 | K47: =ROUND(G47+H47,2) -> 28.58 | L47: =+K47+L46 -> 943.14 | O47: =K47 -> 28.58 | P47: =O47+P46 -> 933.036 | R47: 2058 | S47: =IF($S$14>$P47,$O47,IF($S$14-$P46>0,$S$14-$P46,0)) -> 0 | T47: =IF($T$14>$P47,$O47,IF($T$14-$P46>0,$T$14-$P46,0)) -> 0 | U47: =IF($U$14>$P47,$O47,IF($U$14-$P46>0,$U$14-$P46,0)) -> 0
B48: 2059 | C48: =(D49-D48)/D48 -> 0.017980684 | D48: =E48+D47 -> 86148 | E48: =+E47 -> 1549 | F48: 934 | G48: 19.03 | H48: 9.55 | I48: =+G48+I47 -> 666.05 | J48: =+H48+J47 -> 334.25 | K48: =ROUND(G48+H48,2) -> 28.58 | L48: =+K48+L47 -> 971.72 | O48: =K48 -> 28.58 | P48: =O48+P47 -> 961.616 | R48: 2059 | S48: =IF($S$14>$P48,$O48,IF($S$14-$P47>0,$S$14-$P47,0)) -> 0 | T48: =IF($T$14>$P48,$O48,IF($T$14-$P47>0,$T$14-$P47,0)) -> 0 | U48: =IF($U$14>$P48,$O48,IF($U$14-$P47>0,$U$14-$P47,0)) -> 0
B49: 2060 | C49: =(D50-D49)/D49 -> 0.01766309 | D49: =E49+D48 -> 87697 | E49: =+E48 -> 1549 | F49: 934 | G49: 19.03 | H49: 9.55 | I49: =+G49+I48 -> 685.08 | J49: =+H49+J48 -> 343.8 | K49: =ROUND(G49+H49,2) -> 28.58 | L49: =+K49+L48 -> 1000.3 | O49: =K49 -> 28.58 | P49: =O49+P48 -> 990.196 | R49: 2060 | S49: =IF($S$14>$P49,$O49,IF($S$14-$P48>0,$S$14-$P48,0)) -> 0 | T49: =IF($T$14>$P49,$O49,IF($T$14-$P48>0,$T$14-$P48,0)) -> 0 | U49: =IF($U$14>$P49,$O49,IF($U$14-$P48>0,$U$14-$P48,0)) -> 0
B50: 2061 | C50: =(D51-D50)/D50 -> 0.01735652 | D50: =E50+D49 -> 89246 | E50: =+E49 -> 1549 | F50: 934 | G50: 19.03 | H50: 9.55 | I50: =+G50+I49 -> 704.11 | J50: =+H50+J49 -> 353.35 | K50: =ROUND(G50+H50,2) -> 28.58 | L50: =+K50+L49 -> 1028.88 | O50: =K50 -> 28.58 | P50: =O50+P49 -> 1018.776 | R50: 2061 | S50: =IF($S$14>$P50,$O50,IF($S$14-$P49>0,$S$14-$P49,0)) -> 0 | T50: =IF($T$14>$P50,$O50,IF($T$14-$P49>0,$T$14-$P49,0)) -> 0 | U50: =IF($U$14>$P50,$O50,IF($U$14-$P49>0,$U$14-$P49,0)) -> 0
B51: 2062 | C51: =(D52-D51)/D51 -> 0.017060411 | D51: =E51+D50 -> 90795 | E51: =+E50 -> 1549 | F51: 934 | G51: 19.03 | H51: 9.55 | I51: =+G51+I50 -> 723.14 | J51: =+H51+J50 -> 362.9 | K51: =ROUND(G51+H51,2) -> 28.58 | L51: =+K51+L50 -> 1057.46 | O51: =K51 -> 28.58 | P51: =O51+P50 -> 1047.356 | R51: 2062 | S51: =IF($S$14>$P51,$O51,IF($S$14-$P50>0,$S$14-$P50,0)) -> 0 | T51: =IF($T$14>$P51,$O51,IF($T$14-$P50>0,$T$14-$P50,0)) -> 0 | U51: =IF($U$14>$P51,$O51,IF($U$14-$P50>0,$U$14-$P50,0)) -> 0
B52: 2063 | C52: =(D53-D52)/D52 -> 0.016774235 | D52: =E52+D51 -> 92344 | E52: =+E51 -> 1549 | F52: 934 | G52: 19.03 | H52: 9.55 | I52: =+G52+I51 -> 742.17 | J52: =+H52+J51 -> 372.45 | K52: =ROUND(G52+H52,2) -> 28.58 | L52: =+K52+L51 -> 1086.04 | O52: =K52 -> 28.58 | P52: =O52+P51 -> 1075.936 | R52: 2063 | S52: =IF($S$14>$P52,$O52,IF($S$14-$P51>0,$S$14-$P51,0)) -> 0 | T52: =IF($T$14>$P52,$O52,IF($T$14-$P51>0,$T$14-$P51,0)) -> 0 | U52: =IF($U$14>$P52,$O52,IF($U$14-$P51>0,$U$14-$P51,0)) -> 0
... B123: 2134 | C123: =(D124-D123)/D123 -> 0.0076560747 | D123: =E123+D122 -> 202323 | E123: =+E122 -> 1549 | F123: 934 | G123: 19.03 | H123: 9.55 | I123: =+G123+I122 -> 2093.3 | J123: =+H123+J122 -> 1050.5 | K123: =ROUND(G123+H123,2) -> 28.58 | L123: =+K123+L122 -> 3115.22 | O123: =K123 -> 28.58 | P123: =O123+P122 -> 3105.116 | R123: 2134 | S123: =IF($S$14>$P123,$O123,IF($S$14-$P122>0,$S$14-$P122,0)) -> 0 | T123: =IF($T$14>$P123,$O123,IF($T$14-$P122>0,$T$14-$P122,0)) -> 0 | U123: =IF($U$14>$P123,$O123,IF($U$14-$P122>0,$U$14-$P122,0)) -> 0
B124: 2135 | C124: =(#REF!-D124)/D124 -> #REF! | D124: =E124+D123 -> 203872 | E124: =+E123 -> 1549 | F124: 934 | G124: 19.03 | H124: 9.55 | I124: =+G124+I123 -> 2112.33 | J124: =+H124+J123 -> 1060.05 | K124: =ROUND(G124+H124,2) -> 28.58 | L124: =+K124+L123 -> 3143.8 | O124: =K124 -> 28.58 | P124: =O124+P123 -> 3133.696 | R124: 2135 | S124: =IF($S$14>$P124,$O124,IF($S$14-$P123>0,$S$14-$P123,0)) -> 0 | T124: =IF($T$14>$P124,$O124,IF($T$14-$P123>0,$T$14-$P123,0)) -> 0 | U124: =IF($U$14>$P124,$O124,IF($U$14-$P123>0,$U$14-$P123,0)) -> 0

Sheet W-Distribution
B3: Water Distribution OSL Project List
B4: Project Description | D4: Assumed Approach to | F4: Timing | H4: Benefit | J4: Project Costs | L4: Share
B5: Code | C5: Name | D5: Financing | E5: Funding | F5: Start Year | G5: End Year | H5: Benefit to Growth | I5: Benefit to Existing | J5: Total Project Cost ($2026) | K5: Future/Remaining Project Costs ($2026) | L5: Growth Share | M5: Existing Share
B6: 10 | C6: =INDEX('Project List '!$C$6:$C$21, MATCH('W-Distribution'!B6,'Project List '!$B$6:$B$21,0)) -> Zone 4N Additional 500 mm HDPE Feedermain | D6: =INDEX('Project List '!$E$6:$E$21, MATCH(B6,'Project List '!$B$6:$B$21,0)) -> Town | E6: =INDEX('Project List '!$F$6:$F$21, MATCH(B6,'Project List '!$B$6:$B$21,0)) -> OSL | F6: =INDEX('Project List '!$G$6:$G$21, MATCH(B6,'Project List '!$B$6:$B$21,0)) -> 2026 | G6: =INDEX('Project List '!$H$6:$H$21, MATCH(B6,'Project List '!$B$6:$B$21,0)) -> 2026 | H6: =INDEX('Project List '!$I$6:$I$21, MATCH(B6,'Project List '!$B$6:$B$21,0)) -> 1 | I6: =INDEX('Project List '!$J$6:$J$21, MATCH(B6,'Project List '!$B$6:$B$21,0)) -> 0 | J6: =INDEX('Project List '!$X$6:$X$21, MATCH(B6,'Project List '!$B$6:$B$21,0)) -> 3800000 | K6: =INDEX('Project List '!$AH$6:$AH$21, MATCH(B6,'Project List '!$B$6:$B$21,0)) -> 50000 | L6: =INDEX('Project List '!$AI$6:$AI$21, MATCH(B6,'Project List '!$B$6:$B$21,0)) -> 50000 | M6: =INDEX('Project List '!$AJ$6:$AJ$21, MATCH(B6,'Project List '!$B$6:$B$21,0)) -> 0
B7: 13 | C7: =INDEX('Project List '!$C$6:$C$21, MATCH('W-Distribution'!B7,'Project List '!$B$6:$B$21,0)) -> Sheep River Heights Pressure Reducing Valve | D7: =INDEX('Project List '!$E$6:$E$21, MATCH(B7,'Project List '!$B$6:$B$21,0)) -> Town | E7: =INDEX('Project List '!$F$6:$F$21, MATCH(B7,'Project List '!$B$6:$B$21,0)) -> OSL | F7: =INDEX('Project List '!$G$6:$G$21, MATCH(B7,'Project List '!$B$6:$B$21,0)) -> 2030 | G7: =INDEX('Project List '!$H$6:$H$21, MATCH(B7,'Project List '!$B$6:$B$21,0)) -> 2030 | H7: =INDEX('Project List '!$I$6:$I$21, MATCH(B7,'Project List '!$B$6:$B$21,0)) -> 1 | I7: =INDEX('Project List '!$J$6:$J$21, MATCH(B7,'Project List '!$B$6:$B$21,0)) -> 0 | J7: =INDEX('Project List '!$X$6:$X$21, MATCH(B7,'Project List '!$B$6:$B$21,0)) -> 652438.12 | K7: =INDEX('Project List '!$AH$6:$AH$21, MATCH(B7,'Project List '!$B$6:$B$21,0)) -> 652438.12 | L7: =INDEX('Project List '!$AI$6:$AI$21, MATCH(B7,'Project List '!$B$6:$B$21,0)) -> 652438.12 | M7: =INDEX('Project List '!$AJ$6:$AJ$21, MATCH(B7,'Project List '!$B$6:$B$21,0)) -> 0
B8: 14 | C8: =INDEX('Project List '!$C$6:$C$21, MATCH('W-Distribution'!B8,'Project List '!$B$6:$B$21,0)) -> Sheep River CT Pressure Reducing Valve | D8: =INDEX('Project List '!$E$6:$E$21, MATCH(B8,'Project List '!$B$6:$B$21,0)) -> Town | E8: =INDEX('Project List '!$F$6:$F$21, MATCH(B8,'Project List '!$B$6:$B$21,0)) -> OSL | F8: =INDEX('Project List '!$G$6:$G$21, MATCH(B8,'Project List '!$B$6:$B$21,0)) -> 2030 | G8: =INDEX('Project List '!$H$6:$H$21, MATCH(B8,'Project List '!$B$6:$B$21,0)) -> 2030 | H8: =INDEX('Project List '!$I$6:$I$21, MATCH(B8,'Project List '!$B$6:$B$21,0)) -> 1 | I8: =INDEX('Project List '!$J$6:$J$21, MATCH(B8,'Project List '!$B$6:$B$21,0)) -> 0 | J8: =INDEX('Project List '!$X$6:$X$21, MATCH(B8,'Project List '!$B$6:$B$21,0)) -> 330946.88 | K8: =INDEX('Project List '!$AH$6:$AH$21, MATCH(B8,'Project List '!$B$6:$B$21,0)) -> 330946.88 | L8: =INDEX('Project List '!$AI$6:$AI$21, MATCH(B8,'Project List '!$B$6:$B$21,0)) -> 330946.88 | M8: =INDEX('Project List '!$AJ$6:$AJ$21, MATCH(B8,'Project List '!$B$6:$B$21,0)) -> 0
J9: =SUM(J6:J8) -> 4783385 | K9: =SUM(K6:K8) -> 1033385 | L9: =SUM(L6:L8) -> 1033385 | M9: =SUM(M6:M8) -> 0
B16: Inflated Project Costs
B17: Code | C17: Name | D17: 2026 Project Costs | E17: Project Cost in Year of Delivery | G17: Year of Delivery
B18: 10 | C18: Zone 4N Additional 500 mm HDPE Feedermain
B19: 13 | C19: Sheep River Heights Pressure Reducing Valve
B20: 14 | C20: Sheep River CT Pressure Reducing Valve

Sheet Wat Distribution - OSL
B3: Water Distribution - OSL
B4: Town of Okotoks
B5: =Assumptions!B3&" $s" -> 2026 $s
L6: 1 | M6: =(1+M7) -> 1.025 | N6: =+(1+N7)*M6 -> 1.050625 | O6: =+(1+O7)*N6 -> 1.0768906 | P6: =+(1+P7)*O6 -> 1.1038129 | Q6: =+(1+Q7)*P6 -> 1.1314082 | R6: =+(1+R7)*Q6 -> 1.1596934 | S6: =+(1+S7)*R6 -> 1.1886858 | T6: =+(1+T7)*S6 -> 1.2184029 | U6: =+(1+U7)*T6 -> 1.248863 | ... BS6: =+(1+BS7)*BR6 -> 4.2924778
L7: =Assumptions!$B$18 -> 0.025 | M7: =Assumptions!$B$18 -> 0.025 | N7: =Assumptions!$B$18 -> 0.025 | O7: =Assumptions!$B$18 -> 0.025 | P7: =Assumptions!$B$18 -> 0.025 | Q7: =Assumptions!$B$18 -> 0.025 | R7: =Assumptions!$B$18 -> 0.025 | S7: =Assumptions!$B$18 -> 0.025 | ... BS7: =Assumptions!$B$18 -> 0.025
A8: Project # | B8: Category and Project Description | C8: Timing | F8: Off-site Levy Project Costs before Cost Deductions | I8: Benefit to New Development | J8: Benefit to Exisitng Development | K8: Off-site Levy Recoverable | L8: Future Value Compounded Interest
C9: Start Year | D9: End Year | E9: Years | G9: Cost Deductions (Grants, Local Developer Contributions) | H9: Net Project Cost | L9: 0 | M9: 1 | N9: =+M9+1 -> 2 | O9: =+N9+1 -> 3 | P9: =+O9+1 -> 4 | Q9: =+P9+1 -> 5 | R9: =+Q9+1 -> 6 | S9: =+R9+1 -> 7 | T9: =+S9+1 -> 8 | U9: =+T9+1 -> 9 | ... BS9: =+BR9+1 -> 59
F10: =CONCATENATE("(",$B$5,")") -> (2026 $s) | G10: =CONCATENATE("(",$B$5,")") -> (2026 $s) | H10: =CONCATENATE("(",$B$5,")") -> (2026 $s) | K10: =CONCATENATE("(",B5,")") -> (2026 $s) | L10: =Assumptions!B3 -> 2026 | M10: =L10+1 -> 2027 | N10: =M10+1 -> 2028 | O10: =N10+1 -> 2029 | P10: =O10+1 -> 2030 | Q10: =P10+1 -> 2031 | R10: =Q10+1 -> 2032 | S10: =R10+1 -> 2033 | T10: =S10+1 -> 2034 | ... BS10: =BR10+1 -> 2085 | BT10: TOTAL
A11: a | B11: b | C11: c | D11: d | E11: e | F11: f | G11: g | H11: h | I11: i | J11: j | K11: k | N11: =IF(AND(N$10=$C11,N$10=$D11),(($K11/$E11)*N$6),IF(AND(N$10>=$C11,N$10<=$D11),(($K11/$E11)*N$6),""))
A12: 10 | B12: =INDEX('W-Distribution'!$C$6:$C$12,MATCH(Table1957810111213142361727281516171872023[[#This Row],[a]],'W-Distribution'!$B$6:$B$12,0)) -> Zone 4N Additional 500 mm HDPE Feedermain | C12: =INDEX('W-Distribution'!$F$6:$F$12,MATCH(Table1957810111213142361727281516171872023[[#This Row],[a]],'W-Distribution'!$B$6:$B$12,0)) -> 2026 | D12: =INDEX('W-Distribution'!$G$6:$G$12,MATCH(Table1957810111213142361727281516171872023[[#This Row],[a]],'W-Distribution'!$B$6:$B$12,0)) -> 2026 | E12: =(D12-C12)+1 -> 1 | F12: =INDEX('W-Distribution'!$K$6:$K$8,MATCH(Table1957810111213142361727281516171872023[[#This Row],[a]],'W-Distribution'!$B$6:$B$12,0)) -> 50000 | H12: =+Table1957810111213142361727281516171872023[[#This Row],[f]]-Table1957810111213142361727281516171872023[[#This Row],[g]] -> 50000 | I12: =INDEX('W-Distribution'!$H$6:$H$12,MATCH(Table1957810111213142361727281516171872023[[#This Row],[a]],'W-Distribution'!$B$6:$B$12,0)) -> 1 | J12: =1-Table1957810111213142361727281516171872023[[#This Row],[i]] -> 0 | K12: =(Table1957810111213142361727281516171872023[[#This Row],[h]]*Table1957810111213142361727281516171872023[[#This Row],[i]]) -> 50000 | L12: =IF(AND(L$10=$C12,L$10=$D12),(($K12/$E12)*L$6),IF(AND(L$10>=$C12,L$10<=$D12),(($K12/$E12)*L$6),"")) -> 50000 | M12: =IF(AND(M$10=$C12,M$10=$D12),(($K12/$E12)*M$6),IF(AND(M$10>=$C12,M$10<=$D12),(($K12/$E12)*M$6),"")) | N12: =IF(AND(N$10=$C12,N$10=$D12),(($K12/$E12)*N$6),IF(AND(N$10>=$C12,N$10<=$D12),(($K12/$E12)*N$6),"")) | O12: =IF(AND(O$10=$C12,O$10=$D12),(($K12/$E12)*O$6),IF(AND(O$10>=$C12,O$10<=$D12),(($K12/$E12)*O$6),"")) | P12: =IF(AND(P$10=$C12,P$10=$D12),(($K12/$E12)*P$6),IF(AND(P$10>=$C12,P$10<=$D12),(($K12/$E12)*P$6),"")) | Q12: =IF(AND(Q$10=$C12,Q$10=$D12),(($K12/$E12)*Q$6),IF(AND(Q$10>=$C12,Q$10<=$D12),(($K12/$E12)*Q$6),"")) | R12: =IF(AND(R$10=$C12,R$10=$D12),(($K12/$E12)*R$6),IF(AND(R$10>=$C12,R$10<=$D12),(($K12/$E12)*R$6),"")) | S12: =IF(AND(S$10=$C12,S$10=$D12),(($K12/$E12)*S$6),IF(AND(S$10>=$C12,S$10<=$D12),(($K12/$E12)*S$6),"")) | ... BS12: =IF(AND(BS$10=$C12,BS$10=$D12),(($K12/$E12)*BS$6),IF(AND(BS$10>=$C12,BS$10<=$D12),(($K12/$E12)*BS$6),"")) | BT12: =SUM(L12:BS12) -> 50000
A13: 13 | B13: =INDEX('W-Distribution'!$C$6:$C$12,MATCH(Table1957810111213142361727281516171872023[[#This Row],[a]],'W-Distribution'!$B$6:$B$12,0)) -> Sheep River Heights Pressure Reducing Valve | C13: =INDEX('W-Distribution'!$F$6:$F$12,MATCH(Table1957810111213142361727281516171872023[[#This Row],[a]],'W-Distribution'!$B$6:$B$12,0)) -> 2030 | D13: =INDEX('W-Distribution'!$G$6:$G$12,MATCH(Table1957810111213142361727281516171872023[[#This Row],[a]],'W-Distribution'!$B$6:$B$12,0)) -> 2030 | E13: =(D13-C13)+1 -> 1 | F13: =INDEX('W-Distribution'!$K$6:$K$8,MATCH(Table1957810111213142361727281516171872023[[#This Row],[a]],'W-Distribution'!$B$6:$B$12,0)) -> 652438.12 | H13: =+Table1957810111213142361727281516171872023[[#This Row],[f]]-Table1957810111213142361727281516171872023[[#This Row],[g]] -> 652438.12 | I13: =INDEX('W-Distribution'!$H$6:$H$12,MATCH(Table1957810111213142361727281516171872023[[#This Row],[a]],'W-Distribution'!$B$6:$B$12,0)) -> 1 | J13: =1-Table1957810111213142361727281516171872023[[#This Row],[i]] -> 0 | K13: =(Table1957810111213142361727281516171872023[[#This Row],[h]]*Table1957810111213142361727281516171872023[[#This Row],[i]]) -> 652438.12 | L13: =IF(AND(L$10=$C13,L$10=$D13),(($K13/$E13)*L$6),IF(AND(L$10>=$C13,L$10<=$D13),(($K13/$E13)*L$6),"")) | M13: =IF(AND(M$10=$C13,M$10=$D13),(($K13/$E13)*M$6),IF(AND(M$10>=$C13,M$10<=$D13),(($K13/$E13)*M$6),"")) | N13: =IF(AND(N$10=$C13,N$10=$D13),(($K13/$E13)*N$6),IF(AND(N$10>=$C13,N$10<=$D13),(($K13/$E13)*N$6),"")) | O13: =IF(AND(O$10=$C13,O$10=$D13),(($K13/$E13)*O$6),IF(AND(O$10>=$C13,O$10<=$D13),(($K13/$E13)*O$6),"")) | P13: =IF(AND(P$10=$C13,P$10=$D13),(($K13/$E13)*P$6),IF(AND(P$10>=$C13,P$10<=$D13),(($K13/$E13)*P$6),"")) -> 720169.61 | Q13: =IF(AND(Q$10=$C13,Q$10=$D13),(($K13/$E13)*Q$6),IF(AND(Q$10>=$C13,Q$10<=$D13),(($K13/$E13)*Q$6),"")) | R13: =IF(AND(R$10=$C13,R$10=$D13),(($K13/$E13)*R$6),IF(AND(R$10>=$C13,R$10<=$D13),(($K13/$E13)*R$6),"")) | S13: =IF(AND(S$10=$C13,S$10=$D13),(($K13/$E13)*S$6),IF(AND(S$10>=$C13,S$10<=$D13),(($K13/$E13)*S$6),"")) | ... BS13: =IF(AND(BS$10=$C13,BS$10=$D13),(($K13/$E13)*BS$6),IF(AND(BS$10>=$C13,BS$10<=$D13),(($K13/$E13)*BS$6),"")) | BT13: =SUM(L13:BS13) -> 720169.61
A14: 14 | B14: =INDEX('W-Distribution'!$C$6:$C$12,MATCH(Table1957810111213142361727281516171872023[[#This Row],[a]],'W-Distribution'!$B$6:$B$12,0)) -> Sheep River CT Pressure Reducing Valve | C14: =INDEX('W-Distribution'!$F$6:$F$12,MATCH(Table1957810111213142361727281516171872023[[#This Row],[a]],'W-Distribution'!$B$6:$B$12,0)) -> 2030 | D14: =INDEX('W-Distribution'!$G$6:$G$12,MATCH(Table1957810111213142361727281516171872023[[#This Row],[a]],'W-Distribution'!$B$6:$B$12,0)) -> 2030 | E14: =(D14-C14)+1 -> 1 | F14: =INDEX('W-Distribution'!$K$6:$K$8,MATCH(Table1957810111213142361727281516171872023[[#This Row],[a]],'W-Distribution'!$B$6:$B$12,0)) -> 330946.88 | H14: =+Table1957810111213142361727281516171872023[[#This Row],[f]]-Table1957810111213142361727281516171872023[[#This Row],[g]] -> 330946.88 | I14: =INDEX('W-Distribution'!$H$6:$H$12,MATCH(Table1957810111213142361727281516171872023[[#This Row],[a]],'W-Distribution'!$B$6:$B$12,0)) -> 1 | J14: =1-Table1957810111213142361727281516171872023[[#This Row],[i]] -> 0 | K14: =(Table1957810111213142361727281516171872023[[#This Row],[h]]*Table1957810111213142361727281516171872023[[#This Row],[i]]) -> 330946.88 | L14: =IF(AND(L$10=$C14,L$10=$D14),(($K14/$E14)*L$6),IF(AND(L$10>=$C14,L$10<=$D14),(($K14/$E14)*L$6),"")) | M14: =IF(AND(M$10=$C14,M$10=$D14),(($K14/$E14)*M$6),IF(AND(M$10>=$C14,M$10<=$D14),(($K14/$E14)*M$6),"")) | N14: =IF(AND(N$10=$C14,N$10=$D14),(($K14/$E14)*N$6),IF(AND(N$10>=$C14,N$10<=$D14),(($K14/$E14)*N$6),"")) | O14: =IF(AND(O$10=$C14,O$10=$D14),(($K14/$E14)*O$6),IF(AND(O$10>=$C14,O$10<=$D14),(($K14/$E14)*O$6),"")) | P14: =IF(AND(P$10=$C14,P$10=$D14),(($K14/$E14)*P$6),IF(AND(P$10>=$C14,P$10<=$D14),(($K14/$E14)*P$6),"")) -> 365303.43 | Q14: =IF(AND(Q$10=$C14,Q$10=$D14),(($K14/$E14)*Q$6),IF(AND(Q$10>=$C14,Q$10<=$D14),(($K14/$E14)*Q$6),"")) | R14: =IF(AND(R$10=$C14,R$10=$D14),(($K14/$E14)*R$6),IF(AND(R$10>=$C14,R$10<=$D14),(($K14/$E14)*R$6),"")) | S14: =IF(AND(S$10=$C14,S$10=$D14),(($K14/$E14)*S$6),IF(AND(S$10>=$C14,S$10<=$D14),(($K14/$E14)*S$6),"")) | ... BS14: =IF(AND(BS$10=$C14,BS$10=$D14),(($K14/$E14)*BS$6),IF(AND(BS$10>=$C14,BS$10<=$D14),(($K14/$E14)*BS$6),"")) | BT14: =SUM(L14:BS14) -> 365303.43
F15: =SUM(Table1957810111213142361727281516171872023[f]) -> 1033385 | K15: =SUM(Table1957810111213142361727281516171872023[k]) -> 1033385 | L15: =+SUM(L12:L14) -> 50000 | M15: =+SUM(M12:M14) -> 0 | N15: =+SUM(N12:N14) -> 0 | O15: =+SUM(O12:O14) -> 0 | P15: =+SUM(P12:P14) -> 1085473 | Q15: =+SUM(Q12:Q14) -> 0 | R15: =+SUM(R12:R14) -> 0 | S15: =+SUM(S12:S14) -> 0 | ... BS15: =+SUM(BS12:BS14) -> 0 | BT15: =SUM(BT12:BT14) -> 1135473
B20: 1 | C20: 2 | D20: 3 | E20: 4 | F20: 5 | G20: 6 | I20: 7 | J20: 8 | K20: 9 | L20: 10 | M20: 11 | N20: 12
B21: Year Beginning | C21: Off-site Levy Fee Reserve Fund Opening Balance | D21: Debenture Principal Advanced Remaining | E21: Existing Debenture Payments (Growth Portion Only) | F21: Growth-related Expenditures | G21: Hectares per year | H21: Inflation Rate | J21: Anticipated Fee Revenue | K21: Cumulative Surplus (Deficit) | L21: Reserve Fund Interest Accural | N21: Off-site Levy Fee Reserve Fund Closing Balance
I22: 3444.5159
L24: + | M24: -
D25: + | E25: - | F25: - | I25: starting | L25: =Assumptions!$B$6 -> 0.02674 | M25: =+Assumptions!$B$7 -> 0.04496
I26: =L10 -> 2026 | J26: [6 x 7] | K26: [2+3-4-5+8] | N26: [9+10+11]
B28: 2023
B29: =+B28+1 -> 2024
B30: =+B29+1 -> 2025
