Workbook
Name a: #REF!
Name Beg_Bal: #REF!
Name Buddata: #REF!
Name Capdata1: #REF!
Name CFWD: #REF!
Name CondoALC: #REF!
Name Contingency: #REF!
Name Cum_Int: #REF!
Name Data: #REF!
Name del: #REF!
Name End_Bal: #REF!
Name Engineering: #REF!
Name Extra_Pay: #REF!
Name fgdsfdgf: #REF!
Name fgdsfdgf: #REF!
Name fgdsfdgf: #REF!
Name fgdsfdgf: #REF!
Name fgdsfdgf: #REF!
Name Full_Print: #REF!
Name Header_Row: ROW(#REF!)
Name Int: #REF!
Name INTBAL: #REF!
Name Interest_Rate: #REF!
Name INVENTORY96: #REF!
Name INVENTORY97: #REF!
Name INVENTORY98: #REF!
Name JMH_Markups: #REF!
Name LAND4SALE96: #REF!
Name LAND4SALE97: #REF!
Name LANDREDUCE97: #REF!
Name Last_Row: IF('Cost Recovery Timing'!Values_Entered,[0]!Header_Row+'Cost Recovery Timing'!Number_of_Payments,[0]!Header_Row)
Name Last_Row: IF('Project List '!Values_Entered,[0]!Header_Row+'Project List '!Number_of_Payments,[0]!Header_Row)
Name Last_Row: IF('Transportation - OSL'!Values_Entered,[0]!Header_Row+'Transportation - OSL'!Number_of_Payments,[0]!Header_Row)
Name Last_Row: IF('Transportation - Oversize'!Values_Entered,[0]!Header_Row+'Transportation - Oversize'!Number_of_Payments,[0]!Header_Row)
Name Last_Row: IF('T-Transportation'!Values_Entered,[0]!Header_Row+'T-Transportation'!Number_of_Payments,[0]!Header_Row)
Name Last_Row: IF(Values_Entered,Header_Row+Number_of_Payments,Header_Row)
Name Loan_Amount: #REF!
Name Loan_Start: #REF!
Name Loan_Years: #REF!
Name Num_Pmt_Per_Year: #REF!
Name Number_of_Payments: MATCH(0.01,[0]!End_Bal,-1)+1
Name Number_of_Payments: MATCH(0.01,[0]!End_Bal,-1)+1
Name Number_of_Payments: MATCH(0.01,[0]!End_Bal,-1)+1
Name Number_of_Payments: MATCH(0.01,[0]!End_Bal,-1)+1
Name Number_of_Payments: MATCH(0.01,[0]!End_Bal,-1)+1
Name Number_of_Payments: MATCH(0.01,End_Bal,-1)+1
Name Pay_Date: #REF!
Name Pay_Num: #REF!
Name Payment_Date: DATE(YEAR([0]!Loan_Start),MONTH([0]!Loan_Start)+Payment_Number,DAY([0]!Loan_Start))
Name Payment_Date: DATE(YEAR([0]!Loan_Start),MONTH([0]!Loan_Start)+Payment_Number,DAY([0]!Loan_Start))
Name Payment_Date: DATE(YEAR([0]!Loan_Start),MONTH([0]!Loan_Start)+Payment_Number,DAY([0]!Loan_Start))
Name Payment_Date: DATE(YEAR([0]!Loan_Start),MONTH([0]!Loan_Start)+Payment_Number,DAY([0]!Loan_Start))
Name Payment_Date: DATE(YEAR([0]!Loan_Start),MONTH([0]!Loan_Start)+Payment_Number,DAY([0]!Loan_Start))
Name Payment_Date: DATE(YEAR([0]!Loan_Start),MONTH([0]!Loan_Start)+Payment_Number,DAY([0]!Loan_Start))
Name Payment_Date: DATE(YEAR([0]!Loan_Start),MONTH([0]!Loan_Start)+Payment_Number,DAY([0]!Loan_Start))
Name Payment_Date: DATE(YEAR(Loan_Start),MONTH(Loan_Start)+Payment_Number,DAY(Loan_Start))
Name payments_per_year: #REF!
Name payments_per_year: #REF!
Name payments_per_year: #REF!
Name payments_per_year: #REF!

Sheet Read Me
A1: HOW TO USE THIS DOCUMENT
A2: This workbook contains the financial models used to determine the Off-site Levy (OSL) rates as a part of the 2026 Off-site Levy Bylaw update. This financial model uses the latest information and assumptions available at the time of the update. The following tables describe the tabs contained within this workbook:
A4: Tab Title | B4: Description
A5: Assumptions | B5: This tab provides the assumptions that feed into the OSL infrastruture category models including interest & inflation rates, project contingencies, and 2025 OSL Reserve Fund Balances.
A6: Oversize Costs | B6: 2026 City of Calgary Development Agreement Rates for Sanitary Collection and Transportation utilitzed to calculate improvements beyond local development costs to be recovered through the OSL.
A7: 2025 OSL Account Detail | B7: 2025 Off-Site Levy Fund Balances, Payments, agreements executed, and project expenditures, used to calculate levy fund opening balance at start of 2026 for each infrastructure category.
A8: 2026 Collections Summary | B8: 2026 Off-Site Levy fund payments collected to date, agreements executed to date, and upcoming agreements to be executed in 2026, used in Cost Recovery Timing tab for remaining 2026 growth projection.
A9: Debentures for OSL Model | B9: Loan schedules from debt advanced by the Town to finance infrastructure, including annual interest and principle payments.
A10: Cost Recovery Timing | B10: Population growth table for Okotoks based on Growth Projections from Okotoks Growth Strategy (2025). Cost Recovery approach and contributing hectares varies for each infrastructure category.
A11: Project List | B11: Includes all project information including descriptions, timing, allocation of benefit, and costs.
A13: Model Tabs | B13: The models function by using a goal seek to determine levy rate (cell I28) based on setting the Off-site Levy Fee Reserve Fund Closing Balance (column N) to be zero in the balance year. Steps: 1. Data tab > What-If Analysis > Goal Seek 2. Set cell: balance year in Column N To value: 0 By changing cell: I28 3. Click OK and accept new results

Sheet Assumptions
A1: MODEL ASSUMPTIONS
A3: Current Year | B3: 2026 | C3: enter figure
G4: Bank of Canada:
A5: Interest Rates (%) | D5: Rational
A6: Interest Earned - Positive (+) | B6: =AVERAGE(K15:K19) -> 0.02674 | C6: enter figure | D6: Based on average interest earned on positive fund balances from Town of Okotoks (2021-2025)
A7: Interest Paid on Debt or Deficit (-) - TOWN FRONT ENDED | B7: =AVERAGE(K8:K12) -> 0.04496 | C7: enter figure | D7: Based on 5-year Average (2021-2025) - Alberta Capital Finance (25-year debenture) | G7: Alberta Capital Finance: | J7: Year | K7: 25 Year Debenture
A8: Interest Paid on Debt or Deficit (-) - DEVELOPER FRONT ENDED | B8: 0 | C8: enter figure | D8: Carrying costs are not assumed for infrastructure front-ended by developer | J8: 2025 | K8: 0.0461
J9: 2024 | K9: 0.0519
A10: Project Stage | B10: Contingency (%) | J10: 2023 | K10: 0.0527
B11: Low | C11: High | J11: 2022 | K11: 0.0462
A12: Conceptual | B12: 0.35 | C12: 0.5 | J12: 2021 | K12: 0.0279
A13: Preliminary Design | B13: 0.25 | C13: 0.35
A14: Detailed Design | B14: 0.15 | C14: 0.25 | G14: Interest Earned Rate | J14: Year | K14: Interest Earned
A15: Tendered | B15: 0.1 | C15: 0.15 | J15: 2025 | K15: 0.0306
J16: 2024 | K16: 0.0275
A17: Inflation Rates (%) | J17: 2023 | K17: 0.0285
A18: Project Cost Inflation - Applied to Future Project Costs - | B18: 0.025 | J18: 2022 | K18: 0.022
A19: Project Cost Inflation - to bring Project Costs to $2026 (save for Recreation Projects) - | B19: 0.025 | J19: 2021 | K19: 0.0251
A20: Project Cost Inflation - to bring Project Costs to $2026 (for Recreation Projects) - | B20: 0.05
A22: Inflation Rates (%) - Levy Rate
A23: 25 year window | B23: 0.02
A25: Payment Timing - Off-site Levies
A26: Within 2 Years | B26: 0.4
A27: Within 1 Year | B27: 0.3
A28: Upon Execution | B28: 0.3
A30: End of 2025 Fund Balances
A31: Transportation | B31: ='2026 Collections Summary'!B2 -> -575006.8
A32: Transportation Oversize | B32: 0

Sheet Oversize Costs
B2: Transportation Oversize
B3: Oversizing Assumptions - Unit Price Inputs
B4: 2026 City of Calgary DA Rates
C5: Full Arterial Cost (6 lane) = | D5: 5874
C6: Plus 10% for onsite stormwater = | D6: =D5*1.1 -> 6461.4
C8: Full Arterial Cost (4 lane) = | D8: 4736
C9: Plus 10% for onsite stormwater = | D9: =D8*1.1 -> 5209.6
C11: Full Cost Collector = | D11: 2534
C12: Plus 10% for onsite stormwater = | D12: =D11*1.1 -> 2787.4

Sheet 2026 Collections Summary
A1: Off-Site Levy Fund Balances as at December 31, 2025
A2: Transportation Levy | B2: -575006.8
A4: 2026 Assumed Agreements Executed
A5: Land Description | B5: Transportation Levy | C5: Development Area (ha)
A6: Burnswest Phase 2 | B6: =83940*C6 -> 1585206.9 | C6: 18.885
A7: Ridgemont Phase 1 | B7: =83940*C7 -> 1042366.9 | C7: 12.418
A8: Tillotson Phase 2 | B8: =83940*C8 -> 816232.56 | C8: 9.724
A9: Total to Date | B9: =SUM(B6:B8) -> 3443806.4 | C9: =SUM(C6:C8) -> 41.027
A10: D'Arcy Phase 12 | C10: 4.664
A11: D'Arcy Phase 18 | C11: 3.79
A12: D'Arcy Phase 19 | C12: 3.34
A13: Wedderburn Phase 11 | C13: 6.682
A14: Assumed Agreements for Remainder of 2026 | C14: =SUM(C10:C13) -> 18.476 | D14: <- Based on received subdivision applications
A16: 2026 Payments Collected (1st Payment of 2026 Agreements Executed and 2nd Payment of 2025 Agreements Executed)
B17: Transportation Levy
A18: 2025 Agreement Carry-over | B18: =B28 -> 518123.03
A19: 2026 Agreement Collections (50%) | B19: =B9/2 -> 1721903.2 | C19: <- 2026 agreements executed are only collected at 50% in year 1
A20: 2026 Collections | B20: =SUM(B18:B19) -> 2240026.2
A22: 2026 Payments Collected (2025 Agreements - 2nd Payments)
A23: Land Description | B23: Transportation Levy | C23: Development Area (ha)
A24: D'Arcy Phase 11 (MR) | B24: 22178.235 | C24: 0.539
A25: D'Arcy Phase 14 | B25: 53861.425 | C25: 1.309
A26: D'Arcy Phase 15 | B26: 311441.65 | C26: 7.569
A27: Wedderburn Phase 8 | B27: 130641.73 | C27: 3.175
A28: Total | B28: =SUM(B24:B27) -> 518123.03 | C28: =SUM(C24:C27) -> 12.592
A30: 2027 Collections
B31: Transportation Levy
A32: 2026 Agreement Collections (50%) | B32: =B9/2 -> 1721903.2
A33: 2027 Collections | B33: =SUM(B32:B32) -> 1721903.2

Sheet Cost Recovery Timing
B3: Baseline population taken from Alberta Dashboard | Q3: Assumed Remaining 2026 Growth (June 1, 2026 to December 31, 2026): | R3: ='2026 Collections Summary'!$C$14 -> 18.476
B4: Source: https://regionaldashboard.alberta.ca/region/okotoks/population/#/?from=2021&to=2025
R7: =SUM(R15:R124) -> 714.5
R8: =R14 -> 714.5
B11: Population and Emploiyment Growth Projections - Based on Okotoks Growth Strategy (2024) | N11: Assumed Annual Growth - Mid 2026 Onwards (ha) | Q11: Cost Recovery Timing
B12: Year | C12: Population Growth Rate | D12: Residential Population | E12: Annual Population Growth | F12: Annual Employment Growth | G12: Annual Residential Hectare Growth (ha) | H12: Annual Employment Hectare Growth (ha) | I12: Cumulative Residential (ha) | J12: Cumulative Non-Residential (ha) | K12: Annual total (ha) | L12: Cumulative total (ha) | N12: Mid 2026 Totals (ha) | Q12: Infrastructure Category | R12: Transportation - 25 Year Revolving
N13: Annual | O13: Cumulative
B14: 2025 | C14: =(D15-D14)/D14 -> 0.046263664 | D14: 33482 | E14: 1549 | F14: 934 | G14: 19.03 | H14: 9.55 | I14: =+G14+I13 -> 19.03 | J14: =+H14+J13 -> 9.55 | K14: =ROUND(G14+H14,2) -> 28.58 | L14: 0 | N14: 0 | O14: 0 | Q14: Assumed Total Contributing Hectares | R14: 714.5
B15: 2026 | C15: =(D16-D15)/D15 -> 0.044217978 | D15: =E15+D14 -> 35031 | E15: =+E14 -> 1549 | F15: 934 | G15: 19.03 | H15: 9.55 | I15: =+G15+I14 -> 38.06 | J15: =+H15+J14 -> 19.1 | K15: =ROUND(G15+H15,2) -> 28.58 | L15: =+K15+L14 -> 28.58 | N15: =R3 -> 18.476 | O15: =N15 -> 18.476 | Q15: 2026 | R15: =IF($R$14>O15,N15,IF($R$14-O14>0,$R$14-O14,0)) -> 18.476
B16: 2027 | C16: =(D17-D16)/D16 -> 0.042345544 | D16: =E16+D15 -> 36580 | E16: =+E15 -> 1549 | F16: 934 | G16: 19.03 | H16: 9.55 | I16: =+G16+I15 -> 57.09 | J16: =+H16+J15 -> 28.65 | K16: =ROUND(G16+H16,2) -> 28.58 | L16: =+K16+L15 -> 57.16 | N16: =K16 -> 28.58 | O16: =N16+O15 -> 47.056 | Q16: 2027 | R16: =IF($R$14>O16,N16,IF($R$14-O15>0,$R$14-O15,0)) -> 28.58
B17: 2028 | C17: =(D18-D17)/D17 -> 0.040625246 | D17: =E17+D16 -> 38129 | E17: =+E16 -> 1549 | F17: 934 | G17: 19.03 | H17: 9.55 | I17: =+G17+I16 -> 76.12 | J17: =+H17+J16 -> 38.2 | K17: =ROUND(G17+H17,2) -> 28.58 | L17: =+K17+L16 -> 85.74 | N17: =K17 -> 28.58 | O17: =N17+O16 -> 75.636 | Q17: 2028 | R17: =IF($R$14>O17,N17,IF($R$14-O16>0,$R$14-O16,0)) -> 28.58
B18: 2029 | C18: =(D19-D18)/D18 -> 0.039039266 | D18: =E18+D17 -> 39678 | E18: =+E17 -> 1549 | F18: 934 | G18: 19.03 | H18: 9.55 | I18: =+G18+I17 -> 95.15 | J18: =+H18+J17 -> 47.75 | K18: =ROUND(G18+H18,2) -> 28.58 | L18: =+K18+L17 -> 114.32 | N18: =K18 -> 28.58 | O18: =N18+O17 -> 104.216 | Q18: 2029 | R18: =IF($R$14>O18,N18,IF($R$14-O17>0,$R$14-O17,0)) -> 28.58
B19: 2030 | C19: =(D20-D19)/D19 -> 0.037572465 | D19: =E19+D18 -> 41227 | E19: =+E18 -> 1549 | F19: 934 | G19: 19.03 | H19: 9.55 | I19: =+G19+I18 -> 114.18 | J19: =+H19+J18 -> 57.3 | K19: =ROUND(G19+H19,2) -> 28.58 | L19: =+K19+L18 -> 142.9 | N19: =K19 -> 28.58 | O19: =N19+O18 -> 132.796 | Q19: 2030 | R19: =IF($R$14>O19,N19,IF($R$14-O18>0,$R$14-O18,0)) -> 28.58
B20: 2031 | C20: =(D21-D20)/D20 -> 0.036211895 | D20: =E20+D19 -> 42776 | E20: =+E19 -> 1549 | F20: 934 | G20: 19.03 | H20: 9.55 | I20: =+G20+I19 -> 133.21 | J20: =+H20+J19 -> 66.85 | K20: =ROUND(G20+H20,2) -> 28.58 | L20: =+K20+L19 -> 171.48 | N20: =K20 -> 28.58 | O20: =N20+O19 -> 161.376 | Q20: 2031 | R20: =IF($R$14>O20,N20,IF($R$14-O19>0,$R$14-O19,0)) -> 28.58
B21: 2032 | C21: =(D22-D21)/D21 -> 0.034946418 | D21: =E21+D20 -> 44325 | E21: =+E20 -> 1549 | F21: 934 | G21: 19.03 | H21: 9.55 | I21: =+G21+I20 -> 152.24 | J21: =+H21+J20 -> 76.4 | K21: =ROUND(G21+H21,2) -> 28.58 | L21: =+K21+L20 -> 200.06 | N21: =K21 -> 28.58 | O21: =N21+O20 -> 189.956 | Q21: 2032 | R21: =IF($R$14>O21,N21,IF($R$14-O20>0,$R$14-O20,0)) -> 28.58
B22: 2033 | C22: =(D23-D22)/D22 -> 0.033766404 | D22: =E22+D21 -> 45874 | E22: =+E21 -> 1549 | F22: 934 | G22: 19.03 | H22: 9.55 | I22: =+G22+I21 -> 171.27 | J22: =+H22+J21 -> 85.95 | K22: =ROUND(G22+H22,2) -> 28.58 | L22: =+K22+L21 -> 228.64 | N22: =K22 -> 28.58 | O22: =N22+O21 -> 218.536 | Q22: 2033 | R22: =IF($R$14>O22,N22,IF($R$14-O21>0,$R$14-O21,0)) -> 28.58
B23: 2034 | C23: =(D24-D23)/D23 -> 0.032663476 | D23: =E23+D22 -> 47423 | E23: =+E22 -> 1549 | F23: 934 | G23: 19.03 | H23: 9.55 | I23: =+G23+I22 -> 190.3 | J23: =+H23+J22 -> 95.5 | K23: =ROUND(G23+H23,2) -> 28.58 | L23: =+K23+L22 -> 257.22 | N23: =K23 -> 28.58 | O23: =N23+O22 -> 247.116 | Q23: 2034 | R23: =IF($R$14>O23,N23,IF($R$14-O22>0,$R$14-O22,0)) -> 28.58
B24: 2035 | C24: =(D25-D24)/D24 -> 0.031630319 | D24: =E24+D23 -> 48972 | E24: =+E23 -> 1549 | F24: 934 | G24: 19.03 | H24: 9.55 | I24: =+G24+I23 -> 209.33 | J24: =+H24+J23 -> 105.05 | K24: =ROUND(G24+H24,2) -> 28.58 | L24: =+K24+L23 -> 285.8 | N24: =K24 -> 28.58 | O24: =N24+O23 -> 275.696 | Q24: 2035 | R24: =IF($R$14>O24,N24,IF($R$14-O23>0,$R$14-O23,0)) -> 28.58
B25: 2036 | C25: =(D26-D25)/D25 -> 0.030660517 | D25: =E25+D24 -> 50521 | E25: =+E24 -> 1549 | F25: 934 | G25: 19.03 | H25: 9.55 | I25: =+G25+I24 -> 228.36 | J25: =+H25+J24 -> 114.6 | K25: =ROUND(G25+H25,2) -> 28.58 | L25: =+K25+L24 -> 314.38 | N25: =K25 -> 28.58 | O25: =N25+O24 -> 304.276 | Q25: 2036 | R25: =IF($R$14>O25,N25,IF($R$14-O24>0,$R$14-O24,0)) -> 28.58
B26: 2037 | C26: =(D27-D26)/D26 -> 0.029748416 | D26: =E26+D25 -> 52070 | E26: =+E25 -> 1549 | F26: 934 | G26: 19.03 | H26: 9.55 | I26: =+G26+I25 -> 247.39 | J26: =+H26+J25 -> 124.15 | K26: =ROUND(G26+H26,2) -> 28.58 | L26: =+K26+L25 -> 342.96 | N26: =K26 -> 28.58 | O26: =N26+O25 -> 332.856 | Q26: 2037 | R26: =IF($R$14>O26,N26,IF($R$14-O25>0,$R$14-O25,0)) -> 28.58
B27: 2038 | C27: =(D28-D27)/D27 -> 0.028889013 | D27: =E27+D26 -> 53619 | E27: =+E26 -> 1549 | F27: 934 | G27: 19.03 | H27: 9.55 | I27: =+G27+I26 -> 266.42 | J27: =+H27+J26 -> 133.7 | K27: =ROUND(G27+H27,2) -> 28.58 | L27: =+K27+L26 -> 371.54 | N27: =K27 -> 28.58 | O27: =N27+O26 -> 361.436 | Q27: 2038 | R27: =IF($R$14>O27,N27,IF($R$14-O26>0,$R$14-O26,0)) -> 28.58
... B39: 2050 | C39: =(D40-D39)/D39 -> 0.021452214 | D39: =E39+D38 -> 72207 | E39: =+E38 -> 1549 | F39: 934 | G39: 19.03 | H39: 9.55 | I39: =+G39+I38 -> 494.78 | J39: =+H39+J38 -> 248.3 | K39: =ROUND(G39+H39,2) -> 28.58 | L39: =+K39+L38 -> 714.5 | N39: =K39 -> 28.58 | O39: =N39+O38 -> 704.396 | Q39: 2050 | R39: =IF($R$14>O39,N39,IF($R$14-O38>0,$R$14-O38,0)) -> 28.58
A40: 25yr Window | B40: 2051 | C40: =(D41-D40)/D40 -> 0.021001681 | D40: =E40+D39 -> 73756 | E40: =+E39 -> 1549 | F40: 934 | G40: 19.03 | H40: 9.55 | I40: =+G40+I39 -> 513.81 | J40: =+H40+J39 -> 257.85 | K40: =ROUND(G40+H40,2) -> 28.58 | L40: =+K40+L39 -> 743.08 | N40: =K40 -> 28.58 | O40: =N40+O39 -> 732.976 | Q40: 2051 | R40: =IF($R$14>O40,N40,IF($R$14-O39>0,$R$14-O39,0)) -> 10.104
B41: 2052 | C41: =(D42-D41)/D41 -> 0.020569683 | D41: =E41+D40 -> 75305 | E41: =+E40 -> 1549 | F41: 934 | G41: 19.03 | H41: 9.55 | I41: =+G41+I40 -> 532.84 | J41: =+H41+J40 -> 267.4 | K41: =ROUND(G41+H41,2) -> 28.58 | L41: =+K41+L40 -> 771.66 | N41: =K41 -> 28.58 | O41: =N41+O40 -> 761.556 | Q41: 2052 | R41: =IF($R$14>O41,N41,IF($R$14-O40>0,$R$14-O40,0)) -> 0
B42: 2053 | C42: =(D43-D42)/D42 -> 0.020155099 | D42: =E42+D41 -> 76854 | E42: =+E41 -> 1549 | F42: 934 | G42: 19.03 | H42: 9.55 | I42: =+G42+I41 -> 551.87 | J42: =+H42+J41 -> 276.95 | K42: =ROUND(G42+H42,2) -> 28.58 | L42: =+K42+L41 -> 800.24 | N42: =K42 -> 28.58 | O42: =N42+O41 -> 790.136 | Q42: 2053 | R42: =IF($R$14>O42,N42,IF($R$14-O41>0,$R$14-O41,0)) -> 0
B43: 2054 | C43: =(D44-D43)/D43 -> 0.019756897 | D43: =E43+D42 -> 78403 | E43: =+E42 -> 1549 | F43: 934 | G43: 19.03 | H43: 9.55 | I43: =+G43+I42 -> 570.9 | J43: =+H43+J42 -> 286.5 | K43: =ROUND(G43+H43,2) -> 28.58 | L43: =+K43+L42 -> 828.82 | N43: =K43 -> 28.58 | O43: =N43+O42 -> 818.716 | Q43: 2054 | R43: =IF($R$14>O43,N43,IF($R$14-O42>0,$R$14-O42,0)) -> 0
B44: 2055 | C44: =(D45-D44)/D44 -> 0.019374124 | D44: =E44+D43 -> 79952 | E44: =+E43 -> 1549 | F44: 934 | G44: 19.03 | H44: 9.55 | I44: =+G44+I43 -> 589.93 | J44: =+H44+J43 -> 296.05 | K44: =ROUND(G44+H44,2) -> 28.58 | L44: =+K44+L43 -> 857.4 | N44: =K44 -> 28.58 | O44: =N44+O43 -> 847.296 | Q44: 2055 | R44: =IF($R$14>O44,N44,IF($R$14-O43>0,$R$14-O43,0)) -> 0
B45: 2056 | C45: =(D46-D45)/D45 -> 0.019005902 | D45: =E45+D44 -> 81501 | E45: =+E44 -> 1549 | F45: 934 | G45: 19.03 | H45: 9.55 | I45: =+G45+I44 -> 608.96 | J45: =+H45+J44 -> 305.6 | K45: =ROUND(G45+H45,2) -> 28.58 | L45: =+K45+L44 -> 885.98 | N45: =K45 -> 28.58 | O45: =N45+O44 -> 875.876 | Q45: 2056 | R45: =IF($R$14>O45,N45,IF($R$14-O44>0,$R$14-O44,0)) -> 0
B46: 2057 | C46: =(D47-D46)/D46 -> 0.018651415 | D46: =E46+D45 -> 83050 | E46: =+E45 -> 1549 | F46: 934 | G46: 19.03 | H46: 9.55 | I46: =+G46+I45 -> 627.99 | J46: =+H46+J45 -> 315.15 | K46: =ROUND(G46+H46,2) -> 28.58 | L46: =+K46+L45 -> 914.56 | N46: =K46 -> 28.58 | O46: =N46+O45 -> 904.456 | Q46: 2057 | R46: =IF($R$14>O46,N46,IF($R$14-O45>0,$R$14-O45,0)) -> 0
B47: 2058 | C47: =(D48-D47)/D47 -> 0.018309909 | D47: =E47+D46 -> 84599 | E47: =+E46 -> 1549 | F47: 934 | G47: 19.03 | H47: 9.55 | I47: =+G47+I46 -> 647.02 | J47: =+H47+J46 -> 324.7 | K47: =ROUND(G47+H47,2) -> 28.58 | L47: =+K47+L46 -> 943.14 | N47: =K47 -> 28.58 | O47: =N47+O46 -> 933.036 | Q47: 2058 | R47: =IF($R$14>O47,N47,IF($R$14-O46>0,$R$14-O46,0)) -> 0
B48: 2059 | C48: =(D49-D48)/D48 -> 0.017980684 | D48: =E48+D47 -> 86148 | E48: =+E47 -> 1549 | F48: 934 | G48: 19.03 | H48: 9.55 | I48: =+G48+I47 -> 666.05 | J48: =+H48+J47 -> 334.25 | K48: =ROUND(G48+H48,2) -> 28.58 | L48: =+K48+L47 -> 971.72 | N48: =K48 -> 28.58 | O48: =N48+O47 -> 961.616 | Q48: 2059 | R48: =IF($R$14>O48,N48,IF($R$14-O47>0,$R$14-O47,0)) -> 0
B49: 2060 | C49: =(D50-D49)/D49 -> 0.01766309 | D49: =E49+D48 -> 87697 | E49: =+E48 -> 1549 | F49: 934 | G49: 19.03 | H49: 9.55 | I49: =+G49+I48 -> 685.08 | J49: =+H49+J48 -> 343.8 | K49: =ROUND(G49+H49,2) -> 28.58 | L49: =+K49+L48 -> 1000.3 | N49: =K49 -> 28.58 | O49: =N49+O48 -> 990.196 | Q49: 2060 | R49: =IF($R$14>O49,N49,IF($R$14-O48>0,$R$14-O48,0)) -> 0
B50: 2061 | C50: =(D51-D50)/D50 -> 0.01735652 | D50: =E50+D49 -> 89246 | E50: =+E49 -> 1549 | F50: 934 | G50: 19.03 | H50: 9.55 | I50: =+G50+I49 -> 704.11 | J50: =+H50+J49 -> 353.35 | K50: =ROUND(G50+H50,2) -> 28.58 | L50: =+K50+L49 -> 1028.88 | N50: =K50 -> 28.58 | O50: =N50+O49 -> 1018.776 | Q50: 2061 | R50: =IF($R$14>O50,N50,IF($R$14-O49>0,$R$14-O49,0)) -> 0
B51: 2062 | C51: =(D52-D51)/D51 -> 0.017060411 | D51: =E51+D50 -> 90795 | E51: =+E50 -> 1549 | F51: 934 | G51: 19.03 | H51: 9.55 | I51: =+G51+I50 -> 723.14 | J51: =+H51+J50 -> 362.9 | K51: =ROUND(G51+H51,2) -> 28.58 | L51: =+K51+L50 -> 1057.46 | N51: =K51 -> 28.58 | O51: =N51+O50 -> 1047.356 | Q51: 2062 | R51: =IF($R$14>O51,N51,IF($R$14-O50>0,$R$14-O50,0)) -> 0
B52: 2063 | C52: =(D53-D52)/D52 -> 0.016774235 | D52: =E52+D51 -> 92344 | E52: =+E51 -> 1549 | F52: 934 | G52: 19.03 | H52: 9.55 | I52: =+G52+I51 -> 742.17 | J52: =+H52+J51 -> 372.45 | K52: =ROUND(G52+H52,2) -> 28.58 | L52: =+K52+L51 -> 1086.04 | N52: =K52 -> 28.58 | O52: =N52+O51 -> 1075.936 | Q52: 2063 | R52: =IF($R$14>O52,N52,IF($R$14-O51>0,$R$14-O51,0)) -> 0
... B123: 2134 | C123: =(D124-D123)/D123 -> 0.0076560747 | D123: =E123+D122 -> 202323 | E123: =+E122 -> 1549 | F123: 934 | G123: 19.03 | H123: 9.55 | I123: =+G123+I122 -> 2093.3 | J123: =+H123+J122 -> 1050.5 | K123: =ROUND(G123+H123,2) -> 28.58 | L123: =+K123+L122 -> 3115.22 | N123: =K123 -> 28.58 | O123: =N123+O122 -> 3105.116 | Q123: 2134 | R123: =IF($R$14>O123,N123,IF($R$14-O122>0,$R$14-O122,0)) -> 0
B124: 2135 | C124: =(#REF!-D124)/D124 -> #REF! | D124: =E124+D123 -> 203872 | E124: =+E123 -> 1549 | F124: 934 | G124: 19.03 | H124: 9.55 | I124: =+G124+I123 -> 2112.33 | J124: =+H124+J123 -> 1060.05 | K124: =ROUND(G124+H124,2) -> 28.58 | L124: =+K124+L123 -> 3143.8 | N124: =K124 -> 28.58 | O124: =N124+O123 -> 3133.696 | Q124: 2135

Sheet Project List 
B3: Project Description | E3: Assumed Approach to | G3: Timing | I3: Benefit | K3: Regional Benefit | M3: Project Costs | Y3: Debentures | AA3: Grants | AB3: Project Expenditures | AG3: Regional Share | AI3: Share | AK3: Front-Ended by Others and Oversize Recovery Eligible | AL3: Oversize
B4: Code | C4: Name | D4: Description | E4: Financing | F4: Funding | G4: Start Year | H4: End Year | I4: Benefit to Growth | J4: Benefit to Existing | K4: Benefit to Okotoks | L4: Benefit to Foothills | M4: Project Costs w/o Contingency ($2022) | N4: Project Costs w/o Contingency ($2023) | O4: Project Costs w/o Contingency ($2024) | P4: Project Costs w/o Contingency ($2025) | Q4: Project Stage | R4: Contingency (%) | S4: Engineering (15%) | T4: Total Project Cost ($2022) | U4: Total Project Cost ($2023) | V4: Total Project Cost ($2024) | W4: Total Project Cost ($2025) | X4: Total Project Cost ($2026) | Y4: Project Constructed and Funded under existing Debenture? | Z4: Debenture Principle ($) | AA4: Assumed Grant Value | AB4: Expenses in 2021 ($2021) | AC4: Expenses in 2023 ($2023) | AD4: Expenses in 2024 ($2024) | AE4: Expenses in 2025 ($2025) | AF4: Future/Remaining Project Costs ($2026) | AG4: Okotoks Share | AH4: Foothills Share | AI4: Growth Share | AJ4: Existing Share | AL4: Pipe / Road Length (m) | AM4: Oversize Cost Recovery | AN4: Allocation of Benefit Rationale
A6: Transportation | B6: 5 | C6: Twinning of 32 Street from North Railway Street to 338 Avenue | D6: From 2-lane to 4-lane (3270 metres) | E6: Town | F6: OSL | G6: 2036 | H6: 2045 | I6: 0.503 | J6: =1-I6 -> 0.497 | O6: 7538800 | Q6: Conceptual | R6: 35 | S6: 15 | V6: =MROUND((O6+(O6*(R6/100))+(O6*(S6/100))),1000) -> 11308000 | W6: =V6*(1+Assumptions!$B$19)^1 -> 11590700 | X6: =W6*(1+Assumptions!$B$19)^1 -> 11880467 | Y6: No | AF6: =X6-AD6 -> 11880467 | AI6: =AF6*I6 -> 5975875.2 | AJ6: =AF6*J6 -> 5904592.3 | AK6: No | AN6: Benefit of transportation infrastructure is allocated based on land in different areas: - Greenfield Areas that have already paid levies (levied lands). - Greenfield Areas that have not yet paid levies (unlevied lands). - The Established Area Land equates to population and jobs which impact the transportation network. The utilization of land is a repeatable approach that does not rely on transportation modelling that will continually evolve as land uses, densities and travel patterns adjust over time. Allocation of benefit is based on the assumed buildout of the Town. Given that the transportation projects included in the Off-Site Levy benefit large areas opposed to individual parcels, allocation of benefit is applied network wide and is based on a project's location within the overall network. For infrastructure located in the greenfield areas, does not provide improved reliability, quality or service level to the Established Area. As such one hundred percent of the benefit is allocated between levied and unlevied lands in the Greenfield Areas. This allocation is based on the proportion of unlevied lands within the Greenfield Area. Unlevied lands reflect those lands that have not been levied and/or that assumed to be exempt from levies. For infrastructure located in the Established Area, that provides benefit to lands outside the Established Area (i.e., Greenfield Area), a shared benefit approach is utilized to allocate benefit. One hundred percent of the benefit is allocated among Greenfield levied, Greenfield unlevied, and Established Area lands. The allocation to growth is based the proportion of unlevied greenfield lands to total town lands.
B7: 7C | C7: Northridge Drive Urbanization Phase 3 | D7: Includes urbanization of the west side of Northridge Drive from Sandstone Gate to Spring Gate | E7: Town | F7: OSL | G7: 2026 | H7: 2026 | I7: 0.75 | J7: 0.25 | Q7: Construction | X7: 47347 | Y7: No | AF7: 47347 | AI7: =AF7*I7 -> 35510.25 | AJ7: =AF7*J7 -> 11836.75 | AK7: No
B8: 8 | C8: Intersection Improvements - Southridge Drive and HWY 7 | D8: Southbound and westbound left lanes, 1 EBT lane, 1 WBT lane, 1 NBT lane and 1 SBT lane inbound and outbound, 1 Left turn bay at EB approach + 1 Left turn bay at SB + acceleration lane for WB free right turn | E8: Town | F8: OSL | G8: 2028 | H8: 2035 | I8: 0.503 | J8: =1-I8 -> 0.497 | O8: 1790300 | Q8: Conceptual | R8: 35 | S8: 15 | V8: =MROUND((O8+(O8*(R8/100))+(O8*(S8/100))),1000) -> 2685000 | W8: =V8*(1+Assumptions!$B$19)^1 -> 2752125 | X8: =W8*(1+Assumptions!$B$19)^1 -> 2820928.1 | Y8: No | AF8: =X8-AD8 -> 2820928.1 | AI8: =AF8*I8 -> 1418926.8 | AJ8: =AF8*J8 -> 1402001.3 | AK8: No
B9: 33 | C9: Northridge Drive and 338 Avenue | D9: Southbound Dual Left Turn | E9: Town | F9: OSL | G9: 2040 | H9: 2042 | I9: 0.503 | J9: =1-I9 -> 0.497 | O9: 139400 | Q9: Conceptual | R9: 35 | S9: 15 | V9: =MROUND((O9+(O9*(R9/100))+(O9*(S9/100))),1000) -> 209000 | W9: =V9*(1+Assumptions!$B$19)^1 -> 214225 | X9: =W9*(1+Assumptions!$B$19)^1 -> 219580.62 | Y9: No | AF9: =X9-AD9 -> 219580.62 | AI9: =AF9*I9 -> 110449.05 | AJ9: =AF9*J9 -> 109131.57 | AK9: No
B10: 64 | C10: Intersection Improvements - 32 Street and HWY 7 | D10: Adding acceleration lane for free SB right turn + restriping SB approach from one left + one shared left / through + one right to one left turn lane + one through lane + one right turn lane, Additional EBT and WBT lanes (in and out) + one SBL left turn bay + one WBL turn lane | E10: Town | F10: OSL | G10: 2028 | H10: 2030 | I10: 0.503 | J10: =1-I10 -> 0.497 | O10: 963600 | Q10: Conceptual | R10: 35 | S10: 15 | V10: =MROUND((O10+(O10*(R10/100))+(O10*(S10/100))),1000) -> 1445000 | W10: =V10*(1+Assumptions!$B$19)^1 -> 1481125 | X10: =W10*(1+Assumptions!$B$19)^1 -> 1518153.1 | Y10: No | AF10: =X10-AD10 -> 1518153.1 | AI10: =AF10*I10 -> 763631.02 | AJ10: =AF10*J10 -> 754522.1 | AK10: No
B11: 67 | C11: Twinning 32 Street from Southbank Road to North Railway Street | D11: From 2-lane to 4-lane (550 metres + 2 bridges) | E11: Town | F11: OSL | G11: 2036 | H11: 2045 | I11: 0.503 | J11: =1-I11 -> 0.497 | O11: 14315200 | Q11: Conceptual | R11: 35 | S11: 15 | V11: =MROUND((O11+(O11*(R11/100))+(O11*(S11/100))),1000) -> 21473000 | W11: =V11*(1+Assumptions!$B$19)^1 -> 22009825 | X11: =W11*(1+Assumptions!$B$19)^1 -> 22560071 | Y11: No | AF11: =X11-AD11 -> 22560071 | AI11: =AF11*I11 -> 11347716 | AJ11: =AF11*J11 -> 11212355 | AK11: No
B12: 71 | C12: Milligan Drive and 32 Street | D12: Adding one SBL turn lane + one EBR turn lane | E12: Town | F12: OSL | G12: 2027 | H12: 2028 | I12: 0.503 | J12: =1-I12 -> 0.497 | O12: 127300 | Q12: Conceptual | R12: 35 | S12: 15 | V12: =MROUND((O12+(O12*(R12/100))+(O12*(S12/100))),1000) -> 191000 | W12: =V12*(1+Assumptions!$B$19)^1 -> 195775 | X12: =W12*(1+Assumptions!$B$19)^1 -> 200669.37 | Y12: No | AF12: =X12-AD12 -> 200669.37 | AI12: =AF12*I12 -> 100936.7 | AJ12: =AF12*J12 -> 99732.679 | AK12: No
B13: 72 | C13: North Railway Street/32 Street | D13: Adding one NBL turn lane + one WBL turn lane + acceleration lane for free EB right turn movement | E13: Town | F13: OSL | G13: 2040 | H13: 2041 | I13: 0.503 | J13: =1-I13 -> 0.497 | O13: 339400 | Q13: Conceptual | R13: 35 | S13: 15 | V13: =MROUND((O13+(O13*(R13/100))+(O13*(S13/100))),1000) -> 509000 | W13: =V13*(1+Assumptions!$B$19)^1 -> 521725 | X13: =W13*(1+Assumptions!$B$19)^1 -> 534768.12 | Y13: No | AF13: =X13-AD13 -> 534768.12 | AI13: =AF13*I13 -> 268988.37 | AJ13: =AF13*J13 -> 265779.76 | AK13: No
B14: 73 | C14: Southbank Road and 32 Street | D14: Adding one SBL turn lane + acceleration lane for free WB right turn | E14: Town | F14: OSL | G14: 2040 | H14: 2041 | I14: 0.503 | J14: =1-I14 -> 0.497 | O14: 260600 | Q14: Conceptual | R14: 35 | S14: 15 | V14: =MROUND((O14+(O14*(R14/100))+(O14*(S14/100))),1000) -> 391000 | W14: =V14*(1+Assumptions!$B$19)^1 -> 400775 | X14: =W14*(1+Assumptions!$B$19)^1 -> 410794.37 | Y14: No | AF14: =X14-AD14 -> 410794.37 | AI14: =AF14*I14 -> 206629.57 | AJ14: =AF14*J14 -> 204164.8 | AK14: No
B15: 81 | C15: Northridge Drive and Northgate Circle Storm Contribution | D15: Reduces and Diverts Stormwater Runoff Generated on Northridge Drive on Downstream Users | E15: Town | F15: OSL | G15: 2027 | H15: 2027 | I15: 0.75 | J15: =1-I15 -> 0.25 | N15: 637669.23 | Q15: Conceptual | U15: =MROUND((N15+(N15*(R15/100))+(N15*(S15/100))),1000) -> 638000 | V15: =U15*(1+Assumptions!$B$19)^1 -> 653950 | W15: =V15*(1+Assumptions!$B$19)^1 -> 670298.75 | X15: =W15*(1+Assumptions!$B$19)^1 -> 687056.22 | Y15: No | AF15: =X15-AD15 -> 687056.22 | AI15: =AF15*I15 -> 515292.16 | AJ15: =AF15*J15 -> 171764.05 | AK15: No
B16: 90 | C16: 338 Ave and 32 Street Intersection Improvements | D16: Roundabout at the intersection of 338 Ave and 32 Street. | E16: Town | F16: OSL | G16: 2027 | H16: 2028 | I16: 0.503 | J16: =1-I16 -> 0.497 | P16: 679100 | Q16: Preliminary Design | R16: 15 | S16: 10 | W16: 848935 | X16: =W16*(1+Assumptions!$B$19)^1 -> 870158.37 | Y16: No | AF16: =X16-AD16 -> 870158.37 | AI16: =AF16*I16 -> 437689.66 | AJ16: =AF16*J16 -> 432468.71 | AK16: No
B17: 9A | C17: 338 Avenue Expansion from Northridge Drive to Highway 2 - Functional Plan & Detailed Design | D17: From 2-lane to 4-lane (3200 metres) From 2-lane to 6-lane (1400 metres) | E17: Town | F17: OSL | G17: 2026 | H17: 2026 | I17: 0.75 | J17: =1-I17 -> 0.25 | Q17: Construction | X17: 1000000 | Y17: No | AC17: 205418 | AD17: 244891 | AE17: 273084 | AF17: =X17-AE17-AD17-AC17-180498 -> 96109 | AI17: =AF17*I17 -> 72081.75 | AJ17: =AF17*J17 -> 24027.25 | AK17: No | AN17: All project costs (Projects 7C and 9A) to end of 2025 have been under the 75/25 cost apportionment per Bylaw 06-23.
X18: =SUM(X6:X17) -> 42749993 | AF18: =SUM(AF6:AF17) -> 41846102
A20: Transportation - Oversize | B20: 9B | C20: 338 Avenue Expansion from Northridge Drive to Highway 2 | D20: From 2-lane to 4-lane (3200 metres) From 2-lane to 6-lane (1400 metres) | E20: Others | F20: OSL | G20: 2036 | H20: 2045 | I20: 0.915 | J20: =1-I20 -> 0.085 | P20: =MROUND((W20)/(1+(R20/100)+(S20/100)),100) -> 39915400 | Q20: Preliminary Design | R20: 12 | S20: 10 | W20: 48696807 | X20: =W20*(1+Assumptions!$B$19)^1 -> 49914227 | Y20: No | AF20: =X20-AD20 -> 49914227 | AI20: =AF20*I20 -> 45671518 | AJ20: =AF20*J20 -> 4242709.3 | AK20: Yes | AL20: 4600 | AM20: =(AI20-(AL20*'Oversize Costs'!D12)) -> 32849478 | AN20: Same as above.

Sheet T-Transportation
B3: Transportation OSL Project List
B4: Project Description | E4: Assumed Approach to | G4: Timing | I4: Benefit | K4: Project Costs | M4: Share
B5: Code | C5: Name | D5: Description | E5: Financing | F5: Funding | G5: Start Year | H5: End Year | I5: Benefit to Growth | J5: Benefit to Existing | K5: Total Project Cost ($2026) | L5: Future/Remaining Project Costs ($2026) | M5: Growth Share | N5: Existing Share
B6: 5 | C6: =INDEX('Project List '!$C$6:$C$21, MATCH('T-Transportation'!B6,'Project List '!$B$6:$B$21,0)) -> Twinning of 32 Street from North Railway Street to 338 Avenue | D6: =INDEX('Project List '!$D$6:$D$21, MATCH('T-Transportation'!B6,'Project List '!$B$6:$B$21,0)) -> From 2-lane to 4-lane (3270 metres) | E6: =INDEX('Project List '!$E$6:$E$21, MATCH('T-Transportation'!B6,'Project List '!$B$6:$B$21,0)) -> Town | F6: =INDEX('Project List '!$F$6:$F$21, MATCH('T-Transportation'!B6,'Project List '!$B$6:$B$21,0)) -> OSL | G6: =INDEX('Project List '!$G$6:$G$21, MATCH('T-Transportation'!B6,'Project List '!$B$6:$B$21,0)) -> 2036 | H6: =INDEX('Project List '!$H$6:$H$21, MATCH('T-Transportation'!B6,'Project List '!$B$6:$B$21,0)) -> 2045 | I6: =INDEX('Project List '!$I$6:$I$21, MATCH('T-Transportation'!B6,'Project List '!$B$6:$B$21,0)) -> 0.503 | J6: =INDEX('Project List '!$J$6:$J$21, MATCH('T-Transportation'!B6,'Project List '!$B$6:$B$21,0)) -> 0.497 | K6: =INDEX('Project List '!$X$6:$X$21, MATCH('T-Transportation'!B6,'Project List '!$B$6:$B$21,0)) -> 11880467 | L6: =INDEX('Project List '!$AF$6:$AF$21, MATCH('T-Transportation'!B6,'Project List '!$B$6:$B$21,0)) -> 11880467 | M6: =INDEX('Project List '!$AI$6:$AI$21, MATCH('T-Transportation'!B6,'Project List '!$B$6:$B$21,0)) -> 5975875.2 | N6: =INDEX('Project List '!$AJ$6:$AJ$21, MATCH('T-Transportation'!B6,'Project List '!$B$6:$B$21,0)) -> 5904592.3
B7: 7C | C7: =INDEX('Project List '!$C$6:$C$21, MATCH('T-Transportation'!B7,'Project List '!$B$6:$B$21,0)) -> Northridge Drive Urbanization Phase 3 | D7: =INDEX('Project List '!$D$6:$D$21, MATCH('T-Transportation'!B7,'Project List '!$B$6:$B$21,0)) -> Includes urbanization of the west side of Northridge Drive from Sandstone Gate to Spring Gate | E7: =INDEX('Project List '!$E$6:$E$21, MATCH('T-Transportation'!B7,'Project List '!$B$6:$B$21,0)) -> Town | F7: =INDEX('Project List '!$F$6:$F$21, MATCH('T-Transportation'!B7,'Project List '!$B$6:$B$21,0)) -> OSL | G7: =INDEX('Project List '!$G$6:$G$21, MATCH('T-Transportation'!B7,'Project List '!$B$6:$B$21,0)) -> 2026 | H7: =INDEX('Project List '!$H$6:$H$21, MATCH('T-Transportation'!B7,'Project List '!$B$6:$B$21,0)) -> 2026 | I7: =INDEX('Project List '!$I$6:$I$21, MATCH('T-Transportation'!B7,'Project List '!$B$6:$B$21,0)) -> 0.75 | J7: =INDEX('Project List '!$J$6:$J$21, MATCH('T-Transportation'!B7,'Project List '!$B$6:$B$21,0)) -> 0.25 | K7: =INDEX('Project List '!$X$6:$X$21, MATCH('T-Transportation'!B7,'Project List '!$B$6:$B$21,0)) -> 47347 | L7: =INDEX('Project List '!$AF$6:$AF$21, MATCH('T-Transportation'!B7,'Project List '!$B$6:$B$21,0)) -> 47347 | M7: =INDEX('Project List '!$AI$6:$AI$21, MATCH('T-Transportation'!B7,'Project List '!$B$6:$B$21,0)) -> 35510.25 | N7: =INDEX('Project List '!$AJ$6:$AJ$21, MATCH('T-Transportation'!B7,'Project List '!$B$6:$B$21,0)) -> 11836.75
B8: 8 | C8: =INDEX('Project List '!$C$6:$C$21, MATCH('T-Transportation'!B8,'Project List '!$B$6:$B$21,0)) -> Intersection Improvements - Southridge Drive and HWY 7 | D8: =INDEX('Project List '!$D$6:$D$21, MATCH('T-Transportation'!B8,'Project List '!$B$6:$B$21,0)) -> Southbound and westbound left lanes, 1 EBT lane, 1 WBT lane, 1 NBT lane and 1 SBT lane inbound and outbound, 1 Left turn bay at EB approach + 1 Left turn bay at SB + acceleration lane for WB free right turn | E8: =INDEX('Project List '!$E$6:$E$21, MATCH('T-Transportation'!B8,'Project List '!$B$6:$B$21,0)) -> Town | F8: =INDEX('Project List '!$F$6:$F$21, MATCH('T-Transportation'!B8,'Project List '!$B$6:$B$21,0)) -> OSL | G8: =INDEX('Project List '!$G$6:$G$21, MATCH('T-Transportation'!B8,'Project List '!$B$6:$B$21,0)) -> 2028 | H8: =INDEX('Project List '!$H$6:$H$21, MATCH('T-Transportation'!B8,'Project List '!$B$6:$B$21,0)) -> 2035 | I8: =INDEX('Project List '!$I$6:$I$21, MATCH('T-Transportation'!B8,'Project List '!$B$6:$B$21,0)) -> 0.503 | J8: =INDEX('Project List '!$J$6:$J$21, MATCH('T-Transportation'!B8,'Project List '!$B$6:$B$21,0)) -> 0.497 | K8: =INDEX('Project List '!$X$6:$X$21, MATCH('T-Transportation'!B8,'Project List '!$B$6:$B$21,0)) -> 2820928.1 | L8: =INDEX('Project List '!$AF$6:$AF$21, MATCH('T-Transportation'!B8,'Project List '!$B$6:$B$21,0)) -> 2820928.1 | M8: =INDEX('Project List '!$AI$6:$AI$21, MATCH('T-Transportation'!B8,'Project List '!$B$6:$B$21,0)) -> 1418926.8 | N8: =INDEX('Project List '!$AJ$6:$AJ$21, MATCH('T-Transportation'!B8,'Project List '!$B$6:$B$21,0)) -> 1402001.3
B9: 33 | C9: =INDEX('Project List '!$C$6:$C$21, MATCH('T-Transportation'!B9,'Project List '!$B$6:$B$21,0)) -> Northridge Drive and 338 Avenue | D9: =INDEX('Project List '!$D$6:$D$21, MATCH('T-Transportation'!B9,'Project List '!$B$6:$B$21,0)) -> Southbound Dual Left Turn | E9: =INDEX('Project List '!$E$6:$E$21, MATCH('T-Transportation'!B9,'Project List '!$B$6:$B$21,0)) -> Town | F9: =INDEX('Project List '!$F$6:$F$21, MATCH('T-Transportation'!B9,'Project List '!$B$6:$B$21,0)) -> OSL | G9: =INDEX('Project List '!$G$6:$G$21, MATCH('T-Transportation'!B9,'Project List '!$B$6:$B$21,0)) -> 2040 | H9: =INDEX('Project List '!$H$6:$H$21, MATCH('T-Transportation'!B9,'Project List '!$B$6:$B$21,0)) -> 2042 | I9: =INDEX('Project List '!$I$6:$I$21, MATCH('T-Transportation'!B9,'Project List '!$B$6:$B$21,0)) -> 0.503 | J9: =INDEX('Project List '!$J$6:$J$21, MATCH('T-Transportation'!B9,'Project List '!$B$6:$B$21,0)) -> 0.497 | K9: =INDEX('Project List '!$X$6:$X$21, MATCH('T-Transportation'!B9,'Project List '!$B$6:$B$21,0)) -> 219580.62 | L9: =INDEX('Project List '!$AF$6:$AF$21, MATCH('T-Transportation'!B9,'Project List '!$B$6:$B$21,0)) -> 219580.62 | M9: =INDEX('Project List '!$AI$6:$AI$21, MATCH('T-Transportation'!B9,'Project List '!$B$6:$B$21,0)) -> 110449.05 | N9: =INDEX('Project List '!$AJ$6:$AJ$21, MATCH('T-Transportation'!B9,'Project List '!$B$6:$B$21,0)) -> 109131.57
B10: 64 | C10: =INDEX('Project List '!$C$6:$C$21, MATCH('T-Transportation'!B10,'Project List '!$B$6:$B$21,0)) -> Intersection Improvements - 32 Street and HWY 7 | D10: =INDEX('Project List '!$D$6:$D$21, MATCH('T-Transportation'!B10,'Project List '!$B$6:$B$21,0)) -> Adding acceleration lane for free SB right turn + restriping SB approach from one left + one shared left / through + one right to one left turn lane + one through lane + one right turn lane, Additional EBT and WBT lanes (in and out) + one SBL left turn bay + one WBL turn lane | E10: =INDEX('Project List '!$E$6:$E$21, MATCH('T-Transportation'!B10,'Project List '!$B$6:$B$21,0)) -> Town | F10: =INDEX('Project List '!$F$6:$F$21, MATCH('T-Transportation'!B10,'Project List '!$B$6:$B$21,0)) -> OSL | G10: =INDEX('Project List '!$G$6:$G$21, MATCH('T-Transportation'!B10,'Project List '!$B$6:$B$21,0)) -> 2028 | H10: =INDEX('Project List '!$H$6:$H$21, MATCH('T-Transportation'!B10,'Project List '!$B$6:$B$21,0)) -> 2030 | I10: =INDEX('Project List '!$I$6:$I$21, MATCH('T-Transportation'!B10,'Project List '!$B$6:$B$21,0)) -> 0.503 | J10: =INDEX('Project List '!$J$6:$J$21, MATCH('T-Transportation'!B10,'Project List '!$B$6:$B$21,0)) -> 0.497 | K10: =INDEX('Project List '!$X$6:$X$21, MATCH('T-Transportation'!B10,'Project List '!$B$6:$B$21,0)) -> 1518153.1 | L10: =INDEX('Project List '!$AF$6:$AF$21, MATCH('T-Transportation'!B10,'Project List '!$B$6:$B$21,0)) -> 1518153.1 | M10: =INDEX('Project List '!$AI$6:$AI$21, MATCH('T-Transportation'!B10,'Project List '!$B$6:$B$21,0)) -> 763631.02 | N10: =INDEX('Project List '!$AJ$6:$AJ$21, MATCH('T-Transportation'!B10,'Project List '!$B$6:$B$21,0)) -> 754522.1
B11: 67 | C11: =INDEX('Project List '!$C$6:$C$21, MATCH('T-Transportation'!B11,'Project List '!$B$6:$B$21,0)) -> Twinning 32 Street from Southbank Road to North Railway Street | D11: =INDEX('Project List '!$D$6:$D$21, MATCH('T-Transportation'!B11,'Project List '!$B$6:$B$21,0)) -> From 2-lane to 4-lane (550 metres + 2 bridges) | E11: =INDEX('Project List '!$E$6:$E$21, MATCH('T-Transportation'!B11,'Project List '!$B$6:$B$21,0)) -> Town | F11: =INDEX('Project List '!$F$6:$F$21, MATCH('T-Transportation'!B11,'Project List '!$B$6:$B$21,0)) -> OSL | G11: =INDEX('Project List '!$G$6:$G$21, MATCH('T-Transportation'!B11,'Project List '!$B$6:$B$21,0)) -> 2036 | H11: =INDEX('Project List '!$H$6:$H$21, MATCH('T-Transportation'!B11,'Project List '!$B$6:$B$21,0)) -> 2045 | I11: =INDEX('Project List '!$I$6:$I$21, MATCH('T-Transportation'!B11,'Project List '!$B$6:$B$21,0)) -> 0.503 | J11: =INDEX('Project List '!$J$6:$J$21, MATCH('T-Transportation'!B11,'Project List '!$B$6:$B$21,0)) -> 0.497 | K11: =INDEX('Project List '!$X$6:$X$21, MATCH('T-Transportation'!B11,'Project List '!$B$6:$B$21,0)) -> 22560071 | L11: =INDEX('Project List '!$AF$6:$AF$21, MATCH('T-Transportation'!B11,'Project List '!$B$6:$B$21,0)) -> 22560071 | M11: =INDEX('Project List '!$AI$6:$AI$21, MATCH('T-Transportation'!B11,'Project List '!$B$6:$B$21,0)) -> 11347716 | N11: =INDEX('Project List '!$AJ$6:$AJ$21, MATCH('T-Transportation'!B11,'Project List '!$B$6:$B$21,0)) -> 11212355
B12: 71 | C12: =INDEX('Project List '!$C$6:$C$21, MATCH('T-Transportation'!B12,'Project List '!$B$6:$B$21,0)) -> Milligan Drive and 32 Street | D12: =INDEX('Project List '!$D$6:$D$21, MATCH('T-Transportation'!B12,'Project List '!$B$6:$B$21,0)) -> Adding one SBL turn lane + one EBR turn lane | E12: =INDEX('Project List '!$E$6:$E$21, MATCH('T-Transportation'!B12,'Project List '!$B$6:$B$21,0)) -> Town | F12: =INDEX('Project List '!$F$6:$F$21, MATCH('T-Transportation'!B12,'Project List '!$B$6:$B$21,0)) -> OSL | G12: =INDEX('Project List '!$G$6:$G$21, MATCH('T-Transportation'!B12,'Project List '!$B$6:$B$21,0)) -> 2027 | H12: =INDEX('Project List '!$H$6:$H$21, MATCH('T-Transportation'!B12,'Project List '!$B$6:$B$21,0)) -> 2028 | I12: =INDEX('Project List '!$I$6:$I$21, MATCH('T-Transportation'!B12,'Project List '!$B$6:$B$21,0)) -> 0.503 | J12: =INDEX('Project List '!$J$6:$J$21, MATCH('T-Transportation'!B12,'Project List '!$B$6:$B$21,0)) -> 0.497 | K12: =INDEX('Project List '!$X$6:$X$21, MATCH('T-Transportation'!B12,'Project List '!$B$6:$B$21,0)) -> 200669.37 | L12: =INDEX('Project List '!$AF$6:$AF$21, MATCH('T-Transportation'!B12,'Project List '!$B$6:$B$21,0)) -> 200669.37 | M12: =INDEX('Project List '!$AI$6:$AI$21, MATCH('T-Transportation'!B12,'Project List '!$B$6:$B$21,0)) -> 100936.7 | N12: =INDEX('Project List '!$AJ$6:$AJ$21, MATCH('T-Transportation'!B12,'Project List '!$B$6:$B$21,0)) -> 99732.679
B13: 72 | C13: =INDEX('Project List '!$C$6:$C$21, MATCH('T-Transportation'!B13,'Project List '!$B$6:$B$21,0)) -> North Railway Street/32 Street | D13: =INDEX('Project List '!$D$6:$D$21, MATCH('T-Transportation'!B13,'Project List '!$B$6:$B$21,0)) -> Adding one NBL turn lane + one WBL turn lane + acceleration lane for free EB right turn movement | E13: =INDEX('Project List '!$E$6:$E$21, MATCH('T-Transportation'!B13,'Project List '!$B$6:$B$21,0)) -> Town | F13: =INDEX('Project List '!$F$6:$F$21, MATCH('T-Transportation'!B13,'Project List '!$B$6:$B$21,0)) -> OSL | G13: =INDEX('Project List '!$G$6:$G$21, MATCH('T-Transportation'!B13,'Project List '!$B$6:$B$21,0)) -> 2040 | H13: =INDEX('Project List '!$H$6:$H$21, MATCH('T-Transportation'!B13,'Project List '!$B$6:$B$21,0)) -> 2041 | I13: =INDEX('Project List '!$I$6:$I$21, MATCH('T-Transportation'!B13,'Project List '!$B$6:$B$21,0)) -> 0.503 | J13: =INDEX('Project List '!$J$6:$J$21, MATCH('T-Transportation'!B13,'Project List '!$B$6:$B$21,0)) -> 0.497 | K13: =INDEX('Project List '!$X$6:$X$21, MATCH('T-Transportation'!B13,'Project List '!$B$6:$B$21,0)) -> 534768.12 | L13: =INDEX('Project List '!$AF$6:$AF$21, MATCH('T-Transportation'!B13,'Project List '!$B$6:$B$21,0)) -> 534768.12 | M13: =INDEX('Project List '!$AI$6:$AI$21, MATCH('T-Transportation'!B13,'Project List '!$B$6:$B$21,0)) -> 268988.37 | N13: =INDEX('Project List '!$AJ$6:$AJ$21, MATCH('T-Transportation'!B13,'Project List '!$B$6:$B$21,0)) -> 265779.76
B14: 73 | C14: =INDEX('Project List '!$C$6:$C$21, MATCH('T-Transportation'!B14,'Project List '!$B$6:$B$21,0)) -> Southbank Road and 32 Street | D14: =INDEX('Project List '!$D$6:$D$21, MATCH('T-Transportation'!B14,'Project List '!$B$6:$B$21,0)) -> Adding one SBL turn lane + acceleration lane for free WB right turn | E14: =INDEX('Project List '!$E$6:$E$21, MATCH('T-Transportation'!B14,'Project List '!$B$6:$B$21,0)) -> Town | F14: =INDEX('Project List '!$F$6:$F$21, MATCH('T-Transportation'!B14,'Project List '!$B$6:$B$21,0)) -> OSL | G14: =INDEX('Project List '!$G$6:$G$21, MATCH('T-Transportation'!B14,'Project List '!$B$6:$B$21,0)) -> 2040 | H14: =INDEX('Project List '!$H$6:$H$21, MATCH('T-Transportation'!B14,'Project List '!$B$6:$B$21,0)) -> 2041 | I14: =INDEX('Project List '!$I$6:$I$21, MATCH('T-Transportation'!B14,'Project List '!$B$6:$B$21,0)) -> 0.503 | J14: =INDEX('Project List '!$J$6:$J$21, MATCH('T-Transportation'!B14,'Project List '!$B$6:$B$21,0)) -> 0.497 | K14: =INDEX('Project List '!$X$6:$X$21, MATCH('T-Transportation'!B14,'Project List '!$B$6:$B$21,0)) -> 410794.37 | L14: =INDEX('Project List '!$AF$6:$AF$21, MATCH('T-Transportation'!B14,'Project List '!$B$6:$B$21,0)) -> 410794.37 | M14: =INDEX('Project List '!$AI$6:$AI$21, MATCH('T-Transportation'!B14,'Project List '!$B$6:$B$21,0)) -> 206629.57 | N14: =INDEX('Project List '!$AJ$6:$AJ$21, MATCH('T-Transportation'!B14,'Project List '!$B$6:$B$21,0)) -> 204164.8
B15: 81 | C15: =INDEX('Project List '!$C$6:$C$21, MATCH('T-Transportation'!B15,'Project List '!$B$6:$B$21,0)) -> Northridge Drive and Northgate Circle Storm Contribution | D15: =INDEX('Project List '!$D$6:$D$21, MATCH('T-Transportation'!B15,'Project List '!$B$6:$B$21,0)) -> Reduces and Diverts Stormwater Runoff Generated on Northridge Drive on Downstream Users | E15: =INDEX('Project List '!$E$6:$E$21, MATCH('T-Transportation'!B15,'Project List '!$B$6:$B$21,0)) -> Town | F15: =INDEX('Project List '!$F$6:$F$21, MATCH('T-Transportation'!B15,'Project List '!$B$6:$B$21,0)) -> OSL | G15: =INDEX('Project List '!$G$6:$G$21, MATCH('T-Transportation'!B15,'Project List '!$B$6:$B$21,0)) -> 2027 | H15: =INDEX('Project List '!$H$6:$H$21, MATCH('T-Transportation'!B15,'Project List '!$B$6:$B$21,0)) -> 2027 | I15: =INDEX('Project List '!$I$6:$I$21, MATCH('T-Transportation'!B15,'Project List '!$B$6:$B$21,F72)) -> 0.75 | J15: =INDEX('Project List '!$J$6:$J$21, MATCH('T-Transportation'!B15,'Project List '!$B$6:$B$21,0)) -> 0.25 | K15: =INDEX('Project List '!$X$6:$X$21, MATCH('T-Transportation'!B15,'Project List '!$B$6:$B$21,0)) -> 687056.22 | L15: =INDEX('Project List '!$AF$6:$AF$21, MATCH('T-Transportation'!B15,'Project List '!$B$6:$B$21,0)) -> 687056.22 | M15: =INDEX('Project List '!$AI$6:$AI$21, MATCH('T-Transportation'!B15,'Project List '!$B$6:$B$21,0)) -> 515292.16 | N15: =INDEX('Project List '!$AJ$6:$AJ$21, MATCH('T-Transportation'!B15,'Project List '!$B$6:$B$21,0)) -> 171764.05
B16: 90 | C16: =INDEX('Project List '!$C$6:$C$21, MATCH('T-Transportation'!B16,'Project List '!$B$6:$B$21,0)) -> 338 Ave and 32 Street Intersection Improvements | D16: =INDEX('Project List '!$D$6:$D$21, MATCH('T-Transportation'!B16,'Project List '!$B$6:$B$21,0)) -> Roundabout at the intersection of 338 Ave and 32 Street. | E16: =INDEX('Project List '!$E$6:$E$21, MATCH('T-Transportation'!B16,'Project List '!$B$6:$B$21,0)) -> Town | F16: =INDEX('Project List '!$F$6:$F$21, MATCH('T-Transportation'!B16,'Project List '!$B$6:$B$21,0)) -> OSL | G16: =INDEX('Project List '!$G$6:$G$21, MATCH('T-Transportation'!B16,'Project List '!$B$6:$B$21,0)) -> 2027 | H16: =INDEX('Project List '!$H$6:$H$21, MATCH('T-Transportation'!B16,'Project List '!$B$6:$B$21,0)) -> 2028 | I16: =INDEX('Project List '!$I$6:$I$21, MATCH('T-Transportation'!B16,'Project List '!$B$6:$B$21,0)) -> 0.503 | J16: =INDEX('Project List '!$J$6:$J$21, MATCH('T-Transportation'!B16,'Project List '!$B$6:$B$21,0)) -> 0.497 | K16: =INDEX('Project List '!$X$6:$X$21, MATCH('T-Transportation'!B16,'Project List '!$B$6:$B$21,0)) -> 870158.37 | L16: =INDEX('Project List '!$AF$6:$AF$21, MATCH('T-Transportation'!B16,'Project List '!$B$6:$B$21,0)) -> 870158.37 | M16: =INDEX('Project List '!$AI$6:$AI$21, MATCH('T-Transportation'!B16,'Project List '!$B$6:$B$21,0)) -> 437689.66 | N16: =INDEX('Project List '!$AJ$6:$AJ$21, MATCH('T-Transportation'!B16,'Project List '!$B$6:$B$21,0)) -> 432468.71
B17: 9A | C17: =INDEX('Project List '!$C$6:$C$21, MATCH('T-Transportation'!B17,'Project List '!$B$6:$B$21,0)) -> 338 Avenue Expansion from Northridge Drive to Highway 2 - Functional Plan & Detailed Design | D17: =INDEX('Project List '!$D$6:$D$21, MATCH('T-Transportation'!B17,'Project List '!$B$6:$B$21,0)) -> From 2-lane to 4-lane (3200 metres) From 2-lane to 6-lane (1400 metres) | E17: =INDEX('Project List '!$E$6:$E$21, MATCH('T-Transportation'!B17,'Project List '!$B$6:$B$21,0)) -> Town | F17: =INDEX('Project List '!$F$6:$F$21, MATCH('T-Transportation'!B17,'Project List '!$B$6:$B$21,0)) -> OSL | G17: =INDEX('Project List '!$G$6:$G$21, MATCH('T-Transportation'!B17,'Project List '!$B$6:$B$21,0)) -> 2026 | H17: =INDEX('Project List '!$H$6:$H$21, MATCH('T-Transportation'!B17,'Project List '!$B$6:$B$21,0)) -> 2026 | I17: =INDEX('Project List '!$I$6:$I$21, MATCH('T-Transportation'!B17,'Project List '!$B$6:$B$21,0)) -> 0.75 | J17: =INDEX('Project List '!$J$6:$J$21, MATCH('T-Transportation'!B17,'Project List '!$B$6:$B$21,0)) -> 0.25 | K17: =INDEX('Project List '!$X$6:$X$21, MATCH('T-Transportation'!B17,'Project List '!$B$6:$B$21,0)) -> 1000000 | L17: =INDEX('Project List '!$AF$6:$AF$21, MATCH('T-Transportation'!B17,'Project List '!$B$6:$B$21,0)) -> 96109 | M17: =INDEX('Project List '!$AI$6:$AI$21, MATCH('T-Transportation'!B17,'Project List '!$B$6:$B$21,0)) -> 72081.75 | N17: =INDEX('Project List '!$AJ$6:$AJ$21, MATCH('T-Transportation'!B17,'Project List '!$B$6:$B$21,0)) -> 24027.25
L18: =SUM(L6:L17) -> 41846102 | M18: =SUM(M6:M17) -> 21253726 | N18: =SUM(N6:N17) -> 20592376
B20: Transportation OSL Project List - Oversize
B21: Project Description | E21: Assumed Approach to | G21: Timing | I21: Benefit | K21: Project Costs | M21: Share | O21: Oversize
B22: Code | C22: Name | D22: Description | E22: Financing | F22: Funding | G22: Start Year | H22: End Year | I22: Benefit to Growth | J22: Benefit to Existing | K22: Project Costs w/o Contingency ($2024) | L22: Project Stage | M22: Growth Share | N22: Existing Share | O22: Road Length (m) | P22: Oversize Cost Recovery
B23: 9B | C23: =INDEX('Project List '!$C$6:$C$21, MATCH('T-Transportation'!B23,'Project List '!$B$6:$B$21,0)) -> 338 Avenue Expansion from Northridge Drive to Highway 2 | D23: =INDEX('Project List '!$D$6:$D$21, MATCH('T-Transportation'!B23,'Project List '!$B$6:$B$21,0)) -> From 2-lane to 4-lane (3200 metres) From 2-lane to 6-lane (1400 metres) | E23: =INDEX('Project List '!$E$6:$E$21, MATCH('T-Transportation'!B23,'Project List '!$B$6:$B$21,0)) -> Others | F23: =INDEX('Project List '!$F$6:$F$21, MATCH('T-Transportation'!B23,'Project List '!$B$6:$B$21,0)) -> OSL | G23: =INDEX('Project List '!$G$6:$G$21, MATCH('T-Transportation'!B23,'Project List '!$B$6:$B$21,0)) -> 2036 | H23: =INDEX('Project List '!$H$6:$H$21, MATCH('T-Transportation'!B23,'Project List '!$B$6:$B$21,0)) -> 2045 | I23: =INDEX('Project List '!$I$6:$I$21, MATCH('T-Transportation'!B23,'Project List '!$B$6:$B$21,0)) -> 0.915 | J23: =INDEX('Project List '!$J$6:$J$21, MATCH('T-Transportation'!B23,'Project List '!$B$6:$B$21,0)) -> 0.085 | K23: =INDEX('Project List '!$X$6:$X$21, MATCH('T-Transportation'!B23,'Project List '!$B$6:$B$21,0)) -> 49914227 | L23: =INDEX('Project List '!$AF$6:$AF$21, MATCH('T-Transportation'!B23,'Project List '!$B$6:$B$21,0)) -> 49914227 | M23: =INDEX('Project List '!$AI$6:$AI$21, MATCH('T-Transportation'!B23,'Project List '!$B$6:$B$21,0)) -> 45671518 | N23: =INDEX('Project List '!$AJ$6:$AJ$21, MATCH('T-Transportation'!B23,'Project List '!$B$6:$B$21,0)) -> 4242709.3 | O23: =INDEX('Project List '!$AL$6:$AL$21, MATCH(B23,'Project List '!$B$6:$B$21,0)) -> 4600 | P23: =INDEX('Project List '!$AM$6:$AM$21, MATCH(B23,'Project List '!$B$6:$B$21,0)) -> 32849478
K24: =SUM(K23:K23) -> 49914227 | M24: =SUM(M23:M23) -> 45671518 | P24: =SUM(P23:P23) -> 32849478
C26: Trigger Window | G26: Start Year | P26: Oversize Cost Recovery
C27: 1-5 Year Window | G27: 2027 | H27: 2028 | P27: =F57 -> 6533888.2
C28: 6-10 Year Window | G28: 2035 | H28: 2036 | P28: =H57 -> 11675814
C29: 16-20 Year Window | G29: 2042 | H29: 2043 | P29: =L57 -> 2177962.7
C30: 21-25 Year Window | G30: 2047 | H30: 2048 | P30: =N57 -> 7319888.2
C31: 25+ | G31: 2050 | H31: 2051 | P31: =P57 -> 5141925.4
P32: =SUM(P27:P31) -> 32849478
D35: Table and Figure Showing Assumed Corridor Improvement Segements and Timing
C37: Inflated Project Costs
C38: Code | D38: Name | E38: 2026 Project Costs | F38: Project Cost in Year of Delivery
C39: 5 | D39: =INDEX('Project List '!$C$6:$C$21, MATCH('T-Transportation'!C39,'Project List '!$B$6:$B$21,0)) -> Twinning of 32 Street from North Railway Street to 338 Avenue
C40: 8 | D40: =INDEX('Project List '!$C$6:$C$21, MATCH('T-Transportation'!C40,'Project List '!$B$6:$B$21,0)) -> Intersection Improvements - Southridge Drive and HWY 7
C41: 33 | D41: =INDEX('Project List '!$C$6:$C$21, MATCH('T-Transportation'!C41,'Project List '!$B$6:$B$21,0)) -> Northridge Drive and 338 Avenue
C42: 64 | D42: =INDEX('Project List '!$C$6:$C$21, MATCH('T-Transportation'!C42,'Project List '!$B$6:$B$21,0)) -> Intersection Improvements - 32 Street and HWY 7
C43: 67 | D43: =INDEX('Project List '!$C$6:$C$21, MATCH('T-Transportation'!C43,'Project List '!$B$6:$B$21,0)) -> Twinning 32 Street from Southbank Road to North Railway Street
C44: 71 | D44: =INDEX('Project List '!$C$6:$C$21, MATCH('T-Transportation'!C44,'Project List '!$B$6:$B$21,0)) -> Milligan Drive and 32 Street
C45: 72 | D45: =INDEX('Project List '!$C$6:$C$21, MATCH('T-Transportation'!C45,'Project List '!$B$6:$B$21,0)) -> North Railway Street/32 Street
C46: 73 | D46: =INDEX('Project List '!$C$6:$C$21, MATCH('T-Transportation'!C46,'Project List '!$B$6:$B$21,0)) -> Southbank Road and 32 Street
C47: 81 | D47: =INDEX('Project List '!$C$6:$C$21, MATCH('T-Transportation'!C47,'Project List '!$B$6:$B$21,0)) -> Northridge Drive and Northgate Circle Storm Contribution
...

Sheet Transportation - OSL
B3: Transportation - OSL
B4: Town of Okotoks
B5: =Assumptions!B3&" $s" -> 2026 $s
L6: 1 | M6: =(1+M7) -> 1.025 | N6: =+(1+N7)*M6 -> 1.050625 | O6: =+(1+O7)*N6 -> 1.0768906 | P6: =+(1+P7)*O6 -> 1.1038129 | Q6: =+(1+Q7)*P6 -> 1.1314082 | R6: =+(1+R7)*Q6 -> 1.1596934 | S6: =+(1+S7)*R6 -> 1.1886858 | T6: =+(1+T7)*S6 -> 1.2184029 | U6: =+(1+U7)*T6 -> 1.248863 | ... BS6: =+(1+BS7)*BR6 -> 4.2924778
L7: =Assumptions!$B$18 -> 0.025 | M7: =Assumptions!$B$18 -> 0.025 | N7: =Assumptions!$B$18 -> 0.025 | O7: =Assumptions!$B$18 -> 0.025 | P7: =Assumptions!$B$18 -> 0.025 | Q7: =Assumptions!$B$18 -> 0.025 | R7: =Assumptions!$B$18 -> 0.025 | S7: =Assumptions!$B$18 -> 0.025 | ... BS7: =Assumptions!$B$18 -> 0.025
A8: Project # | B8: Category and Project Description | C8: Timing | F8: Off-site Levy Project Costs before Cost Deductions | I8: Benefit to New Development | J8: Benefit to Exisitng Development | K8: Off-site Levy Recoverable | L8: Future Value Compounded Interest
C9: Start Year | D9: End Year | E9: Years | G9: Cost Deductions (Grants, Local Developer Contributions) | H9: Net Project Cost | L9: 0 | M9: 1 | N9: =+M9+1 -> 2 | O9: =+N9+1 -> 3 | P9: =+O9+1 -> 4 | Q9: =+P9+1 -> 5 | R9: =+Q9+1 -> 6 | S9: =+R9+1 -> 7 | T9: =+S9+1 -> 8 | U9: =+T9+1 -> 9 | ... BS9: =+BR9+1 -> 59
F10: =CONCATENATE("(",$B$5,")") -> (2026 $s) | G10: =CONCATENATE("(",$B$5,")") -> (2026 $s) | H10: =CONCATENATE("(",$B$5,")") -> (2026 $s) | K10: =CONCATENATE("(",B5,")") -> (2026 $s) | L10: =Assumptions!B3 -> 2026 | M10: =L10+1 -> 2027 | N10: =M10+1 -> 2028 | O10: =N10+1 -> 2029 | P10: =O10+1 -> 2030 | Q10: =P10+1 -> 2031 | R10: =Q10+1 -> 2032 | S10: =R10+1 -> 2033 | T10: =S10+1 -> 2034 | ... BS10: =BR10+1 -> 2085 | BT10: TOTAL
A11: a | B11: b | C11: c | D11: d | E11: e | F11: f | G11: g | H11: h | I11: i | J11: j | K11: k | N11: =IF(AND(N$10=$C11,N$10=$D11),(($K11/$E11)*N$6),IF(AND(N$10>=$C11,N$10<=$D11),(($K11/$E11)*N$6),""))
A12: 5 | B12: =INDEX('T-Transportation'!$C$6:$C$44,MATCH(Table195781011121314236172728151617187202128[[#This Row],[a]],'T-Transportation'!$B$6:$B$44,0)) -> Twinning of 32 Street from North Railway Street to 338 Avenue | C12: =INDEX('T-Transportation'!$G$6:$G$17,MATCH(Table195781011121314236172728151617187202128[[#This Row],[a]],'T-Transportation'!$B$6:$B$17,0)) -> 2036 | D12: =INDEX('T-Transportation'!$H$6:$H$17,MATCH(Table195781011121314236172728151617187202128[[#This Row],[a]],'T-Transportation'!$B$6:$B$17,0)) -> 2045 | E12: =(D12-C12)+1 -> 10 | F12: =INDEX('T-Transportation'!$L$6:$L$17,MATCH(Table195781011121314236172728151617187202128[[#This Row],[a]],'T-Transportation'!$B$6:$B$17,0)) -> 11880467 | H12: =+Table195781011121314236172728151617187202128[[#This Row],[f]]-Table195781011121314236172728151617187202128[[#This Row],[g]] -> 11880467 | I12: =INDEX('T-Transportation'!$I$6:$I$17,MATCH(Table195781011121314236172728151617187202128[[#This Row],[a]],'T-Transportation'!$B$6:$B$17,0)) -> 0.503 | J12: =1-Table195781011121314236172728151617187202128[[#This Row],[i]] -> 0.497 | K12: =(Table195781011121314236172728151617187202128[[#This Row],[h]]*Table195781011121314236172728151617187202128[[#This Row],[i]]) -> 5975875.2 | L12: =IF(AND(L$10=$C12,L$10=$D12),(($K12/$E12)*L$6),IF(AND(L$10>=$C12,L$10<=$D12),(($K12/$E12)*L$6),"")) | M12: =IF(AND(M$10=$C12,M$10=$D12),(($K12/$E12)*M$6),IF(AND(M$10>=$C12,M$10<=$D12),(($K12/$E12)*M$6),"")) | N12: =IF(AND(N$10=$C12,N$10=$D12),(($K12/$E12)*N$6),IF(AND(N$10>=$C12,N$10<=$D12),(($K12/$E12)*N$6),"")) | O12: =IF(AND(O$10=$C12,O$10=$D12),(($K12/$E12)*O$6),IF(AND(O$10>=$C12,O$10<=$D12),(($K12/$E12)*O$6),"")) | P12: =IF(AND(P$10=$C12,P$10=$D12),(($K12/$E12)*P$6),IF(AND(P$10>=$C12,P$10<=$D12),(($K12/$E12)*P$6),"")) | Q12: =IF(AND(Q$10=$C12,Q$10=$D12),(($K12/$E12)*Q$6),IF(AND(Q$10>=$C12,Q$10<=$D12),(($K12/$E12)*Q$6),"")) | R12: =IF(AND(R$10=$C12,R$10=$D12),(($K12/$E12)*R$6),IF(AND(R$10>=$C12,R$10<=$D12),(($K12/$E12)*R$6),"")) | S12: =IF(AND(S$10=$C12,S$10=$D12),(($K12/$E12)*S$6),IF(AND(S$10>=$C12,S$10<=$D12),(($K12/$E12)*S$6),"")) | ... BS12: =IF(AND(BS$10=$C12,BS$10=$D12),(($K12/$E12)*BS$6),IF(AND(BS$10>=$C12,BS$10<=$D12),(($K12/$E12)*BS$6),"")) | BT12: =SUM(L12:BS12) -> 8570167.4
