Workbook
Name a: #REF!
Name Beg_Bal: #REF!
Name Buddata: #REF!
Name Capdata1: #REF!
Name CFWD: #REF!
Name CondoALC: #REF!
Name Contingency: #REF!
Name Cum_Int: #REF!
Name Data: #REF!
Name del: #REF!
Name End_Bal: #REF!
Name Engineering: #REF!
Name Extra_Pay: #REF!
Name fgdsfdgf: #REF!
Name fgdsfdgf: #REF!
Name fgdsfdgf: #REF!
Name fgdsfdgf: #REF!
Name Full_Print: #REF!
Name Header_Row: ROW(#REF!)
Name Int: #REF!
Name INTBAL: #REF!
Name Interest_Rate: #REF!
Name INVENTORY96: #REF!
Name INVENTORY97: #REF!
Name INVENTORY98: #REF!
Name JMH_Markups: #REF!
Name LAND4SALE96: #REF!
Name LAND4SALE97: #REF!
Name LANDREDUCE97: #REF!
Name Last_Row: IF('Cost Recovery Timing'!Values_Entered,[0]!Header_Row+'Cost Recovery Timing'!Number_of_Payments,[0]!Header_Row)
Name Last_Row: IF('Project List '!Values_Entered,[0]!Header_Row+'Project List '!Number_of_Payments,[0]!Header_Row)
Name Last_Row: IF('Recreation - OSL'!Values_Entered,[0]!Header_Row+'Recreation - OSL'!Number_of_Payments,[0]!Header_Row)
Name Last_Row: IF('R-Recreation'!Values_Entered,[0]!Header_Row+'R-Recreation'!Number_of_Payments,[0]!Header_Row)
Name Last_Row: IF(Values_Entered,Header_Row+Number_of_Payments,Header_Row)
Name Loan_Amount: #REF!
Name Loan_Start: #REF!
Name Loan_Years: #REF!
Name Num_Pmt_Per_Year: #REF!
Name Number_of_Payments: MATCH(0.01,[0]!End_Bal,-1)+1
Name Number_of_Payments: MATCH(0.01,[0]!End_Bal,-1)+1
Name Number_of_Payments: MATCH(0.01,[0]!End_Bal,-1)+1
Name Number_of_Payments: MATCH(0.01,[0]!End_Bal,-1)+1
Name Number_of_Payments: MATCH(0.01,End_Bal,-1)+1
Name Pay_Date: #REF!
Name Pay_Num: #REF!
Name Payment_Date: DATE(YEAR([0]!Loan_Start),MONTH([0]!Loan_Start)+Payment_Number,DAY([0]!Loan_Start))
Name Payment_Date: DATE(YEAR([0]!Loan_Start),MONTH([0]!Loan_Start)+Payment_Number,DAY([0]!Loan_Start))
Name Payment_Date: DATE(YEAR([0]!Loan_Start),MONTH([0]!Loan_Start)+Payment_Number,DAY([0]!Loan_Start))
Name Payment_Date: DATE(YEAR([0]!Loan_Start),MONTH([0]!Loan_Start)+Payment_Number,DAY([0]!Loan_Start))
Name Payment_Date: DATE(YEAR([0]!Loan_Start),MONTH([0]!Loan_Start)+Payment_Number,DAY([0]!Loan_Start))
Name Payment_Date: DATE(YEAR(Loan_Start),MONTH(Loan_Start)+Payment_Number,DAY(Loan_Start))
Name payments_per_year: #REF!
Name payments_per_year: #REF!
Name payments_per_year: #REF!
Name payments_per_year: #REF!
Name Princ: #REF!
Name PRINCBAL: #REF!
Name Print_Area_Reset: OFFSET([0]!Full_Print,0,0,'Cost Recovery Timing'!Last_Row)
Name Print_Area_Reset: OFFSET([0]!Full_Print,0,0,'Project List '!Last_Row)
Name Print_Area_Reset: OFFSET([0]!Full_Print,0,0,'Recreation - OSL'!Last_Row)

Sheet Read Me
A1: HOW TO USE THIS DOCUMENT
A2: This workbook contains the financial models used to determine the Off-site Levy (OSL) rates as a part of the 2026 Off-site Levy Bylaw update. This financial model uses the latest information and assumptions available at the time of the update. The following tables describe the tabs contained within this workbook:
A4: Tab Title | B4: Description
A5: Assumptions | B5: This tab provides the assumptions that feed into the OSL infrastruture category models including interest & inflation rates, project contingencies, and 2025 OSL Reserve Fund Balances.
A6: Oversize Costs | B6: 2026 City of Calgary Development Agreement Rates for Sanitary Collection and Transportation utilitzed to calculate improvements beyond local development costs to be recovered through the OSL.
A7: 2025 OSL Account Detail | B7: 2025 Off-Site Levy Fund Balances, Payments, agreements executed, and project expenditures, used to calculate levy fund opening balance at start of 2026 for each infrastructure category.
A8: 2026 Collections Summary | B8: 2026 Off-Site Levy fund payments collected to date, agreements executed to date, and upcoming agreements to be executed in 2026, used in Cost Recovery Timing tab for remaining 2026 growth projection.
A9: Debentures for OSL Model | B9: Loan schedules from debt advanced by the Town to finance infrastructure, including annual interest and principle payments.
A10: Cost Recovery Timing | B10: Population growth table for Okotoks based on Growth Projections from Okotoks Growth Strategy (2025). Cost Recovery approach and contributing hectares varies for each infrastructure category.
A11: Project List | B11: Includes all project information including descriptions, timing, allocation of benefit, and costs.
A13: Model Tabs | B13: The models function by using a goal seek to determine levy rate (cell I20) based on setting the Off-site Levy Fee Reserve Fund Closing Balance (column N) to be zero in the balance year. Steps: 1. Data tab > What-If Analysis > Goal Seek 2. Set cell: balance year in Column N To value: 0 By changing cell: I20 3. Click OK and accept new results

Sheet Assumptions
A1: MODEL ASSUMPTIONS
A3: Current Year | B3: 2026 | C3: enter figure
G4: Bank of Canada:
A5: Interest Rates (%) | D5: Rational
A6: Interest Earned - Positive (+) | B6: =AVERAGE(K15:K19) -> 0.02674 | C6: enter figure | D6: Based on average interest earned on positive fund balances from Town of Okotoks (2021-2025)
A7: Interest Paid on Debt or Deficit (-) - TOWN FRONT ENDED | B7: =AVERAGE(K8:K12) -> 0.04496 | C7: enter figure | D7: Based on 5-year Average (2021-2025) - Alberta Capital Finance (25-year debenture) | G7: Alberta Capital Finance: | J7: Year | K7: 25 Year Debenture
A8: Interest Paid on Debt or Deficit (-) - DEVELOPER FRONT ENDED | B8: 0 | C8: enter figure | D8: Carrying costs are not assumed for infrastructure front-ended by developer | J8: 2025 | K8: 0.0461
J9: 2024 | K9: 0.0519
J10: 2023 | K10: 0.0527
A11: Project Stage | B11: Contingency (%) | J11: 2022 | K11: 0.0462
B12: Low | C12: High | J12: 2021 | K12: 0.0279
A13: Conceptual | B13: 0.35 | C13: 0.5
A14: Functional | B14: 0.25 | C14: 0.35 | G14: Interest Earned Rate: | J14: Year | K14: Interest Earned
A15: Preliminary Design | B15: 0.15 | C15: 0.25 | J15: 2025 | K15: 0.0306
A16: Detailed Design | B16: 0.1 | C16: 0.15 | J16: 2024 | K16: 0.0275
J17: 2023 | K17: 0.0285
A18: Inflation Rates (%) | J18: 2022 | K18: 0.022
A19: Project Cost Inflation - Applied to Future Project Costs - | B19: 0.025 | J19: 2021 | K19: 0.0251
A20: Project Cost Inflation - to bring Project Costs to $2026 (save for Recreation Projects) - | B20: 0.025
A21: Project Cost Inflation - to bring Project Costs to $2026 (for Recreation Projects) - | B21: 0.05
A23: Inflation Rates (%) - Levy Rate
A24: 25 year window | B24: 0.02
A26: Payment Timing - Off-site Levies
A27: Within 2 Years | B27: 0.4
A28: Within 1 Year | B28: 0.3
A29: Upon Execution | B29: 0.3
A31: End of 2025 Fund Balances
A32: Community Amenities | B32: ='2026 Collections Summary'!B2 -> 2749535.8

Sheet 2026 Collections Summary
A1: Off-Site Levy Fund Balances as at December 31, 2025
A2: Community Amenity Levy | B2: 2749535.8
A4: 2026 Assumed Agreements Executed
A5: Land Description | B5: Community Amenity Levy | C5: Development Area (ha)
A6: Burnswest Phase 2 | B6: =65806*C6 -> 1242746.3 | C6: 18.885
A7: Ridgemont Phase 1 | B7: =65806*C7 -> 817178.91 | C7: 12.418
A8: Tillotson Phase 2 | B8: =65806*C8 -> 639897.54 | C8: 9.724
A9: Total to Date | B9: =SUM(B6:B8) -> 2699822.8 | C9: =SUM(C6:C8) -> 41.027
A10: D'Arcy Phase 12 | C10: 4.664
A11: D'Arcy Phase 18 | C11: 3.79
A12: D'Arcy Phase 19 | C12: 3.34
A13: Wedderburn Phase 11 | C13: 6.682
A14: Assumed Agreements for Remainder of 2026 | C14: =SUM(C10:C13) -> 18.476 | D14: <- Based on received subdivision applications
A16: 2026 Payments Collected (1st Payment of 2026 Agreements Executed and 2nd Payment of 2025 Agreements Executed)
B17: Community Amenity Levy
A18: 2025 Agreement Carry-over | B18: =B28 -> 402251.44
A19: 2026 Agreement Collections (50%) | B19: =B9/2 -> 1349911.4 | C19: <- 2026 agreements executed are only collected at 50% in year 1
A20: 2026 Collections | B20: =SUM(B18:B19) -> 1752162.8
A22: 2026 Payments Collected (2025 Agreements - 2nd Payments)
A23: Land Description | B23: Community Amenity Levy | C23: Development Area (ha)
A24: D'Arcy Phase 11 (MR) | B24: 17218.355 | C24: 0.539
A25: D'Arcy Phase 14 | B25: 41816.005 | C25: 1.309
A26: D'Arcy Phase 15 | B26: 241791.7 | C26: 7.569
A27: Wedderburn Phase 8 | B27: 101425.38 | C27: 3.175
A28: Total | B28: =SUM(B24:B27) -> 402251.44 | C28: =SUM(C24:C27) -> 12.592
A30: 2027 Collections
B31: Community Amenity Levy
A32: 2026 Agreement Collections (50%) | B32: =B9/2 -> 1349911.4
A33: 2027 Collections | B33: =SUM(B32:B32) -> 1349911.4

Sheet Cost Recovery Timing
B3: Baseline population taken from Alberta Dashboard | Q3: Assumed Remaining 2026 Growth (June 1, 2026 to December 31, 2026): | R3: ='2026 Collections Summary'!$C$14 -> 18.476
B4: Source: https://regionaldashboard.alberta.ca/region/okotoks/population/#/?from=2021&to=2025
R7: =SUM(R15:R124) -> 489.27336
R8: =R14 -> 489.27336
B11: Population and Emploiyment Growth Projections - Based on Okotoks Growth Strategy (2024) | N11: Assumed Annual Growth - Mid 2026 Onwards (ha) | Q11: Cost Recovery Timing
B12: Year | C12: Population Growth Rate | D12: Residential Population | E12: Annual Population Growth | F12: Annual Employment Growth | G12: Annual Residential Hectare Growth (ha) | H12: Annual Employment Hectare Growth (ha) | I12: Cumulative Residential (ha) | J12: Cumulative Non-Residential (ha) | K12: Annual total (ha) | L12: Cumulative total (ha) | N12: Mid 2026 Totals (ha) | Q12: Infrastructure Category | R12: Recreation
N13: Annual | O13: Cumulative
B14: 2025 | C14: =(D15-D14)/D14 -> 0.046263664 | D14: 33482 | E14: 1549 | F14: 934 | G14: 19.03 | H14: 9.55 | I14: =+G14+I13 -> 19.03 | J14: =+H14+J13 -> 9.55 | K14: =ROUND(G14+H14,2) -> 28.58 | L14: 0 | N14: 0 | O14: 0 | Q14: Assumed Total Contributing Hectares | R14: 489.27336
B15: 2026 | C15: =(D16-D15)/D15 -> 0.044217978 | D15: =E15+D14 -> 35031 | E15: =+E14 -> 1549 | F15: 934 | G15: 19.03 | H15: 9.55 | I15: =+G15+I14 -> 38.06 | J15: =+H15+J14 -> 19.1 | K15: =ROUND(G15+H15,2) -> 28.58 | L15: =+K15+L14 -> 28.58 | N15: =R3 -> 18.476 | O15: =N15 -> 18.476 | Q15: 2026 | R15: =IF($R$14>O15,N15,IF($R$14-O14>0,$R$14-O14,0)) -> 18.476
B16: 2027 | C16: =(D17-D16)/D16 -> 0.042345544 | D16: =E16+D15 -> 36580 | E16: =+E15 -> 1549 | F16: 934 | G16: 19.03 | H16: 9.55 | I16: =+G16+I15 -> 57.09 | J16: =+H16+J15 -> 28.65 | K16: =ROUND(G16+H16,2) -> 28.58 | L16: =+K16+L15 -> 57.16 | N16: =K16 -> 28.58 | O16: =N16+O15 -> 47.056 | Q16: 2027 | R16: =IF($R$14>O16,N16,IF($R$14-O15>0,$R$14-O15,0)) -> 28.58
B17: 2028 | C17: =(D18-D17)/D17 -> 0.040625246 | D17: =E17+D16 -> 38129 | E17: =+E16 -> 1549 | F17: 934 | G17: 19.03 | H17: 9.55 | I17: =+G17+I16 -> 76.12 | J17: =+H17+J16 -> 38.2 | K17: =ROUND(G17+H17,2) -> 28.58 | L17: =+K17+L16 -> 85.74 | N17: =K17 -> 28.58 | O17: =N17+O16 -> 75.636 | Q17: 2028 | R17: =IF($R$14>O17,N17,IF($R$14-O16>0,$R$14-O16,0)) -> 28.58
B18: 2029 | C18: =(D19-D18)/D18 -> 0.039039266 | D18: =E18+D17 -> 39678 | E18: =+E17 -> 1549 | F18: 934 | G18: 19.03 | H18: 9.55 | I18: =+G18+I17 -> 95.15 | J18: =+H18+J17 -> 47.75 | K18: =ROUND(G18+H18,2) -> 28.58 | L18: =+K18+L17 -> 114.32 | N18: =K18 -> 28.58 | O18: =N18+O17 -> 104.216 | Q18: 2029 | R18: =IF($R$14>O18,N18,IF($R$14-O17>0,$R$14-O17,0)) -> 28.58
B19: 2030 | C19: =(D20-D19)/D19 -> 0.037572465 | D19: =E19+D18 -> 41227 | E19: =+E18 -> 1549 | F19: 934 | G19: 19.03 | H19: 9.55 | I19: =+G19+I18 -> 114.18 | J19: =+H19+J18 -> 57.3 | K19: =ROUND(G19+H19,2) -> 28.58 | L19: =+K19+L18 -> 142.9 | N19: =K19 -> 28.58 | O19: =N19+O18 -> 132.796 | Q19: 2030 | R19: =IF($R$14>O19,N19,IF($R$14-O18>0,$R$14-O18,0)) -> 28.58
B20: 2031 | C20: =(D21-D20)/D20 -> 0.036211895 | D20: =E20+D19 -> 42776 | E20: =+E19 -> 1549 | F20: 934 | G20: 19.03 | H20: 9.55 | I20: =+G20+I19 -> 133.21 | J20: =+H20+J19 -> 66.85 | K20: =ROUND(G20+H20,2) -> 28.58 | L20: =+K20+L19 -> 171.48 | N20: =K20 -> 28.58 | O20: =N20+O19 -> 161.376 | Q20: 2031 | R20: =IF($R$14>O20,N20,IF($R$14-O19>0,$R$14-O19,0)) -> 28.58
B21: 2032 | C21: =(D22-D21)/D21 -> 0.034946418 | D21: =E21+D20 -> 44325 | E21: =+E20 -> 1549 | F21: 934 | G21: 19.03 | H21: 9.55 | I21: =+G21+I20 -> 152.24 | J21: =+H21+J20 -> 76.4 | K21: =ROUND(G21+H21,2) -> 28.58 | L21: =+K21+L20 -> 200.06 | N21: =K21 -> 28.58 | O21: =N21+O20 -> 189.956 | Q21: 2032 | R21: =IF($R$14>O21,N21,IF($R$14-O20>0,$R$14-O20,0)) -> 28.58
B22: 2033 | C22: =(D23-D22)/D22 -> 0.033766404 | D22: =E22+D21 -> 45874 | E22: =+E21 -> 1549 | F22: 934 | G22: 19.03 | H22: 9.55 | I22: =+G22+I21 -> 171.27 | J22: =+H22+J21 -> 85.95 | K22: =ROUND(G22+H22,2) -> 28.58 | L22: =+K22+L21 -> 228.64 | N22: =K22 -> 28.58 | O22: =N22+O21 -> 218.536 | Q22: 2033 | R22: =IF($R$14>O22,N22,IF($R$14-O21>0,$R$14-O21,0)) -> 28.58
B23: 2034 | C23: =(D24-D23)/D23 -> 0.032663476 | D23: =E23+D22 -> 47423 | E23: =+E22 -> 1549 | F23: 934 | G23: 19.03 | H23: 9.55 | I23: =+G23+I22 -> 190.3 | J23: =+H23+J22 -> 95.5 | K23: =ROUND(G23+H23,2) -> 28.58 | L23: =+K23+L22 -> 257.22 | N23: =K23 -> 28.58 | O23: =N23+O22 -> 247.116 | Q23: 2034 | R23: =IF($R$14>O23,N23,IF($R$14-O22>0,$R$14-O22,0)) -> 28.58
B24: 2035 | C24: =(D25-D24)/D24 -> 0.031630319 | D24: =E24+D23 -> 48972 | E24: =+E23 -> 1549 | F24: 934 | G24: 19.03 | H24: 9.55 | I24: =+G24+I23 -> 209.33 | J24: =+H24+J23 -> 105.05 | K24: =ROUND(G24+H24,2) -> 28.58 | L24: =+K24+L23 -> 285.8 | N24: =K24 -> 28.58 | O24: =N24+O23 -> 275.696 | Q24: 2035 | R24: =IF($R$14>O24,N24,IF($R$14-O23>0,$R$14-O23,0)) -> 28.58
B25: 2036 | C25: =(D26-D25)/D25 -> 0.030660517 | D25: =E25+D24 -> 50521 | E25: =+E24 -> 1549 | F25: 934 | G25: 19.03 | H25: 9.55 | I25: =+G25+I24 -> 228.36 | J25: =+H25+J24 -> 114.6 | K25: =ROUND(G25+H25,2) -> 28.58 | L25: =+K25+L24 -> 314.38 | N25: =K25 -> 28.58 | O25: =N25+O24 -> 304.276 | Q25: 2036 | R25: =IF($R$14>O25,N25,IF($R$14-O24>0,$R$14-O24,0)) -> 28.58
B26: 2037 | C26: =(D27-D26)/D26 -> 0.029748416 | D26: =E26+D25 -> 52070 | E26: =+E25 -> 1549 | F26: 934 | G26: 19.03 | H26: 9.55 | I26: =+G26+I25 -> 247.39 | J26: =+H26+J25 -> 124.15 | K26: =ROUND(G26+H26,2) -> 28.58 | L26: =+K26+L25 -> 342.96 | N26: =K26 -> 28.58 | O26: =N26+O25 -> 332.856 | Q26: 2037 | R26: =IF($R$14>O26,N26,IF($R$14-O25>0,$R$14-O25,0)) -> 28.58
B27: 2038 | C27: =(D28-D27)/D27 -> 0.028889013 | D27: =E27+D26 -> 53619 | E27: =+E26 -> 1549 | F27: 934 | G27: 19.03 | H27: 9.55 | I27: =+G27+I26 -> 266.42 | J27: =+H27+J26 -> 133.7 | K27: =ROUND(G27+H27,2) -> 28.58 | L27: =+K27+L26 -> 371.54 | N27: =K27 -> 28.58 | O27: =N27+O26 -> 361.436 | Q27: 2038 | R27: =IF($R$14>O27,N27,IF($R$14-O26>0,$R$14-O26,0)) -> 28.58
... B31: 2042 | C31: =(D32-D31)/D31 -> 0.025896514 | D31: =E31+D30 -> 59815 | E31: =+E30 -> 1549 | F31: 934 | G31: 19.03 | H31: 9.55 | I31: =+G31+I30 -> 342.54 | J31: =+H31+J30 -> 171.9 | K31: =ROUND(G31+H31,2) -> 28.58 | L31: =+K31+L30 -> 485.86 | N31: =K31 -> 28.58 | O31: =N31+O30 -> 475.756 | Q31: 2042 | R31: =IF($R$14>O31,N31,IF($R$14-O30>0,$R$14-O30,0)) -> 28.58
A32: Infrastructure Capacity Reached | B32: 2043 | C32: =(D33-D32)/D32 -> 0.025242813 | D32: =E32+D31 -> 61364 | E32: =+E31 -> 1549 | F32: 934 | G32: 19.03 | H32: 9.55 | I32: =+G32+I31 -> 361.57 | J32: =+H32+J31 -> 181.45 | K32: =ROUND(G32+H32,2) -> 28.58 | L32: =+K32+L31 -> 514.44 | N32: =K32 -> 28.58 | O32: =N32+O31 -> 504.336 | Q32: 2043 | R32: =IF($R$14>O32,N32,IF($R$14-O31>0,$R$14-O31,0)) -> 13.517363
B33: 2044 | C33: =(D34-D33)/D33 -> 0.024621302 | D33: =E33+D32 -> 62913 | E33: =+E32 -> 1549 | F33: 934 | G33: 19.03 | H33: 9.55 | I33: =+G33+I32 -> 380.6 | J33: =+H33+J32 -> 191 | K33: =ROUND(G33+H33,2) -> 28.58 | L33: =+K33+L32 -> 543.02 | N33: =K33 -> 28.58 | O33: =N33+O32 -> 532.916 | Q33: 2044 | R33: =IF($R$14>O33,N33,IF($R$14-O32>0,$R$14-O32,0)) -> 0
B34: 2045 | C34: =(D35-D34)/D34 -> 0.024029661 | D34: =E34+D33 -> 64462 | E34: =+E33 -> 1549 | F34: 934 | G34: 19.03 | H34: 9.55 | I34: =+G34+I33 -> 399.63 | J34: =+H34+J33 -> 200.55 | K34: =ROUND(G34+H34,2) -> 28.58 | L34: =+K34+L33 -> 571.6 | N34: =K34 -> 28.58 | O34: =N34+O33 -> 561.496 | Q34: 2045 | R34: =IF($R$14>O34,N34,IF($R$14-O33>0,$R$14-O33,0)) -> 0
B35: 2046 | C35: =(D36-D35)/D35 -> 0.023465786 | D35: =E35+D34 -> 66011 | E35: =+E34 -> 1549 | F35: 934 | G35: 19.03 | H35: 9.55 | I35: =+G35+I34 -> 418.66 | J35: =+H35+J34 -> 210.1 | K35: =ROUND(G35+H35,2) -> 28.58 | L35: =+K35+L34 -> 600.18 | N35: =K35 -> 28.58 | O35: =N35+O34 -> 590.076 | Q35: 2046 | R35: =IF($R$14>O35,N35,IF($R$14-O34>0,$R$14-O34,0)) -> 0
B36: 2047 | C36: =(D37-D36)/D36 -> 0.022927768 | D36: =E36+D35 -> 67560 | E36: =+E35 -> 1549 | F36: 934 | G36: 19.03 | H36: 9.55 | I36: =+G36+I35 -> 437.69 | J36: =+H36+J35 -> 219.65 | K36: =ROUND(G36+H36,2) -> 28.58 | L36: =+K36+L35 -> 628.76 | N36: =K36 -> 28.58 | O36: =N36+O35 -> 618.656 | Q36: 2047 | R36: =IF($R$14>O36,N36,IF($R$14-O35>0,$R$14-O35,0)) -> 0
B37: 2048 | C37: =(D38-D37)/D37 -> 0.022413868 | D37: =E37+D36 -> 69109 | E37: =+E36 -> 1549 | F37: 934 | G37: 19.03 | H37: 9.55 | I37: =+G37+I36 -> 456.72 | J37: =+H37+J36 -> 229.2 | K37: =ROUND(G37+H37,2) -> 28.58 | L37: =+K37+L36 -> 657.34 | N37: =K37 -> 28.58 | O37: =N37+O36 -> 647.236 | Q37: 2048 | R37: =IF($R$14>O37,N37,IF($R$14-O36>0,$R$14-O36,0)) -> 0
B38: 2049 | C38: =(D39-D38)/D38 -> 0.0219225 | D38: =E38+D37 -> 70658 | E38: =+E37 -> 1549 | F38: 934 | G38: 19.03 | H38: 9.55 | I38: =+G38+I37 -> 475.75 | J38: =+H38+J37 -> 238.75 | K38: =ROUND(G38+H38,2) -> 28.58 | L38: =+K38+L37 -> 685.92 | N38: =K38 -> 28.58 | O38: =N38+O37 -> 675.816 | Q38: 2049 | R38: =IF($R$14>O38,N38,IF($R$14-O37>0,$R$14-O37,0)) -> 0
B39: 2050 | C39: =(D40-D39)/D39 -> 0.021452214 | D39: =E39+D38 -> 72207 | E39: =+E38 -> 1549 | F39: 934 | G39: 19.03 | H39: 9.55 | I39: =+G39+I38 -> 494.78 | J39: =+H39+J38 -> 248.3 | K39: =ROUND(G39+H39,2) -> 28.58 | L39: =+K39+L38 -> 714.5 | N39: =K39 -> 28.58 | O39: =N39+O38 -> 704.396 | Q39: 2050 | R39: =IF($R$14>O39,N39,IF($R$14-O38>0,$R$14-O38,0)) -> 0
B40: 2051 | C40: =(D41-D40)/D40 -> 0.021001681 | D40: =E40+D39 -> 73756 | E40: =+E39 -> 1549 | F40: 934 | G40: 19.03 | H40: 9.55 | I40: =+G40+I39 -> 513.81 | J40: =+H40+J39 -> 257.85 | K40: =ROUND(G40+H40,2) -> 28.58 | L40: =+K40+L39 -> 743.08 | N40: =K40 -> 28.58 | O40: =N40+O39 -> 732.976 | Q40: 2051 | R40: =IF($R$14>O40,N40,IF($R$14-O39>0,$R$14-O39,0)) -> 0
B41: 2052 | C41: =(D42-D41)/D41 -> 0.020569683 | D41: =E41+D40 -> 75305 | E41: =+E40 -> 1549 | F41: 934 | G41: 19.03 | H41: 9.55 | I41: =+G41+I40 -> 532.84 | J41: =+H41+J40 -> 267.4 | K41: =ROUND(G41+H41,2) -> 28.58 | L41: =+K41+L40 -> 771.66 | N41: =K41 -> 28.58 | O41: =N41+O40 -> 761.556 | Q41: 2052 | R41: =IF($R$14>O41,N41,IF($R$14-O40>0,$R$14-O40,0)) -> 0
B42: 2053 | C42: =(D43-D42)/D42 -> 0.020155099 | D42: =E42+D41 -> 76854 | E42: =+E41 -> 1549 | F42: 934 | G42: 19.03 | H42: 9.55 | I42: =+G42+I41 -> 551.87 | J42: =+H42+J41 -> 276.95 | K42: =ROUND(G42+H42,2) -> 28.58 | L42: =+K42+L41 -> 800.24 | N42: =K42 -> 28.58 | O42: =N42+O41 -> 790.136 | Q42: 2053 | R42: =IF($R$14>O42,N42,IF($R$14-O41>0,$R$14-O41,0)) -> 0
B43: 2054 | C43: =(D44-D43)/D43 -> 0.019756897 | D43: =E43+D42 -> 78403 | E43: =+E42 -> 1549 | F43: 934 | G43: 19.03 | H43: 9.55 | I43: =+G43+I42 -> 570.9 | J43: =+H43+J42 -> 286.5 | K43: =ROUND(G43+H43,2) -> 28.58 | L43: =+K43+L42 -> 828.82 | N43: =K43 -> 28.58 | O43: =N43+O42 -> 818.716 | Q43: 2054 | R43: =IF($R$14>O43,N43,IF($R$14-O42>0,$R$14-O42,0)) -> 0
B44: 2055 | C44: =(D45-D44)/D44 -> 0.019374124 | D44: =E44+D43 -> 79952 | E44: =+E43 -> 1549 | F44: 934 | G44: 19.03 | H44: 9.55 | I44: =+G44+I43 -> 589.93 | J44: =+H44+J43 -> 296.05 | K44: =ROUND(G44+H44,2) -> 28.58 | L44: =+K44+L43 -> 857.4 | N44: =K44 -> 28.58 | O44: =N44+O43 -> 847.296 | Q44: 2055 | R44: =IF($R$14>O44,N44,IF($R$14-O43>0,$R$14-O43,0)) -> 0
... B123: 2134 | C123: =(D124-D123)/D123 -> 0.0076560747 | D123: =E123+D122 -> 202323 | E123: =+E122 -> 1549 | F123: 934 | G123: 19.03 | H123: 9.55 | I123: =+G123+I122 -> 2093.3 | J123: =+H123+J122 -> 1050.5 | K123: =ROUND(G123+H123,2) -> 28.58 | L123: =+K123+L122 -> 3115.22 | N123: =K123 -> 28.58 | O123: =N123+O122 -> 3105.116 | Q123: 2134 | R123: =IF($R$14>O123,N123,IF($R$14-O122>0,$R$14-O122,0)) -> 0
B124: 2135 | C124: =(#REF!-D124)/D124 -> #REF! | D124: =E124+D123 -> 203872 | E124: =+E123 -> 1549 | F124: 934 | G124: 19.03 | H124: 9.55 | I124: =+G124+I123 -> 2112.33 | J124: =+H124+J123 -> 1060.05 | K124: =ROUND(G124+H124,2) -> 28.58 | L124: =+K124+L123 -> 3143.8 | N124: =K124 -> 28.58 | O124: =N124+O123 -> 3133.696 | Q124: 2135 | R124: =IF($R$14>L124,K124,IF($R$14-L123>0,$R$14-L123,0)) -> 0

Sheet Project List 
B3: Project Description | E3: Assumed Approach to | G3: Timing | I3: Benefit | K3: Regional Benefit | M3: Project Costs | X3: Debentures | Z3: Grants | AA3: Project Expenditures | AF3: Regional Share | AH3: Share | AJ3: Front-Ended by Others and Oversize Recovery Eligible | AK3: Oversize
B4: Code | C4: Name | D4: Description | E4: Financing | F4: Funding | G4: Start Year | H4: End Year | I4: Benefit to Growth | J4: Benefit to Existing | K4: Benefit to Okotoks | L4: Benefit to Foothills | M4: Project Costs w/o Contingency ($2022) | N4: Project Costs w/o Contingency ($2024) | O4: Project Costs w/o Contingency ($2025) | P4: Project Stage | Q4: Contingency (%) | R4: Engineering (15%) | S4: Total Project Cost ($2022) | T4: Total Project Cost ($2023) | U4: Total Project Cost ($2024) | V4: Total Project Cost ($2025) | W4: Total Project Cost ($2026) | X4: Project Constructed and Funded under existing Debenture? | Y4: Debenture Principle ($) | Z4: Assumed Grant Value | AA4: Expenses in 2021 ($2021) | AB4: Expenses in 2023 ($2023) | AC4: Expenses in 2024 ($2024) | AD4: Expenses in 2025 ($2025) | AE4: Future/Remaining Project Costs ($2026) | AF4: Okotoks Share | AG4: Foothills Share | AH4: Growth Share | AI4: Existing Share | AK4: Pipe / Road Length (m) | AL4: Oversize Cost Recovery | AM4: Allocation of Benefit Rationale
A6: Community Amenities | B6: R-1A | C6: Recreation Centre Expansion - Leisure Water and Other | E6: Town | F6: OSL | G6: 2029 | H6: 2031 | I6: 0.47 | J6: =1-I6 -> 0.53 | K6: 0.81 | L6: =1-K6 -> 0.19 | M6: =55200000-2000000 -> 53200000 | N6: =M6*(1+Assumptions!$B$21)^2 -> 58653000 | P6: Conceptual | U6: 58653000 | V6: 61585650 | W6: 59014932 | X6: No | AE6: =W6 -> 59014932 | AF6: =AE6*K6 -> 47802095 | AG6: =AE6*L6 -> 11212837 | AH6: =AF6*I6 -> 22466985 | AI6: =AE6*J6 -> 31277914 | AJ6: No | AM6: The Okotoks Recreation Centre base expansion and leisure water addition is required immediately. Leisure water features do not currently exist in the Town of Okotoks, and as such, the benefit will be realized by both existing and new development. The allocation split between existing and new development is based on the current Town population versus total benefitting population.
B7: R-1B | C7: Recreation Centre Expansion - Leisure Water and Other - Design Work | E7: Town | F7: OSL | G7: 2026 | H7: 2026 | I7: 0.47 | J7: =1-I7 -> 0.53 | K7: 0.81 | L7: =1-K7 -> 0.19 | P7: Preliminary Design | W7: 5650000 | X7: No | AE7: =W7-AC7-AD7 -> 5650000 | AF7: =AE7*K7 -> 4576500 | AG7: =AE7*L7 -> 1073500 | AH7: =AF7*I7 -> 2150955 | AI7: =AE7*J7 -> 2994500 | AJ7: No | AM7: Same as above.
B8: R-2 | C8: Flatwater Expansion | E8: Town | F8: OSL | G8: 2033 | H8: 2034 | I8: 1 | J8: =1-I8 -> 0 | K8: 0.81 | L8: =1-K8 -> 0.19 | M8: =14800000-600000 -> 14200000 | N8: =M8*(1+Assumptions!$B$21)^2 -> 15655500 | P8: Conceptual | U8: 15655500 | V8: 16438275 | W8: 17260189 | X8: No | AE8: =W8-AC8 -> 17260189 | AF8: =AE8*K8 -> 13980753 | AG8: =AE8*L8 -> 3279435.9 | AH8: =AF8*I8 -> 13980753 | AI8: =AE8*J8 -> 0 | AJ8: No | AM8: The flatwater expansion is required to address increased demand from new development in Okotoks and, as such, the benefit will be fully realized by new development after considering the regional benefit allocation.

Sheet R-Recreation
B3: DRAFT OFF-SITE LEVY PROJECT LIST - Recreation
B4: Project Description | D4: Assumed Approach to | F4: Timing | H4: Benefit | J4: Benefit | L4: Project Costs | O4: Share
B5: Code | C5: Name | D5: Financing | E5: Funding | F5: Start Year | G5: End Year | H5: Benefit to Growth | I5: Benefit to Existing | J5: Benefit to Okotoks | K5: Regional Benefit | L5: Total Project Cost ($2026) | M5: Future/Remaining Project Costs ($2026) | N5: Okotoks Share | O5: Growth Share | P5: Existing Share
B6: R-1A | C6: =INDEX('Project List '!$C$6:$C$8, MATCH(B6,'Project List '!$B$6:$B$8,0)) -> Recreation Centre Expansion - Leisure Water and Other | D6: =INDEX('Project List '!$E$6:$E$8, MATCH(B6,'Project List '!$B$6:$B$8,0)) -> Town | E6: =INDEX('Project List '!$F$6:$F$8, MATCH(B6,'Project List '!$B$6:$B$8,0)) -> OSL | F6: =INDEX('Project List '!$G$6:$G$8, MATCH(B6,'Project List '!$B$6:$B$8,0)) -> 2029 | G6: =INDEX('Project List '!$H$6:$H$8, MATCH(B6,'Project List '!$B$6:$B$8,0)) -> 2031 | H6: =INDEX('Project List '!I$6:$I$8, MATCH(B6,'Project List '!$B$6:$B$8,0)) -> 0.47 | I6: =INDEX('Project List '!$J$6:$J$8, MATCH(B6,'Project List '!$B$6:$B$8,0)) -> 0.53 | J6: =INDEX('Project List '!$K$6:$K$8, MATCH(B6,'Project List '!$B$6:$B$8,0)) -> 0.81 | K6: =INDEX('Project List '!$L$6:$L$8, MATCH(B6,'Project List '!$B$6:$B$8,0)) -> 0.19 | L6: =INDEX('Project List '!$W$6:$W$8, MATCH(B6,'Project List '!$B$6:$B$8,0)) -> 59014932 | M6: =INDEX('Project List '!$AE$6:$AE$8, MATCH(B6,'Project List '!$B$6:$B$8,0)) -> 59014932 | N6: =INDEX('Project List '!$AF$6:$AF$8, MATCH(B6,'Project List '!$B$6:$B$8,0)) -> 47802095 | O6: =INDEX('Project List '!$AH$6:$AH$8, MATCH(B6,'Project List '!$B$6:$B$8,0)) -> 22466985 | P6: =INDEX('Project List '!$AI$6:$AI$8, MATCH(B6,'Project List '!$B$6:$B$8,0)) -> 31277914
B7: R-1B | C7: =INDEX('Project List '!$C$6:$C$8, MATCH(B7,'Project List '!$B$6:$B$8,0)) -> Recreation Centre Expansion - Leisure Water and Other - Design Work | D7: =INDEX('Project List '!$E$6:$E$8, MATCH(B7,'Project List '!$B$6:$B$8,0)) -> Town | E7: =INDEX('Project List '!$F$6:$F$8, MATCH(B7,'Project List '!$B$6:$B$8,0)) -> OSL | F7: =INDEX('Project List '!$G$6:$G$8, MATCH(B7,'Project List '!$B$6:$B$8,0)) -> 2026 | G7: =INDEX('Project List '!$H$6:$H$8, MATCH(B7,'Project List '!$B$6:$B$8,0)) -> 2026 | H7: =INDEX('Project List '!I$6:$I$8, MATCH(B7,'Project List '!$B$6:$B$8,0)) -> 0.47 | I7: =INDEX('Project List '!$J$6:$J$8, MATCH(B7,'Project List '!$B$6:$B$8,0)) -> 0.53 | J7: =INDEX('Project List '!$K$6:$K$8, MATCH(B7,'Project List '!$B$6:$B$8,0)) -> 0.81 | K7: =INDEX('Project List '!$L$6:$L$8, MATCH(B7,'Project List '!$B$6:$B$8,0)) -> 0.19 | L7: =INDEX('Project List '!$W$6:$W$8, MATCH(B7,'Project List '!$B$6:$B$8,0)) -> 5650000 | M7: =INDEX('Project List '!$AE$6:$AE$8, MATCH(B7,'Project List '!$B$6:$B$8,0)) -> 5650000 | N7: =INDEX('Project List '!$AF$6:$AF$8, MATCH(B7,'Project List '!$B$6:$B$8,0)) -> 4576500 | O7: =INDEX('Project List '!$AH$6:$AH$8, MATCH(B7,'Project List '!$B$6:$B$8,0)) -> 2150955 | P7: =INDEX('Project List '!$AI$6:$AI$8, MATCH(B7,'Project List '!$B$6:$B$8,0)) -> 2994500
B8: R-2 | C8: =INDEX('Project List '!$C$6:$C$8, MATCH(B8,'Project List '!$B$6:$B$8,0)) -> Flatwater Expansion | D8: =INDEX('Project List '!$E$6:$E$8, MATCH(B8,'Project List '!$B$6:$B$8,0)) -> Town | E8: =INDEX('Project List '!$F$6:$F$8, MATCH(B8,'Project List '!$B$6:$B$8,0)) -> OSL | F8: =INDEX('Project List '!$G$6:$G$8, MATCH(B8,'Project List '!$B$6:$B$8,0)) -> 2033 | G8: =INDEX('Project List '!$H$6:$H$8, MATCH(B8,'Project List '!$B$6:$B$8,0)) -> 2034 | H8: =INDEX('Project List '!I$6:$I$8, MATCH(B8,'Project List '!$B$6:$B$8,0)) -> 1 | I8: =INDEX('Project List '!$J$6:$J$8, MATCH(B8,'Project List '!$B$6:$B$8,0)) -> 0 | J8: =INDEX('Project List '!$K$6:$K$8, MATCH(B8,'Project List '!$B$6:$B$8,0)) -> 0.81 | K8: =INDEX('Project List '!$L$6:$L$8, MATCH(B8,'Project List '!$B$6:$B$8,0)) -> 0.19 | L8: =INDEX('Project List '!$W$6:$W$8, MATCH(B8,'Project List '!$B$6:$B$8,0)) -> 17260189 | M8: =INDEX('Project List '!$AE$6:$AE$8, MATCH(B8,'Project List '!$B$6:$B$8,0)) -> 17260189 | N8: =INDEX('Project List '!$AF$6:$AF$8, MATCH(B8,'Project List '!$B$6:$B$8,0)) -> 13980753 | O8: =INDEX('Project List '!$AH$6:$AH$8, MATCH(B8,'Project List '!$B$6:$B$8,0)) -> 13980753 | P8: =INDEX('Project List '!$AI$6:$AI$8, MATCH(B8,'Project List '!$B$6:$B$8,0)) -> 0
M9: =SUM(M6:M8) -> 81925121 | O9: =SUM(O6:O8) -> 38598693 | P9: =SUM(P6:P8) -> 34272414
B12: Inflated Project Costs
B13: Code | C13: Name | D13: 2026 Project Costs | E13: Project Cost in Year of Delivery
B14: R-1 | C14: Recreation Centre Expansion - Leisure Water and Other
B15: R-2 | C15: Flatwater Expansion

Sheet Recreation - OSL
B3: Recreation - OSL
B4: Town of Okotoks
B5: =Assumptions!B3&" $s" -> 2026 $s
L6: 1 | M6: =(1+M7) -> 1.025 | N6: =+(1+N7)*M6 -> 1.050625 | O6: =+(1+O7)*N6 -> 1.0768906 | P6: =+(1+P7)*O6 -> 1.1038129 | Q6: =+(1+Q7)*P6 -> 1.1314082 | R6: =+(1+R7)*Q6 -> 1.1596934 | S6: =+(1+S7)*R6 -> 1.1886858 | T6: =+(1+T7)*S6 -> 1.2184029 | U6: =+(1+U7)*T6 -> 1.248863 | ... BS6: =+(1+BS7)*BR6 -> 4.2924778
L7: =Assumptions!$B$19 -> 0.025 | M7: =Assumptions!$B$19 -> 0.025 | N7: =Assumptions!$B$19 -> 0.025 | O7: =Assumptions!$B$19 -> 0.025 | P7: =Assumptions!$B$19 -> 0.025 | Q7: =Assumptions!$B$19 -> 0.025 | R7: =Assumptions!$B$19 -> 0.025 | S7: =Assumptions!$B$19 -> 0.025 | ... BS7: =Assumptions!$B$19 -> 0.025
A8: Project # | B8: Category and Project Description | C8: Timing | F8: Off-site Levy Project Costs before Cost Deductions | I8: Benefit to New Development | J8: Benefit to Exisitng Development | K8: Off-site Levy Recoverable | L8: Future Value Compounded Interest
C9: Start Year | D9: End Year | E9: Years | G9: Cost Deductions (Grants, Local Developer Contributions) | H9: Net Project Cost | L9: 0 | M9: 1 | N9: =+M9+1 -> 2 | O9: =+N9+1 -> 3 | P9: =+O9+1 -> 4 | Q9: =+P9+1 -> 5 | R9: =+Q9+1 -> 6 | S9: =+R9+1 -> 7 | T9: =+S9+1 -> 8 | U9: =+T9+1 -> 9 | ... BS9: =+BR9+1 -> 59
F10: =CONCATENATE("(",$B$5,")") -> (2026 $s) | G10: =CONCATENATE("(",$B$5,")") -> (2026 $s) | H10: =CONCATENATE("(",$B$5,")") -> (2026 $s) | K10: =CONCATENATE("(",B5,")") -> (2026 $s) | L10: =Assumptions!B3 -> 2026 | M10: =L10+1 -> 2027 | N10: =M10+1 -> 2028 | O10: =N10+1 -> 2029 | P10: =O10+1 -> 2030 | Q10: =P10+1 -> 2031 | R10: =Q10+1 -> 2032 | S10: =R10+1 -> 2033 | T10: =S10+1 -> 2034 | ... BS10: =BR10+1 -> 2085 | BT10: TOTAL
A11: a | B11: b | C11: c | D11: d | E11: e | F11: f | G11: g | H11: h | I11: i | J11: j | K11: k | N11: =IF(AND(N$10=$C11,N$10=$D11),(($K11/$E11)*N$6),IF(AND(N$10>=$C11,N$10<=$D11),(($K11/$E11)*N$6),""))
A12: R-1A | B12: =INDEX('R-Recreation'!$C$6:$C$34,MATCH(Table19578101112131423617272815161718720232529[[#This Row],[a]],'R-Recreation'!$B$6:$B$34,0)) -> Recreation Centre Expansion - Leisure Water and Other | C12: =INDEX('R-Recreation'!$F$6:$F$10,MATCH(Table19578101112131423617272815161718720232529[[#This Row],[a]],'R-Recreation'!$B$6:$B$10,0)) -> 2029 | D12: =INDEX('R-Recreation'!$G$6:$G$10,MATCH(Table19578101112131423617272815161718720232529[[#This Row],[a]],'R-Recreation'!$B$6:$B$10,0)) -> 2031 | E12: =(D12-C12)+1 -> 3 | F12: =INDEX('R-Recreation'!$N$6:$N$10,MATCH(Table19578101112131423617272815161718720232529[[#This Row],[a]],'R-Recreation'!$B$6:$B$10,0)) -> 47802095 | H12: =+Table19578101112131423617272815161718720232529[[#This Row],[f]]-Table19578101112131423617272815161718720232529[[#This Row],[g]] -> 47802095 | I12: =INDEX('R-Recreation'!$H$6:$H$10,MATCH(Table19578101112131423617272815161718720232529[[#This Row],[a]],'R-Recreation'!$B$6:$B$10,0)) -> 0.47 | J12: =1-Table19578101112131423617272815161718720232529[[#This Row],[i]] -> 0.53 | K12: =(Table19578101112131423617272815161718720232529[[#This Row],[h]]*Table19578101112131423617272815161718720232529[[#This Row],[i]]) -> 22466985 | L12: =IF(AND(L$10=$C12,L$10=$D12),(($K12/$E12)*L$6),IF(AND(L$10>=$C12,L$10<=$D12),(($K12/$E12)*L$6),"")) | M12: =IF(AND(M$10=$C12,M$10=$D12),(($K12/$E12)*M$6),IF(AND(M$10>=$C12,M$10<=$D12),(($K12/$E12)*M$6),"")) | N12: =IF(AND(N$10=$C12,N$10=$D12),(($K12/$E12)*N$6),IF(AND(N$10>=$C12,N$10<=$D12),(($K12/$E12)*N$6),"")) | O12: =IF(AND(O$10=$C12,O$10=$D12),(($K12/$E12)*O$6),IF(AND(O$10>=$C12,O$10<=$D12),(($K12/$E12)*O$6),"")) -> 8064828.4 | P12: =IF(AND(P$10=$C12,P$10=$D12),(($K12/$E12)*P$6),IF(AND(P$10>=$C12,P$10<=$D12),(($K12/$E12)*P$6),"")) -> 8266449.1 | Q12: =IF(AND(Q$10=$C12,Q$10=$D12),(($K12/$E12)*Q$6),IF(AND(Q$10>=$C12,Q$10<=$D12),(($K12/$E12)*Q$6),"")) -> 8473110.4 | R12: =IF(AND(R$10=$C12,R$10=$D12),(($K12/$E12)*R$6),IF(AND(R$10>=$C12,R$10<=$D12),(($K12/$E12)*R$6),"")) | S12: =IF(AND(S$10=$C12,S$10=$D12),(($K12/$E12)*S$6),IF(AND(S$10>=$C12,S$10<=$D12),(($K12/$E12)*S$6),"")) | ... BS12: =IF(AND(BS$10=$C12,BS$10=$D12),(($K12/$E12)*BS$6),IF(AND(BS$10>=$C12,BS$10<=$D12),(($K12/$E12)*BS$6),"")) | BT12: =SUM(L12:BS12) -> 24804388
A13: R-1B | B13: =INDEX('R-Recreation'!$C$6:$C$34,MATCH(Table19578101112131423617272815161718720232529[[#This Row],[a]],'R-Recreation'!$B$6:$B$34,0)) -> Recreation Centre Expansion - Leisure Water and Other - Design Work | C13: =INDEX('R-Recreation'!$F$6:$F$10,MATCH(Table19578101112131423617272815161718720232529[[#This Row],[a]],'R-Recreation'!$B$6:$B$10,0)) -> 2026 | D13: =INDEX('R-Recreation'!$G$6:$G$10,MATCH(Table19578101112131423617272815161718720232529[[#This Row],[a]],'R-Recreation'!$B$6:$B$10,0)) -> 2026 | E13: =(D13-C13)+1 -> 1 | F13: =INDEX('R-Recreation'!$N$6:$N$10,MATCH(Table19578101112131423617272815161718720232529[[#This Row],[a]],'R-Recreation'!$B$6:$B$10,0)) -> 4576500 | H13: =+Table19578101112131423617272815161718720232529[[#This Row],[f]]-Table19578101112131423617272815161718720232529[[#This Row],[g]] -> 4576500 | I13: =INDEX('R-Recreation'!$H$6:$H$10,MATCH(Table19578101112131423617272815161718720232529[[#This Row],[a]],'R-Recreation'!$B$6:$B$10,0)) -> 0.47 | J13: =1-Table19578101112131423617272815161718720232529[[#This Row],[i]] -> 0.53 | K13: =(Table19578101112131423617272815161718720232529[[#This Row],[h]]*Table19578101112131423617272815161718720232529[[#This Row],[i]]) -> 2150955 | L13: =Table19578101112131423617272815161718720232529[[#This Row],[k]] -> 2150955 | M13: =IF(AND(M$10=$C13,M$10=$D13),(($K13/$E13)*M$6),IF(AND(M$10>=$C13,M$10<=$D13),(($K13/$E13)*M$6),"")) | N13: =IF(AND(N$10=$C13,N$10=$D13),(($K13/$E13)*N$6),IF(AND(N$10>=$C13,N$10<=$D13),(($K13/$E13)*N$6),"")) | O13: =IF(AND(O$10=$C13,O$10=$D13),(($K13/$E13)*O$6),IF(AND(O$10>=$C13,O$10<=$D13),(($K13/$E13)*O$6),"")) | P13: =IF(AND(P$10=$C13,P$10=$D13),(($K13/$E13)*P$6),IF(AND(P$10>=$C13,P$10<=$D13),(($K13/$E13)*P$6),"")) | Q13: =IF(AND(Q$10=$C13,Q$10=$D13),(($K13/$E13)*Q$6),IF(AND(Q$10>=$C13,Q$10<=$D13),(($K13/$E13)*Q$6),"")) | R13: =IF(AND(R$10=$C13,R$10=$D13),(($K13/$E13)*R$6),IF(AND(R$10>=$C13,R$10<=$D13),(($K13/$E13)*R$6),"")) | S13: =IF(AND(S$10=$C13,S$10=$D13),(($K13/$E13)*S$6),IF(AND(S$10>=$C13,S$10<=$D13),(($K13/$E13)*S$6),"")) | T13: =IF(AND(T$10=$C13,T$10=$D13),(($K13/$E13)*T$6),IF(AND(T$10>=$C13,T$10<=$D13),(($K13/$E13)*T$6),"")) | ... BS13: =IF(AND(BS$10=$C13,BS$10=$D13),(($K13/$E13)*BS$6),IF(AND(BS$10>=$C13,BS$10<=$D13),(($K13/$E13)*BS$6),"")) | BT13: =SUM(L13:BS13) -> 2150955
A14: R-2 | B14: =INDEX('R-Recreation'!$C$6:$C$34,MATCH(Table19578101112131423617272815161718720232529[[#This Row],[a]],'R-Recreation'!$B$6:$B$34,0)) -> Flatwater Expansion | C14: =INDEX('R-Recreation'!$F$6:$F$10,MATCH(Table19578101112131423617272815161718720232529[[#This Row],[a]],'R-Recreation'!$B$6:$B$10,0)) -> 2033 | D14: =INDEX('R-Recreation'!$G$6:$G$10,MATCH(Table19578101112131423617272815161718720232529[[#This Row],[a]],'R-Recreation'!$B$6:$B$10,0)) -> 2034 | E14: =(D14-C14)+1 -> 2 | F14: =INDEX('R-Recreation'!$N$6:$N$10,MATCH(Table19578101112131423617272815161718720232529[[#This Row],[a]],'R-Recreation'!$B$6:$B$10,0)) -> 13980753 | H14: =+Table19578101112131423617272815161718720232529[[#This Row],[f]]-Table19578101112131423617272815161718720232529[[#This Row],[g]] -> 13980753 | I14: =INDEX('R-Recreation'!$H$6:$H$10,MATCH(Table19578101112131423617272815161718720232529[[#This Row],[a]],'R-Recreation'!$B$6:$B$10,0)) -> 1 | J14: =1-Table19578101112131423617272815161718720232529[[#This Row],[i]] -> 0 | K14: =(Table19578101112131423617272815161718720232529[[#This Row],[h]]*Table19578101112131423617272815161718720232529[[#This Row],[i]]) -> 13980753 | L14: =IF(AND(L$10=$C14,L$10=$D14),(($K14/$E14)*L$6),IF(AND(L$10>=$C14,L$10<=$D14),(($K14/$E14)*L$6),"")) | M14: =IF(AND(M$10=$C14,M$10=$D14),(($K14/$E14)*M$6),IF(AND(M$10>=$C14,M$10<=$D14),(($K14/$E14)*M$6),"")) | N14: =IF(AND(N$10=$C14,N$10=$D14),(($K14/$E14)*N$6),IF(AND(N$10>=$C14,N$10<=$D14),(($K14/$E14)*N$6),"")) | O14: =IF(AND(O$10=$C14,O$10=$D14),(($K14/$E14)*O$6),IF(AND(O$10>=$C14,O$10<=$D14),(($K14/$E14)*O$6),"")) | P14: =IF(AND(P$10=$C14,P$10=$D14),(($K14/$E14)*P$6),IF(AND(P$10>=$C14,P$10<=$D14),(($K14/$E14)*P$6),"")) | Q14: =IF(AND(Q$10=$C14,Q$10=$D14),(($K14/$E14)*Q$6),IF(AND(Q$10>=$C14,Q$10<=$D14),(($K14/$E14)*Q$6),"")) | R14: =IF(AND(R$10=$C14,R$10=$D14),(($K14/$E14)*R$6),IF(AND(R$10>=$C14,R$10<=$D14),(($K14/$E14)*R$6),"")) | S14: =IF(AND(S$10=$C14,S$10=$D14),(($K14/$E14)*S$6),IF(AND(S$10>=$C14,S$10<=$D14),(($K14/$E14)*S$6),"")) -> 8309360.9 | ... BS14: =IF(AND(BS$10=$C14,BS$10=$D14),(($K14/$E14)*BS$6),IF(AND(BS$10>=$C14,BS$10<=$D14),(($K14/$E14)*BS$6),"")) | BT14: =SUM(L14:BS14) -> 16826456
F15: =SUM(Table19578101112131423617272815161718720232529[f]) -> 66359348 | K15: =SUM(Table19578101112131423617272815161718720232529[k]) -> 38598693 | L15: =+SUM(L12:L14) -> 2150955 | M15: =+SUM(M12:M14) -> 0 | N15: =+SUM(N12:N14) -> 0 | O15: =+SUM(O12:O14) -> 8064828.4 | P15: =+SUM(P12:P14) -> 8266449.1 | Q15: =+SUM(Q12:Q14) -> 8473110.4 | R15: =+SUM(R12:R14) -> 0 | S15: =+SUM(S12:S14) -> 8309360.9 | ... BS15: =+SUM(BS12:BS14) -> 0 | BT15: =SUM(BT12:BT14) -> 43781799
B18: 1 | C18: 2 | D18: 3 | E18: 4 | F18: 5 | G18: 6 | I18: 7 | J18: 8 | K18: 9 | L18: 10 | M18: 11 | N18: 12
B19: Year Beginning | C19: Off-site Levy Fee Reserve Fund Opening Balance | D19: Debenture Principal Advanced Remaining | E19: Existing Debenture Payments (Growth Portion Only) | F19: Growth-related Expenditures | G19: Hectares per year | H19: Levy Inflation Rate Annually | J19: Anticipated Fee Revenue | K19: Cumulative Surplus (Deficit) | L19: RF Interest Accural | N19: Off-site Levy Fee Reserve Fund Closing Balance
I20: 77054.632
L22: + | M22: -
D23: + | E23: - | F23: - | I23: starting | J23: + | L23: =Assumptions!$B$6 -> 0.02674 | M23: =+Assumptions!$B$7 -> 0.04496
I24: =L10 -> 2026 | J24: [6 x 7] | K24: [2+3-4-5+8] | N24: [9+10+11]
B25: 2023
B26: =+B25+1 -> 2024
B27: =+B26+1 -> 2025
B28: =+B27+1 -> 2026 | C28: =Assumptions!B32 -> 2749535.8 | D28: 0 | E28: 0 | F28: =OFFSET($L$15,0,B28-Assumptions!$B$3) -> 2150955 | G28: ='Cost Recovery Timing'!R15 -> 18.476 | H28: =Assumptions!$B$24 -> 0.02 | I28: =+I20 -> 77054.632 | J28: =(G28*I28*Assumptions!$B$29)+'2026 Collections Summary'!B20 -> 2179261.2 | K28: =+C28+J28-F28 -> 2777842.1 | L28: =IF(K28<0,0,+K28*$L$23) -> 74279.497 | M28: =IF(K28<0,+K28*$M$23,0) -> 0 | N28: =+L28+K28+M28 -> 2852121.6
B29: =+B28+1 -> 2027 | C29: =+N28 -> 2852121.6 | D29: 0 | E29: 0 | F29: =OFFSET($L$15,0,B29-Assumptions!$B$3) -> 0 | G29: ='Cost Recovery Timing'!R16 -> 28.58 | H29: =Assumptions!$B$24 -> 0.02 | I29: =+IF(B29>$B$45,0,I28*(1+$H29)) -> 78595.725 | J29: =(G29*I29*Assumptions!$B$29)+(G28*I28*Assumptions!$B$28)+(G27*I27*Assumptions!$B$27)+'2026 Collections Summary'!B33 -> 2450889.5 | K29: =+C29+J29-F29 -> 5303011.1 | L29: =IF(K29<0,0,+K29*$L$23) -> 141802.52 | M29: =IF(K29<0,+K29*$M$23,0) -> 0 | N29: =+L29+K29+M29 -> 5444813.6
B30: =+B29+1 -> 2028 | C30: =+N29 -> 5444813.6 | D30: 0 | E30: 0 | F30: =OFFSET($L$15,0,B30-Assumptions!$B$3) -> 0 | G30: ='Cost Recovery Timing'!R17 -> 28.58 | H30: =Assumptions!$B$24 -> 0.02 | I30: =+IF(B30>$B$45,0,I29*(1+$H30)) -> 80167.64 | J30: =(G30*I30*Assumptions!$B$29)+(G29*I29*Assumptions!$B$28)+(G28*I28*Assumptions!$B$27) -> 1930701.6 | K30: =+C30+J30-F30 -> 7375515.3 | L30: =IF(K30<0,0,+K30*$L$23) -> 197221.28 | M30: =IF(K30<0,+K30*$M$23,0) -> 0 | N30: =+L30+K30+M30 -> 7572736.5
B31: =+B30+1 -> 2029 | C31: =+N30 -> 7572736.5 | D31: 0 | E31: 0 | F31: =OFFSET($L$15,0,B31-Assumptions!$B$3) -> 8064828.4 | G31: ='Cost Recovery Timing'!R18 -> 28.58 | H31: =Assumptions!$B$24 -> 0.02 | I31: =+IF(B31>$B$45,0,I30*(1+$H31)) -> 81770.992 | J31: =(G31*I31*Assumptions!$B$29)+(G30*I30*Assumptions!$B$28)+(G29*I29*Assumptions!$B$27) -> 2286968.2 | K31: =+C31+J31-F31 -> 1794876.3 | L31: =IF(K31<0,0,+K31*$L$23) -> 47994.991 | M31: =IF(K31<0,+K31*$M$23,0) -> 0 | N31: =+L31+K31+M31 -> 1842871.2
B32: =+B31+1 -> 2030 | C32: =+N31 -> 1842871.2 | D32: 0 | E32: 0 | F32: =OFFSET($L$15,0,B32-Assumptions!$B$3) -> 8266449.1 | G32: ='Cost Recovery Timing'!R19 -> 28.58 | H32: =Assumptions!$B$24 -> 0.02 | I32: =+IF(B32>$B$45,0,I31*(1+$H32)) -> 83406.412 | J32: =(G32*I32*Assumptions!$B$29)+(G31*I31*Assumptions!$B$28)+(G30*I30*Assumptions!$B$27) -> 2332707.5 | K32: =+C32+J32-F32 -> -4090870.4 | L32: =IF(K32<0,0,+K32*$L$23) -> 0 | M32: =IF(K32<0,+K32*$M$23,0) -> -183925.53 | N32: =+L32+K32+M32 -> -4274795.9
B33: =+B32+1 -> 2031 | C33: =+N32 -> -4274795.9 | D33: 0 | E33: 0 | F33: =OFFSET($L$15,0,B33-Assumptions!$B$3) -> 8473110.4 | G33: ='Cost Recovery Timing'!R20 -> 28.58 | H33: =Assumptions!$B$24 -> 0.02 | I33: =+IF(B33>$B$45,0,I32*(1+$H33)) -> 85074.54 | J33: =(G33*I33*Assumptions!$B$29)+(G32*I32*Assumptions!$B$28)+(G31*I31*Assumptions!$B$27) -> 2379361.7 | K33: =+C33+J33-F33 -> -10368545 | L33: =IF(K33<0,0,+K33*$L$23) -> 0 | M33: =IF(K33<0,+K33*$M$23,0) -> -466169.77 | N33: =+L33+K33+M33 -> -10834714
B34: =+B33+1 -> 2032 | C34: =+N33 -> -10834714 | D34: 0 | E34: 0 | F34: =OFFSET($L$15,0,B34-Assumptions!$B$3) -> 0 | G34: ='Cost Recovery Timing'!R21 -> 28.58 | H34: =Assumptions!$B$24 -> 0.02 | I34: =+IF(B34>$B$45,0,I33*(1+$H34)) -> 86776.031 | J34: =(G34*I34*Assumptions!$B$29)+(G33*I33*Assumptions!$B$28)+(G32*I32*Assumptions!$B$27) -> 2426948.9 | K34: =+C34+J34-F34 -> -8407765.5 | L34: =IF(K34<0,0,+K34*$L$23) -> 0 | M34: =IF(K34<0,+K34*$M$23,0) -> -378013.14 | N34: =+L34+K34+M34 -> -8785778.6
B35: =+B34+1 -> 2033 | C35: =+N34 -> -8785778.6 | D35: 0 | E35: 0 | F35: =OFFSET($L$15,0,B35-Assumptions!$B$3) -> 8309360.9 | G35: ='Cost Recovery Timing'!R22 -> 28.58 | H35: =Assumptions!$B$24 -> 0.02 | I35: =+IF(B35>$B$45,0,I34*(1+$H35)) -> 88511.552 | J35: =(G35*I35*Assumptions!$B$29)+(G34*I34*Assumptions!$B$28)+(G33*I33*Assumptions!$B$27) -> 2475487.9 | K35: =+C35+J35-F35 -> -14619652 | L35: =IF(K35<0,0,+K35*$L$23) -> 0 | M35: =IF(K35<0,+K35*$M$23,0) -> -657299.54 | N35: =+L35+K35+M35 -> -15276951
B36: =+B35+1 -> 2034 | C36: =+N35 -> -15276951 | D36: 0 | E36: 0 | F36: =OFFSET($L$15,0,B36-Assumptions!$B$3) -> 8517094.9 | G36: ='Cost Recovery Timing'!R23 -> 28.58 | H36: =Assumptions!$B$24 -> 0.02 | I36: =+IF(B36>$B$45,0,I35*(1+$H36)) -> 90281.783 | J36: =(G36*I36*Assumptions!$B$29)+(G35*I35*Assumptions!$B$28)+(G34*I34*Assumptions!$B$27) -> 2524997.6 | K36: =+C36+J36-F36 -> -21269048 | L36: =IF(K36<0,0,+K36*$L$23) -> 0 | M36: =IF(K36<0,+K36*$M$23,0) -> -956256.42 | N36: =+L36+K36+M36 -> -22225305
B37: =+B36+1 -> 2035 | C37: =+N36 -> -22225305 | D37: 0 | E37: 0 | F37: =OFFSET($L$15,0,B37-Assumptions!$B$3) -> 0 | G37: ='Cost Recovery Timing'!R24 -> 28.58 | H37: =Assumptions!$B$24 -> 0.02 | I37: =+IF(B37>$B$45,0,I36*(1+$H37)) -> 92087.419 | J37: =(G37*I37*Assumptions!$B$29)+(G36*I36*Assumptions!$B$28)+(G35*I35*Assumptions!$B$27) -> 2575497.6 | K37: =+C37+J37-F37 -> -19649807 | L37: =IF(K37<0,0,+K37*$L$23) -> 0 | M37: =IF(K37<0,+K37*$M$23,0) -> -883455.33 | N37: =+L37+K37+M37 -> -20533263
B38: =+B37+1 -> 2036 | C38: =+N37 -> -20533263 | D38: 0 | E38: 0 | F38: =OFFSET($L$15,0,B38-Assumptions!$B$3) -> 0 | G38: ='Cost Recovery Timing'!R25 -> 28.58 | H38: =Assumptions!$B$24 -> 0.02 | I38: =+IF(B38>$B$45,0,I37*(1+$H38)) -> 93929.167 | J38: =(G38*I38*Assumptions!$B$29)+(G37*I37*Assumptions!$B$28)+(G36*I36*Assumptions!$B$27) -> 2627007.5 | K38: =+C38+J38-F38 -> -17906255 | L38: =IF(K38<0,0,+K38*$L$23) -> 0 | M38: =IF(K38<0,+K38*$M$23,0) -> -805065.23 | N38: =+L38+K38+M38 -> -18711320
B39: =+B38+1 -> 2037 | C39: =+N38 -> -18711320 | D39: 0 | E39: 0 | F39: =OFFSET($L$15,0,B39-Assumptions!$B$3) -> 0 | G39: ='Cost Recovery Timing'!R26 -> 28.58 | H39: =Assumptions!$B$24 -> 0.02 | I39: =+IF(B39>$B$45,0,I38*(1+$H39)) -> 95807.75 | J39: =(G39*I39*Assumptions!$B$29)+(G38*I38*Assumptions!$B$28)+(G37*I37*Assumptions!$B$27) -> 2679547.7 | K39: =+C39+J39-F39 -> -16031773 | L39: =IF(K39<0,0,+K39*$L$23) -> 0 | M39: =IF(K39<0,+K39*$M$23,0) -> -720788.5 | N39: =+L39+K39+M39 -> -16752561
B40: =+B39+1 -> 2038 | C40: =+N39 -> -16752561 | D40: 0 | E40: 0 | F40: =OFFSET($L$15,0,B40-Assumptions!$B$3) -> 0 | G40: ='Cost Recovery Timing'!R27 -> 28.58 | H40: =Assumptions!$B$24 -> 0.02 | I40: =+IF(B40>$B$45,0,I39*(1+$H40)) -> 97723.905 | J40: =(G40*I40*Assumptions!$B$29)+(G39*I39*Assumptions!$B$28)+(G38*I38*Assumptions!$B$27) -> 2733138.7 | K40: =+C40+J40-F40 -> -14019422 | L40: =IF(K40<0,0,+K40*$L$23) -> 0 | M40: =IF(K40<0,+K40*$M$23,0) -> -630313.23 | N40: =+L40+K40+M40 -> -14649736
B41: =+B40+1 -> 2039 | C41: =+N40 -> -14649736 | D41: 0 | E41: 0 | F41: =OFFSET($L$15,0,B41-Assumptions!$B$3) -> 0 | G41: ='Cost Recovery Timing'!R28 -> 28.58 | H41: =Assumptions!$B$24 -> 0.02 | I41: =+IF(B41>$B$45,0,I40*(1+$H41)) -> 99678.383 | J41: =(G41*I41*Assumptions!$B$29)+(G40*I40*Assumptions!$B$28)+(G39*I39*Assumptions!$B$27) -> 2787801.4 | K41: =+C41+J41-F41 -> -11861934 | L41: =IF(K41<0,0,+K41*$L$23) -> 0 | M41: =IF(K41<0,+K41*$M$23,0) -> -533312.56 | N41: =+L41+K41+M41 -> -12395247
... B44: =+B43+1 -> 2042 | C44: =+N43 -> -7399053.2 | D44: 0 | E44: 0 | F44: =OFFSET($L$15,0,B44-Assumptions!$B$3) -> 0 | G44: ='Cost Recovery Timing'!R31 -> 28.58 | H44: =Assumptions!$B$24 -> 0.02 | I44: =+IF(B44>$B$45,0,I43*(1+$H44)) -> 105779.5 | J44: =(G44*I44*Assumptions!$B$29)+(G43*I43*Assumptions!$B$28)+(G42*I42*Assumptions!$B$27) -> 2958437.2 | K44: =+C44+J44-F44 -> -4440616 | L44: =IF(K44<0,0,+K44*$L$23) -> 0 | M44: =IF(K44<0,+K44*$M$23,0) -> -199650.1 | N44: =+L44+K44+M44 -> -4640266.1
A45: Infrastructure Capacity Reached | B45: =+B44+1 -> 2043 | C45: =+N44 -> -4640266.1 | D45: 0 | E45: 0 | F45: =OFFSET($L$15,0,B45-Assumptions!$B$3) -> 0 | G45: ='Cost Recovery Timing'!R32 -> 13.517363 | H45: =Assumptions!$B$24 -> 0.02 | I45: =+IF(B45>$B$45,0,I44*(1+$H45)) -> 107895.09 | J45: =(G45*I45*Assumptions!$B$29)+(G44*I44*Assumptions!$B$28)+(G43*I43*Assumptions!$B$27) -> 2530050.6 | K45: =+C45+J45-F45 -> -2110215.5 | L45: =IF(K45<0,0,+K45*$L$23) -> 0 | M45: =IF(K45<0,+K45*$M$23,0) -> -94875.29 | N45: =+L45+K45+M45 -> -2205090.8
B46: =+B45+1 -> 2044 | C46: =+N45 -> -2205090.8 | D46: 0 | E46: 0 | F46: =OFFSET($L$15,0,B46-Assumptions!$B$3) -> 0 | G46: ='Cost Recovery Timing'!R33 -> 0 | H46: =Assumptions!$B$24 -> 0.02 | I46: =+IF(B46>$B$45,0,I45*(1+$H46)) -> 0 | J46: =(G46*I46*Assumptions!$B$29)+(G45*I45*Assumptions!$B$28)+(G44*I44*Assumptions!$B$27) -> 1646808.4 | K46: =+C46+J46-F46 -> -558282.47 | L46: =IF(K46<0,0,+K46*$L$23) -> 0 | M46: =IF(K46<0,+K46*$M$23,0) -> -25100.38 | N46: =+L46+K46+M46 -> -583382.85 | O46: Levy calculated based on "Goal Seek" Function. "Goal Seek" to zero in 2045 to account for 3rd Payment from 2043 growth.
B47: =+B46+1 -> 2045 | C47: =+N46 -> -583382.85 | D47: 0 | E47: 0 | F47: =OFFSET($L$15,0,B47-Assumptions!$B$3) -> 0 | G47: ='Cost Recovery Timing'!R34 -> 0 | H47: =Assumptions!$B$24 -> 0.02 | I47: =+IF(B47>$B$45,0,I46*(1+$H47)) -> 0 | J47: =(G47*I47*Assumptions!$B$29)+(G46*I46*Assumptions!$B$28)+(G45*I45*Assumptions!$B$27) -> 583382.85 | K47: =+C47+J47-F47 -> 6.4028427e-09 | L47: =IF(K47<0,0,+K47*$L$23) -> 1.7121201e-10 | M47: =IF(K47<0,+K47*$M$23,0) -> 0 | N47: =+L47+K47+M47 -> 6.5740547e-09
...

Sheet Offsite Levy Rate Summary
B3: OSL Levy Summary | C3: Current Levy ($2026) | D3: Proposed Levy ($2026)
B5: Recreation | C5: 65806 | D5: ='Recreation - OSL'!I28 -> 77054.632
